BEGIN:VCALENDAR
VERSION:2.0
PRODID:-//The Marbella Directory - ECPv6.15.18//NONSGML v1.0//EN
CALSCALE:GREGORIAN
METHOD:PUBLISH
X-ORIGINAL-URL:https://themarbelladirectory.com
X-WR-CALDESC:Events for The Marbella Directory
REFRESH-INTERVAL;VALUE=DURATION:PT1H
X-Robots-Tag:noindex
X-PUBLISHED-TTL:PT1H
BEGIN:VTIMEZONE
TZID:Europe/Madrid
BEGIN:DAYLIGHT
TZOFFSETFROM:+0100
TZOFFSETTO:+0200
TZNAME:CEST
DTSTART:20250330T010000
END:DAYLIGHT
BEGIN:STANDARD
TZOFFSETFROM:+0200
TZOFFSETTO:+0100
TZNAME:CET
DTSTART:20251026T010000
END:STANDARD
BEGIN:DAYLIGHT
TZOFFSETFROM:+0100
TZOFFSETTO:+0200
TZNAME:CEST
DTSTART:20260329T010000
END:DAYLIGHT
BEGIN:STANDARD
TZOFFSETFROM:+0200
TZOFFSETTO:+0100
TZNAME:CET
DTSTART:20261025T010000
END:STANDARD
BEGIN:DAYLIGHT
TZOFFSETFROM:+0100
TZOFFSETTO:+0200
TZNAME:CEST
DTSTART:20270328T010000
END:DAYLIGHT
BEGIN:STANDARD
TZOFFSETFROM:+0200
TZOFFSETTO:+0100
TZNAME:CET
DTSTART:20271031T010000
END:STANDARD
END:VTIMEZONE
BEGIN:VEVENT
DTSTART;TZID=Europe/Madrid:20260201T200000
DTEND;TZID=Europe/Madrid:20260201T233000
DTSTAMP:20260421T083439
CREATED:20260128T073307Z
LAST-MODIFIED:20260128T074226Z
UID:10001900-1769976000-1769988600@themarbelladirectory.com
SUMMARY:Rusowsky Live in Málaga 2026: Official Daisy Album Debut Guide
DESCRIPTION:Rusowsky: The “Daisy” Tour Arrives in Málaga\nThe rising sensation of the Spanish music scene\, Rusowsky\, performs in Málaga on Sunday\, February 1\, 2026. Specifically\, this highly anticipated concert at Sala París 15 marks the local debut of his spectacular album\, Daisy. Critics celebrate his unique fusion of alternative pop\, electronic textures\, and intimate bedroom pop roots. Consequently\, the artist has quickly transitioned from an underground favorite to a major cultural figure in Spain. \nA Sold-Out Milestone for Spanish Alternative Music\nThe Málaga stop of the tour achieved Sold Out status well in advance. This success reflects the immense popularity of the Madrid-based artist. In fact\, organizers officially confirmed that no additional tickets will be available at the box office. Therefore\, attendees with confirmed tickets can look forward to a professional production. Specifically\, the show highlights the sonic and visual evolution of his career. It will feature hit singles from his record alongside fan-favorite collaborations. \nEvent Logistics at Sala París 15\nThe performance takes place at Sala París 15. This professional venue is renowned for its exceptional sound quality and large-scale urban atmosphere. Doors for the event open at 20:00 (8:00 PM). Furthermore\, the live performance starts promptly at 21:00 (9:00 PM). Therefore\, attendees should arrive early to ensure a smooth entry process into the venue. \nEvent Schedule \n\nDate: Sunday\, February 1\, 2026\nDoors Open: 20:00 (8:00 PM)\nConcert Starts: 21:00 (9:00 PM)\nVenue: Sala París 15\, Málaga
URL:https://themarbelladirectory.com/event/rusowsky-daisy-tour-malaga-2026/
LOCATION:Sala París 15\, Calle la Orotava\, 25\, 27\, 29006 Málaga\, Spain\, Málaga\, Málaga\, 29006\, Spain
CATEGORIES:Concert,entertainment,Live Performance,Live Show,Music Events,Nightlife
ATTACH;FMTTYPE=image/jpeg:https://themarbelladirectory.com/wp-content/uploads/2026/01/rusowsky.jpg
ORGANIZER;CN="Orion Producciones S.L.":MAILTO:electronica@paris15.es
END:VEVENT
END:VCALENDAR