BEGIN:VCALENDAR
VERSION:2.0
PRODID:-//The Marbella Directory - ECPv6.15.18//NONSGML v1.0//EN
CALSCALE:GREGORIAN
METHOD:PUBLISH
X-ORIGINAL-URL:https://themarbelladirectory.com
X-WR-CALDESC:Events for The Marbella Directory
REFRESH-INTERVAL;VALUE=DURATION:PT1H
X-Robots-Tag:noindex
X-PUBLISHED-TTL:PT1H
BEGIN:VTIMEZONE
TZID:Europe/Madrid
BEGIN:DAYLIGHT
TZOFFSETFROM:+0100
TZOFFSETTO:+0200
TZNAME:CEST
DTSTART:20230326T010000
END:DAYLIGHT
BEGIN:STANDARD
TZOFFSETFROM:+0200
TZOFFSETTO:+0100
TZNAME:CET
DTSTART:20231029T010000
END:STANDARD
BEGIN:DAYLIGHT
TZOFFSETFROM:+0100
TZOFFSETTO:+0200
TZNAME:CEST
DTSTART:20240331T010000
END:DAYLIGHT
BEGIN:STANDARD
TZOFFSETFROM:+0200
TZOFFSETTO:+0100
TZNAME:CET
DTSTART:20241027T010000
END:STANDARD
BEGIN:DAYLIGHT
TZOFFSETFROM:+0100
TZOFFSETTO:+0200
TZNAME:CEST
DTSTART:20250330T010000
END:DAYLIGHT
BEGIN:STANDARD
TZOFFSETFROM:+0200
TZOFFSETTO:+0100
TZNAME:CET
DTSTART:20251026T010000
END:STANDARD
BEGIN:DAYLIGHT
TZOFFSETFROM:+0100
TZOFFSETTO:+0200
TZNAME:CEST
DTSTART:20260329T010000
END:DAYLIGHT
BEGIN:STANDARD
TZOFFSETFROM:+0200
TZOFFSETTO:+0100
TZNAME:CET
DTSTART:20261025T010000
END:STANDARD
BEGIN:DAYLIGHT
TZOFFSETFROM:+0100
TZOFFSETTO:+0200
TZNAME:CEST
DTSTART:20270328T010000
END:DAYLIGHT
BEGIN:STANDARD
TZOFFSETFROM:+0200
TZOFFSETTO:+0100
TZNAME:CET
DTSTART:20271031T010000
END:STANDARD
BEGIN:DAYLIGHT
TZOFFSETFROM:+0100
TZOFFSETTO:+0200
TZNAME:CEST
DTSTART:20280326T010000
END:DAYLIGHT
BEGIN:STANDARD
TZOFFSETFROM:+0200
TZOFFSETTO:+0100
TZNAME:CET
DTSTART:20281029T010000
END:STANDARD
BEGIN:DAYLIGHT
TZOFFSETFROM:+0100
TZOFFSETTO:+0200
TZNAME:CEST
DTSTART:20290325T010000
END:DAYLIGHT
BEGIN:STANDARD
TZOFFSETFROM:+0200
TZOFFSETTO:+0100
TZNAME:CET
DTSTART:20291028T010000
END:STANDARD
END:VTIMEZONE
BEGIN:VEVENT
DTSTART;TZID=Europe/Madrid:20240319T100000
DTEND;TZID=Europe/Madrid:20280130T180000
DTSTAMP:20260421T162315
CREATED:20251211T085220Z
LAST-MODIFIED:20251211T085315Z
UID:10001436-1710842400-1832868000@themarbelladirectory.com
SUMMARY:Pablo Picasso: Structures of Invention
DESCRIPTION:Pablo Picasso: Structures of Invention – The Unity of a Life’s Work\nExperience a revolutionary view of the master’s career! The Museo Picasso Málaga has transformed its galleries to host Pablo Picasso: Structures of Invention. This permanent transformation is a project from the Museo Picasso Málaga. It features approximately 144 works of art. Furthermore\, these pieces reveal Picasso’s extraordinary ability to create innovative structures. \nThe Unity of a Life’s Work\nThis new installation challenges conventional interpretations of Picasso’s career. Curator Michael FitzGerald proposes a unified body of art. Therefore\, the installation avoids the traditional practice of dividing his work. \nTraditionally\, Picasso’s long career is fragmented in two main ways: \n\nStylistic Periods: These include the ‘Blue’ period\, ‘Cubism\,‘ or ‘Surrealism’.\nBiographical Periods: These are based on his relationships\, such as the period of Dora Maar or Jacqueline Roque.\n\nConversely\, the new display reconnects these different phases. FitzGerald states that Picasso’s creativity arose from two opposing inspirations: innovation and retrospection. Consequently\, the exhibition illustrates how he wove Cubism\, Classicism\, and Surrealism into one cohesive whole. \nNew Works and Thematic Jumps\nThis Picasso Structures of Invention approach involves the viewer in the artist’s creative process. Visitors now see relationships across his career by combining works from different decades in the same gallery. \n\nWorks Spanning Decades: The works span the period between 1895 and 1972.\nTechniques: The display combines painting\, sculpture\, ceramics\, drawing\, and graphic art.\nNew to Spain: The exhibition features several pieces new to Spain. For example\, these include the oils Paul (The Artist’s Son) (1922) and Head of a Woman (1928). The sculpture Woman leaning on her Elbow (1933) is also displayed.\n\nResearch and Focus Exhibitions\nA new feature includes five small ‘Focus Exhibitions’ within the permanent collection. Researchers from the Fundación Almine y Bernard Ruiz-Picasso (FABA) curate these sections. Specifically\, themes covered include the artist’s relationship with African sculpture and his plaster sculptures of the 1930s.
URL:https://themarbelladirectory.com/event/pablo-picasso-structures-of-invention/
LOCATION:Museo Picasso Málaga\, Palacio de Buenavista Calle San Agustín\, 8\, Málaga\, Málaga\, 29015\, Spain
CATEGORIES:Activity,Art,entertainment,Exhibition
ATTACH;FMTTYPE=image/jpeg:https://themarbelladirectory.com/wp-content/uploads/2025/12/large_Expo_Estructuras_Invencion_eb739f2131.jpg
ORGANIZER;CN="Museo Picasso M%C3%A1laga":MAILTO:info@mpicassom.org
END:VEVENT
BEGIN:VEVENT
DTSTART;VALUE=DATE:20250520
DTEND;VALUE=DATE:20260523
DTSTAMP:20260421T162315
CREATED:20260115T111127Z
LAST-MODIFIED:20260115T111412Z
UID:10001846-1747699200-1779494399@themarbelladirectory.com
SUMMARY:ANNA PAVLOVA A LIFE WITHOUT BORDERS
DESCRIPTION:ANNA PAVLOVA – A LIFE WITHOUT BORDERS\nCelebrating the legendary Anna Pavlova\, the Collection of the Russian Museum in Malaga presents an extraordinary exhibition titled A Life Without Borders. Running from May 20\, 2025\, to May 22\, 2026\, this showcase honors the most influential ballerina in history. \nAnna Pavlova was born in St. Petersburg and trained at the Imperial Ballet School. She became a global icon through her technical precision and emotional depth. Her most famous role in The Dying Swan remains a symbol of ballet excellence to this day. \nThis exhibition focuses on Pavlova’s pioneering international tours. She traveled across seas and continents to bring art to audiences far beyond traditional European theaters. Between 1920 and 1931\, she became the world’s leading star\, proving that art could unite different cultures and generations. \nVisitors will discover a treasure trove of rare artifacts. The collection includes vintage programs from around the globe and historical newspaper clippings. These items offer a glimpse into a time when ballet was first conquering the world stage. It is a tribute to a woman whose dedication to beauty and harmony truly knew no borders.
URL:https://themarbelladirectory.com/event/anna-pavlova-exhibition-malaga-russian-museum/
LOCATION:Colección Museo Ruso\, Edificio de Tabacalera\, Avenida de Sor Teresa Prat 15\, Malaga\, Malaga\, 29003\, Spain
CATEGORIES:Art,entertainment,Exhibition,Museum
ATTACH;FMTTYPE=image/jpeg:https://themarbelladirectory.com/wp-content/uploads/2026/01/pavlova_sepia-763x1024-1.jpg
ORGANIZER;CN="Ayuntamiento de M%C3%A1laga":MAILTO:info@malaga.eu
END:VEVENT
BEGIN:VEVENT
DTSTART;VALUE=DATE:20251007
DTEND;VALUE=DATE:20260302
DTSTAMP:20260421T162315
CREATED:20260115T120158Z
LAST-MODIFIED:20260115T120250Z
UID:10001849-1759795200-1772409599@themarbelladirectory.com
SUMMARY:Telluric and Primitive: From the Vallecas School to Miquel Barceló
DESCRIPTION:Telluric and Primitive: Rediscovering Modern Spanish Art in Málaga\nExperience the roots of modern Spanish art in the upcoming exhibition “Telluric and Primitive: From the Vallecas School to Miquel Barceló”. This major temporary showcase will take place at the Museo Carmen Thyssen Málaga. Specifically\, the exhibition invites visitors to rediscover a unique artistic identity. This identity spans from the 1920s through the late 20th century. \nThe exhibition features more than sixty diverse works. For instance\, visitors can see various paintings\, sculptures\, and drawings. These pieces explore two powerful paths of artistic renewal. First\, the telluric style is inspired by the Earth’s interior and geological matter. Second\, the primitive style draws from ancestral signs and the unconscious mind. Therefore\, the show provides a deep look at how nature transforms into a new avant-garde language. \nYou can view works from iconic masters such as Pablo Picasso\, Joan Miró\, and Antoni Tàpies. Furthermore\, the collection includes pieces by Miquel Barceló and Maruja Mallo. These artists redefined modernism by looking back at ancient origins. Consequently\, their relationship with the landscape became a central theme of Spanish art history. \nThe exhibition is located in the temporary exhibition hall on the third floor. Because it is a limited-time event\, we recommend planning your visit early. It is a perfect opportunity for both locals and tourists to explore the depth of Spanish creativity.
URL:https://themarbelladirectory.com/event/telluric-and-primitive-exhibition-malaga-2025/
LOCATION:Museo Carmen Thyssen Málaga\, Plaza Carmen Thyssen\, Calle Compañía\, Málaga\, Málaga\, 29008\, Spain
CATEGORIES:Art,entertainment,Exhibition,Museum
ATTACH;FMTTYPE=image/jpeg:https://themarbelladirectory.com/wp-content/uploads/2026/01/b93a5793d5774b84a2c4262c7fc286b2c28e4f54.jpg
END:VEVENT
BEGIN:VEVENT
DTSTART;VALUE=DATE:20251120
DTEND;VALUE=DATE:20260407
DTSTAMP:20260421T162315
CREATED:20260115T103501Z
LAST-MODIFIED:20260115T103501Z
UID:10001844-1763596800-1775519999@themarbelladirectory.com
SUMMARY:AM CB: Annette Messager and Christian Boltanski
DESCRIPTION:AM CB: A Powerful Artistic Dialogue at Centre Pompidou Malaga\nExperience a profound connection between two of France’s most influential contemporary artists. From November 20\, 2025\, through April 6\, 2026\, the Centre Pompidou Malaga presents “AM CB”. This temporary exhibition highlights the shared languages and distinct methods of Annette Messager and the late Christian Boltanski. Although they were life partners\, they rarely showcased their work together during their careers. \nThis exhibition brings together approximately thirty major works from the Centre Pompidou collection in Paris. The display covers over five decades of creative output\, spanning from 1968 to 2022. Visitors will find a wide variety of artistic mediums. These specifically include experimental photography\, artist books\, and large-scale mixed-media installations. Furthermore\, the works explore deeply human themes such as memory\, childhood\, and the fragile nature of our existence. \nThe journey through the gallery is structured to reveal visual and conceptual affinities between the two artists. For example\, Boltanski’s focus on the “ordinary” and the “reliquary” meets Messager’s interest in the “imaginary” and the “vocabulary”. Consequently\, the exhibition offers a rare opportunity to see how these two giants of art stimulated and challenged one another. \n\nExhibition Dates: November 20\, 2025 – April 6\, 2026\nOpening Hours: Monday\, Wednesday – Sunday: 09:30 to 20:00 (Closed Tuesdays)
URL:https://themarbelladirectory.com/event/am-cb-exhibition-annette-messager-christian-boltanski-malaga/
LOCATION:Centre Pompidou Málaga (The Cube)\, Pasaje Doctor Carrillo Casaux\, s/n\, 29016\, Muelle Uno\, Puerto de Málaga\, Spain\, Málaga\, Málaga\, Spain
CATEGORIES:Activity,Art,entertainment,Exhibition
ATTACH;FMTTYPE=image/jpeg:https://themarbelladirectory.com/wp-content/uploads/2026/01/boltanski-9-768x611-1.jpg
ORGANIZER;CN="Ayuntamiento de M%C3%A1laga":MAILTO:info@malaga.eu
END:VEVENT
BEGIN:VEVENT
DTSTART;VALUE=DATE:20251126
DTEND;VALUE=DATE:20260531
DTSTAMP:20260421T162315
CREATED:20260115T112641Z
LAST-MODIFIED:20260115T112641Z
UID:10001847-1764115200-1780185599@themarbelladirectory.com
SUMMARY:VALERY KATSUBA - Realismo Romántico
DESCRIPTION:Valery Katsuba: Romantic Realism — A 25-Year Artistic Odyssey\nDiscover the powerful photography of Valery Katsuba at the Collection of the Russian Museum in Málaga. This landmark exhibition\, titled “Romantic Realism I. Photographs (2000–2025)”\, opens its doors from November 26\, 2025\, through May 30\, 2026. It represents the first chapter of a significant two-part project. Consequently\, it offers a rare look into twenty-five years of creative work by this acclaimed Madrid-based artist. \nThe showcase features over 40 large and medium-format analog photographs alongside selected videographic pieces. Visitors will be immersed in a world where the human body reflects beauty\, memory\, and the passage of time. Karen Smith\, artistic director of the Shanghai Center of Photography\, defined his style as “Romantic Realism”. This unique language captures reality without artifice while striving for the sublime through deep sensitivity. \nKatsuba works exclusively with traditional analog cameras to explore the links between painting\, sculpture\, dance\, and architecture. His poetic images cover a global landscape\, spanning from St. Petersburg and Madrid to Mexico and New York. Furthermore\, the artist revisits specific locations that are central to his own emotional biography. Curated by Sebastiá Mascaró and the artist himself\, this exhibition provides a profound reflection on the dignity of the body and the strength of artistic traditions. \n\nExhibition Dates: November 26\, 2025 — May 30\, 2026\nOpening Hours: Tuesday–Sunday: 09:30 to 20:00 (Closed Mondays)
URL:https://themarbelladirectory.com/event/valery-katsuba-romantic-realism-exhibition-malaga-2026/
LOCATION:Colección Museo Ruso\, Edificio de Tabacalera\, Avenida de Sor Teresa Prat 15\, Malaga\, Malaga\, 29003\, Spain
CATEGORIES:Art,entertainment,Exhibition,Museum
ATTACH;FMTTYPE=image/webp:https://themarbelladirectory.com/wp-content/uploads/2026/01/arc_40409_g.webp
ORGANIZER;CN="Ayuntamiento de M%C3%A1laga":MAILTO:info@malaga.eu
END:VEVENT
BEGIN:VEVENT
DTSTART;TZID=Europe/Madrid:20251216T100000
DTEND;TZID=Europe/Madrid:20260315T180000
DTSTAMP:20260421T162315
CREATED:20251211T084600Z
LAST-MODIFIED:20251211T084704Z
UID:10001435-1765879200-1773597600@themarbelladirectory.com
SUMMARY:Reflections. Picasso x Barceló
DESCRIPTION:Reflections. Picasso x Barceló – A Transhistorical Ceramics Dialogue\nExplore a dynamic conversation across centuries of art! The exhibition\, Reflections. Picasso x Barceló\, is part of the ongoing Reflections. Picasso × series. This project comes from the Museo Picasso Málaga. Furthermore\, the project aims to establish essential dialogues between Pablo Picasso and various artists. This second chapter focuses on the powerful medium of clay. This Picasso Barceló Ceramics Dialogue is a must-see event. \nConnecting Art\, Archaeology\, and Matter\nThis exhibition establishes a unique transhistorical dialogue. It merges the functional with the symbolic. In fact\, the show creates an intimate encounter between art\, archaeology\, and matter. Practices separated by millennia are recognized within a single creative impulse. \nThe dialogue is articulated through ceramics. This is one of the oldest and most universal creative mediums. The exhibition invites us to understand ceramics as a universal language. Consequently\, the functional and the symbolic\, the everyday and the transcendent\, the material and the spiritual all converge here. This practice has transformed earth\, water\, and fire into enduring art over the centuries. \nThe Artists and the Clay\nBoth artists utilized the ancient medium of ceramics for modern ends. \n\nPicasso’s Laboratory: After World War II\, Picasso found a laboratory of invention in clay in Vallauris. For instance\, he combined painting\, sculpture\, and objects. He transformed plates and pots into mythological figures and everyday scenes.\nBarceló’s Territory: Barceló came to ceramics in the 1990s during his stay in Mali. He learned traditional techniques there. Therefore\, he conceived of clay as a territory for experimentation. Ritual\, the corporeal\, and the material all converge in his work.\n\nThe exhibition brings together these ceramic works with archaeological pieces from the museum’s collections.
URL:https://themarbelladirectory.com/event/reflections-picasso-x-barcelo/
LOCATION:Museo Picasso Málaga\, Palacio de Buenavista Calle San Agustín\, 8\, Málaga\, Málaga\, 29015\, Spain
CATEGORIES:Activity,Art,entertainment,Exhibition
ATTACH;FMTTYPE=image/jpeg:https://themarbelladirectory.com/wp-content/uploads/2025/12/4.-Pablo-Picasso-1881-1973-Plate-Decorated-With-a-Goats-Head.-Fundacion-Almine-y-Bernard-Ruiz-Picasso-Madrid-©FABA-Photo_-Marc-Domage-©-Succession-Pablo-Picasso-VEGAP-Madrid-2025.jpg
ORGANIZER;CN="Museo Picasso M%C3%A1laga":MAILTO:info@mpicassom.org
END:VEVENT
BEGIN:VEVENT
DTSTART;TZID=Europe/Madrid:20260123T100000
DTEND;TZID=Europe/Madrid:20260503T180000
DTSTAMP:20260421T162315
CREATED:20251211T083908Z
LAST-MODIFIED:20251211T083908Z
UID:10001434-1769162400-1777831200@themarbelladirectory.com
SUMMARY:Elena Asins. ‘Antigone’ - The Invited Work
DESCRIPTION:Elena Asins: Antigone – A Conceptual Art Tribute in Málaga\nJoin the Museo Picasso Málaga for a tribute to a pivotal figure in Spanish conceptual art! The exhibition “Elena Asins: Antigone” celebrates the life and work of Elena Asins on the tenth anniversary of her death. This show is the latest edition in the highly acclaimed “The Invited Work” series. \nFormal Rigor and Poetic Language\nElena Asins was renowned for her formal rigour. Furthermore\, she was known for her unique exploration of mathematical\, poetic\, and visual languages. \n\nFeatured Work: The exhibition’s centerpiece is her final work\, the installation Antigone. This monumental piece is on loan from the Museo Nacional Centro de Arte Reina Sofía.\nMyth and Media: The installation will be presented alongside one of the audiovisual pieces that Asins created around the myth of Antigone.\nCurator: Miguel López-Remiro\, artistic director of the Museo Picasso Málaga\, curated the show.\n\nTherefore\, this exhibition strengthens the cooperation between these major Spanish institutions. Don’t miss this opportunity to experience a key piece of modern Spanish conceptual art!
URL:https://themarbelladirectory.com/event/elena-asins-exhibition-antigone-malaga-2026/
LOCATION:Museo Picasso Málaga\, Palacio de Buenavista Calle San Agustín\, 8\, Málaga\, Málaga\, 29015\, Spain
CATEGORIES:Activity,Art,entertainment,Exhibition
ATTACH;FMTTYPE=image/jpeg:https://themarbelladirectory.com/wp-content/uploads/2025/12/large_Expo_Elena_Asins_ce7629332f.jpg
ORGANIZER;CN="Museo Picasso M%C3%A1laga":MAILTO:info@mpicassom.org
END:VEVENT
BEGIN:VEVENT
DTSTART;VALUE=DATE:20260219
DTEND;VALUE=DATE:20260301
DTSTAMP:20260421T162315
CREATED:20251227T062717Z
LAST-MODIFIED:20251227T062717Z
UID:10001539-1771459200-1772323199@themarbelladirectory.com
SUMMARY:Conserveras del tiempo: A Moving Tribute to Sisterhood
DESCRIPTION:Conserveras del tiempo: A Moving Tribute to Sisterhood at Teatro Echegaray\nExperience a profound theatrical “tasting” this season in Málaga. As a highlight of the Factoría Echegaray initiative\, the Teatro Echegaray presents Conserveras del tiempo. On select dates in February 2026\, audiences are invited to enjoy a “special menu” of historical drama and emotional connection. This production explores the resilience of women during a pivotal moment in Spanish history. \nLife Inside the Cannery\nThe story transports us to a tuna cannery in southern Spain in 1975. Four women begin another routine day filled with the scent of fish and the hum of machinery. However\, everything changes when a new girl arrives at the factory. As she learns the trade\, the personal stories of the workers begin to unfold. Consequently\, the women develop a powerful bond of sisterhood. Together\, they navigate personal challenges while Spain stands on the brink of its political transition. \nAward-Winning Local Production\nWritten and directed by Juan Fleta\, this play features a talented all-female cast. The production stars Inma Caballero\, Alejandra Cid\, Virginia DeMorata\, and Magda Salinas. Factoría Echegaray produced this work to celebrate local storytelling and professional excellence. Furthermore\, the theater offers a special 2×1 ticket promotion for all performances. In short\, this show provides a unique opportunity to witness high-caliber drama at an exceptional value. \n\nEvent Highlights\n\nDates: February 19\, 20\, 21\, 26\, 27\, and 28\, 2026.\nTime: All sessions begin at 8:00 PM (20.00 h).\nTicket Price: €15 (Single price).\nSpecial Offer: 2-for-1 tickets available for every function.
URL:https://themarbelladirectory.com/event/conserveras-del-tiempo-teatro-echegaray-malaga-2026/
LOCATION:Teatro Echegaray\, Calle Echegaray\, 6\, Málaga\, Málaga\, 29015\, Spain
CATEGORIES:entertainment,Live Performance,Live Show,Theater & Arts
ATTACH;FMTTYPE=image/png:https://themarbelladirectory.com/wp-content/uploads/2025/12/2c7165962efe7d8071627dbc6236999f.png
ORGANIZER;CN="Teatro Echegaray":MAILTO:info@teatroechegaray.es
END:VEVENT
BEGIN:VEVENT
DTSTART;TZID=Europe/Madrid:20260226T200000
DTEND;TZID=Europe/Madrid:20260226T230000
DTSTAMP:20260421T162315
CREATED:20260123T063723Z
LAST-MODIFIED:20260123T063723Z
UID:10001885-1772136000-1772146800@themarbelladirectory.com
SUMMARY:PAPPO X JUANSE in Málaga 2026: A Historic Live Rock Tribute
DESCRIPTION:Juanse Pays Tribute to Rock Legend Pappo in Málaga\nThe iconic leader of Los Ratones Paranoicos\, Juanse\, is set to perform a historic tribute in Málaga. On Thursday\, February 26\, 2026\, he will take the stage at Sala París 15 to honor his lifelong friend\, Pappo. This live show follows the celebrated release of the “PAPPO X JUANSE” album. Consequently\, fans can expect an intense night of authentic Argentine rock and blues. \nJuanse will perform the entire tribute album alongside a high-caliber band and special guests. The setlist includes legendary anthems like “El Hombre Suburbano\,” “Sucio y Desprolijo\,” and “Blues Local”. Furthermore\, the performance features other classics such as “Fiesta Cervezal” and “Tren de las 16”. This event celebrates the enduring legacy of Pappo\, who remains one of the most influential guitarists in Latin American history. \nSala París 15 provides the perfect professional backdrop for this high-octane performance. Located in the heart of Málaga\, the venue is famous for its exceptional sound and vibrant atmosphere. Because this is a rare tribute tour\, demand for tickets is extremely high. Therefore\, we recommend securing your entry early to be part of this landmark cultural celebration. \nEvent Schedule \n\nDate: Thursday\, February 26\, 2026.\nDoors Open: 20:00 (8:00 PM).\nConcert Starts: 21:00 (9:00 PM).\nVenue: Sala París 15\, Málaga.
URL:https://themarbelladirectory.com/event/pappo-x-juanse-malaga-concert-2026/
LOCATION:Sala París 15\, Calle la Orotava\, 25\, 27\, 29006 Málaga\, Spain\, Málaga\, Málaga\, 29006\, Spain
CATEGORIES:Activity,Concert,entertainment,Live Show,Music Events
ATTACH;FMTTYPE=image/png:https://themarbelladirectory.com/wp-content/uploads/2026/01/PAPPOXJUANSE_MALAGA_1015x1350_Feed.png
ORGANIZER;CN="Chainsaw Entertainment":MAILTO:conciertos@chainsaw.es
END:VEVENT
BEGIN:VEVENT
DTSTART;TZID=Europe/Madrid:20260226T203000
DTEND;TZID=Europe/Madrid:20260226T230000
DTSTAMP:20260421T162315
CREATED:20260222T074038Z
LAST-MODIFIED:20260222T074038Z
UID:10001923-1772137800-1772146800@themarbelladirectory.com
SUMMARY:Swan Lake Ballet in Málaga 2026: Official Classical Guide
DESCRIPTION:Swan Lake Ballet: A Timeless Masterpiece Arrives in Málaga\nThe world’s most iconic classical ballet\, Swan Lake\, performs in Málaga on Thursday\, February 26\, 2026. This spectacular four-act production at Teatro Las Lagunas Mijas brings to life a timeless story where romance\, beauty\, and poetic symbolism collide. Specifically\, this performance offers a unique opportunity to witness the ultimate triumph of good over evil through the grace of international dance. \nVirtuosity and Innovation on Stage\nThis classical production features the immortal music of Pyotr Tchaikovsky\, specifically his renowned Op. 20 score\, which is famous for its emotionally powerful melodies. The choreography\, originally crafted by Marius Petipa and Lev Ivanov\, masterfully mirrors the movements and elegance of a swan. Consequently\, the performance showcases technical brilliance\, particularly during the legendary Grand Pas de Deux and the fan-favorite Dance of the Little Swans. The dual role of the White Swan and Black Swan remains one of the most demanding and dazzling feats for any principal dancer. \nAn Immersive International Production\nAttendees will experience a fairy-tale world brought to life by an international ensemble representing nine different nationalities. The production prides itself on realistic set designs\, exquisite costumes\, and elaborate accessories that create a powerful\, immersive atmosphere. Because this is a high-demand performance of a universally beloved masterpiece\, securing your entry in advance is highly recommended. Therefore\, join us for a night that promises to remain in your memory long after the final curtain falls. \nEvent Schedule \n\nDate: Thursday\, February 26\, 2026\nTime: 20:30 – 23:00 (8:30 PM – 11:00 PM)\nVenue: Teatro Las Lagunas Mijas\nAdmission: 33 EUR
URL:https://themarbelladirectory.com/event/swan-lake-ballet-malaga-2026/
LOCATION:Teatro Las Lagunas Mijas\, Camino de Campanales\, s/n\, 29651 Las Lagunas de Mijas\, Málaga\, Spain\, Las Lagunas de Mijas\, Málaga\, 29651\, Spain
CATEGORIES:entertainment,Live Performance,Theater & Arts
ATTACH;FMTTYPE=image/avif:https://themarbelladirectory.com/wp-content/uploads/2026/02/poster_w8ATzpS.avif
END:VEVENT
BEGIN:VEVENT
DTSTART;TZID=Europe/Madrid:20260226T210000
DTEND;TZID=Europe/Madrid:20260226T230000
DTSTAMP:20260421T162315
CREATED:20260222T074423Z
LAST-MODIFIED:20260222T074423Z
UID:10001924-1772139600-1772146800@themarbelladirectory.com
SUMMARY:Ruth Lorenzo Live in Málaga 2026: Official BLACKSHEEP Tour Guide
DESCRIPTION:Ruth Lorenzo Brings the “BLACKSHEEP” Tour 2026 to Málaga\nThe powerhouse vocalist Ruth Lorenzo performs in Málaga on Thursday\, February 26\, 2026. This highly anticipated show at Sala Trinchera marks a standout stop on her national BLACKSHEEP Tour. Specifically\, this tour brings her latest work to life\, offering a total revelation for both long-time fans and newcomers. Consequently\, the performance promises a night filled with raw emotion and the unmistakable vocal strength that has defined Ruth Lorenzo’s career. \nA New Chapter in Truth and Music\nThe BLACKSHEEP Tour represents a significant artistic milestone for the Murcian artist. Following her evolution in the Spanish and international music scenes\, this tour invites audiences to “break away from the flock” and join the herd. Fans can expect a setlist that showcases her newest tracks delivered with signature passion and live energy. Furthermore\, for those seeking a deeper connection\, the event offers a Meet & Greet experience that includes soundcheck access and a private moment with Ruth herself. \nExperience the Energy at Sala Trinchera\nThe venue\, Sala Trinchera\, provides an intimate yet high-energy atmosphere perfect for a professional production of this scale. Located in the heart of Málaga\, it is renowned for its excellent acoustics and vibrant concert environment. Because this is an exclusive tour with limited dates\, securing admission in advance is highly recommended. Therefore\, join the BLACKSHEEP herd for a musical experience that celebrates truth and live performance magic. \nEvent Schedule \n\nDate: Thursday\, February 26\, 2026\nTime: 21:00 – 23:00 (9:00 PM – 11:00 PM)\nVenue: Sala Trinchera\, Málaga\nTicket Price: From 25.00 EUR
URL:https://themarbelladirectory.com/event/ruth-lorenzo-blacksheep-tour-malaga-2026/
LOCATION:Sala Trinchera\, Calle Parauta\, 25\, 29006 Málaga\, Spain\, Málaga\, Málaga\, 29006\, Spain
CATEGORIES:Concert,entertainment,Live Performance,Live Show,Music Events
ATTACH;FMTTYPE=image/avif:https://themarbelladirectory.com/wp-content/uploads/2026/02/poster_E4KWAeh.avif
END:VEVENT
END:VCALENDAR