BEGIN:VCALENDAR
VERSION:2.0
PRODID:-//The Marbella Directory - ECPv6.15.18//NONSGML v1.0//EN
CALSCALE:GREGORIAN
METHOD:PUBLISH
X-WR-CALNAME:The Marbella Directory
X-ORIGINAL-URL:https://themarbelladirectory.com
X-WR-CALDESC:Events for The Marbella Directory
REFRESH-INTERVAL;VALUE=DURATION:PT1H
X-Robots-Tag:noindex
X-PUBLISHED-TTL:PT1H
BEGIN:VTIMEZONE
TZID:Europe/Madrid
BEGIN:DAYLIGHT
TZOFFSETFROM:+0100
TZOFFSETTO:+0200
TZNAME:CEST
DTSTART:20240331T010000
END:DAYLIGHT
BEGIN:STANDARD
TZOFFSETFROM:+0200
TZOFFSETTO:+0100
TZNAME:CET
DTSTART:20241027T010000
END:STANDARD
BEGIN:DAYLIGHT
TZOFFSETFROM:+0100
TZOFFSETTO:+0200
TZNAME:CEST
DTSTART:20250330T010000
END:DAYLIGHT
BEGIN:STANDARD
TZOFFSETFROM:+0200
TZOFFSETTO:+0100
TZNAME:CET
DTSTART:20251026T010000
END:STANDARD
BEGIN:DAYLIGHT
TZOFFSETFROM:+0100
TZOFFSETTO:+0200
TZNAME:CEST
DTSTART:20260329T010000
END:DAYLIGHT
BEGIN:STANDARD
TZOFFSETFROM:+0200
TZOFFSETTO:+0100
TZNAME:CET
DTSTART:20261025T010000
END:STANDARD
BEGIN:DAYLIGHT
TZOFFSETFROM:+0100
TZOFFSETTO:+0200
TZNAME:CEST
DTSTART:20270328T010000
END:DAYLIGHT
BEGIN:STANDARD
TZOFFSETFROM:+0200
TZOFFSETTO:+0100
TZNAME:CET
DTSTART:20271031T010000
END:STANDARD
BEGIN:DAYLIGHT
TZOFFSETFROM:+0100
TZOFFSETTO:+0200
TZNAME:CEST
DTSTART:20280326T010000
END:DAYLIGHT
BEGIN:STANDARD
TZOFFSETFROM:+0200
TZOFFSETTO:+0100
TZNAME:CET
DTSTART:20281029T010000
END:STANDARD
END:VTIMEZONE
BEGIN:VEVENT
DTSTART;VALUE=DATE:20250703
DTEND;VALUE=DATE:20270201
DTSTAMP:20260423T104736
CREATED:20260109T074607Z
LAST-MODIFIED:20260109T074607Z
UID:10001842-1751500800-1801439999@themarbelladirectory.com
SUMMARY:To Open Eyes: Transforming Our Gaze Through Modern Art
DESCRIPTION:To Open Eyes: Transforming Our Gaze Through Modern Art\nArt should teach us to see and feel life more deeply. In 1940\, the influential artist Josef Albers shared this powerful vision. Today\, the Centre Pompidou Malaga brings this philosophy to life in its new exhibition. “To Open Eyes” invites you on a journey through the evolution of modern creativity. \nThis exhibition explores how artists help us transform our relationship with the world. Consequently\, the display does not follow a simple timeline. Instead\, it organizes works based on visual themes and artistic rimas. You will find a diverse range of media\, from traditional paintings to contemporary installations. Furthermore\, these pieces reflect the immense richness of the National Museum of Modern Art in Paris. \nVisitors can witness the major ruptures that shaped the history of 20th and 21st-century art. The collection specifically highlights how art interacts with history\, spirituality\, and our social imagination. By moving away from a traditional narrative\, the exhibition offers a free and open panorama. Therefore\, every visitor can experience a unique connection with the works on display. \nThis is more than just an art show. It is an invitation to decentralize your gaze and reconsider the world around you. Make sure to visit this landmark exhibition in Malaga before it concludes in early 2027.
URL:https://themarbelladirectory.com/event/to-open-eyes-exhibition-centre-pompidou-malaga/
LOCATION:Centre Pompidou Málaga (The Cube)\, Pasaje Doctor Carrillo Casaux\, s/n\, 29016\, Muelle Uno\, Puerto de Málaga\, Spain\, Málaga\, Málaga\, Spain
CATEGORIES:Activity,Art,Exhibition,Theater & Arts,Workshop
ATTACH;FMTTYPE=image/jpeg:https://themarbelladirectory.com/wp-content/uploads/2026/01/images.jpg
ORGANIZER;CN="Ayuntamiento de M%C3%A1laga":MAILTO:info@malaga.eu
END:VEVENT
BEGIN:VEVENT
DTSTART;TZID=Europe/Madrid:20260108T200000
DTEND;TZID=Europe/Madrid:20260201T220000
DTSTAMP:20260423T104736
CREATED:20251221T140038Z
LAST-MODIFIED:20251221T140038Z
UID:10001484-1767902400-1769983200@themarbelladirectory.com
SUMMARY:Hambre (de Quijote)
DESCRIPTION:Hambre (de Quijote): A Feast of Literature\, Music\, and Gastronomy in Málaga\nExperience a unique sensory journey that feeds both the soul and the stomach. Hambre (de Quijote)\, a production by La Líquida\, arrives in Málaga as part of the 43rd Theater Festival. Running from January 8 to February 1\, 2026\, this extraordinary show transforms the Hotel AC Málaga Palacio into a space of historical wonder and culinary delight. \nA Contemporary Take on a Classic Masterpiece\nWriter\, director\, and performer David García-Intriago brings the essence of Don Quixote to life with a modern\, irreverent twist. The show explores the magical power of knowledge and humanism through humor and live music by violinist Santiago Vockam. Consequently\, the performance shifts between subtle reflection and explosive laughter\, confirming that culture is our ultimate savior. \nAn Exclusive Gastronomic Menu\nThis experience limits its audience to only 48 people per session to maintain an intimate atmosphere. While you immerse yourself in the story\, you will enjoy a curated Spanish menu: \n\nAppetizer: “Baroque Kisses” (cheese with grapes).\nMain Course: Stewed Iberian pork cheek with pear in red wine.\nBeverages: Water\, wine\, and fresh bread are included.\n\nThe Vision of La Líquida\nFounded in 2013\, La Líquida specializes in creating high-impact humor paired with live music. David García-Intriago\, acting as a contemporary minstrel\, has spent over a decade crafting shows like Oh Vino and Bacanal. Furthermore\, his work emphasizes the “actor’s truth\,” ensuring every spectator leaves with a full heart and a full stomach. \nTIME & DATE : \n\nDuration: January 8 to February 1\, 2026\nStandard Times: Thursday\, Friday\, Saturday at 8:00 PM (20.00 h)\nSpecial Sunday Times: 4:00 PM (16.00 h) and 7:00 PM (19.00 h)\n\nIn short\, do not miss this feast for the senses in the heart of Málaga. Secure your tickets today for a performance where laughter truly serves as the food for the soul.
URL:https://themarbelladirectory.com/event/hambre-de-quijote/
LOCATION:Hotel AC Málaga Palacio\, Calle Cortina del Muelle\, 1\, Málaga\, Málaga\, 29015\, Spain
CATEGORIES:Dining & Nightlife,entertainment,Live Show,Theater & Arts
ATTACH;FMTTYPE=image/png:https://themarbelladirectory.com/wp-content/uploads/2025/12/b254fbc9a6636ff72576a8982a0d17c9.png
ORGANIZER;CN="Teatro Cervantes de M%C3%A1laga":MAILTO:info@teatrocervantes.es
END:VEVENT
BEGIN:VEVENT
DTSTART;TZID=Europe/Madrid:20260128T200000
DTEND;TZID=Europe/Madrid:20260128T220000
DTSTAMP:20260423T104736
CREATED:20251223T042027Z
LAST-MODIFIED:20251223T042027Z
UID:10001519-1769630400-1769637600@themarbelladirectory.com
SUMMARY:Las Amistades Peligrosas
DESCRIPTION:Las Amistades Peligrosas: A Theatrical Masterpiece at the 43rd Málaga Theater Festival\nExperience a profound exploration of power and manipulation this season at the iconic Teatro Cervantes. As a highlight of the 43rd Theater Festival\, Producciones Come y Calla presents Las Amistades Peligrosas (Dangerous Liaisons). This production\, based on the 1782 novel by Choderlos de Laclos and the celebrated 1985 adaptation by Christopher Hampton\, brings a timeless story to the modern stage. On January 28 and 29\, 2026\, audiences can witness this gripping drama directed by David Serrano. \nA Narrative That “Burns Like Ice”\nThe story follows Valmont and Merteuil\, two fascinating protagonists described by Jean-Paul Sartre as having “no moral brakes”. Although the original work dates back centuries\, director David Serrano highlights its striking relevance to contemporary scandals involving the abuse of power and the lack of consent. Furthermore\, the play examines how the most powerful classes play with the lives of the less fortunate with total impunity. As Baudelaire once noted\, it is a story that “burns like ice\,” using love and sex as weapons of manipulation. \nA Stellar Cast and Production\nThis production features a high-caliber cast\, including Pilar Castro\, Roberto Enríquez\, Ángela Cremonte\, and Carmen Balagué. Together\, they bring to life the intricate web of deception and desire that marks the lives of the characters. Consequently\, the performance offers a direct challenge to the audience to reflect on the nature of possession and the manipulation of feelings in today’s society. \nIn short\, do not miss this intense 1-hour and 50-minute journey into the darker side of human nature. Secure your tickets now for a night of world-class theater in the heart of Málaga. \n\nEvent Highlights\n\n\nDates: Wednesday\, January 28 and Thursday\, January 29\, 2026. \n\n\nTime: 8:00 PM (20.00 h). \n\n\nDuration: 1 hour and 50 minutes (without intermission). \n\n\nTicket Prices: €36 (Zone A)\, €27 (Zone B)\, €20 (Zone C)\, and €12 (Zone D).
URL:https://themarbelladirectory.com/event/las-amistades-peligrosas-teatro-cervantes-malaga-2026/2026-01-28/
LOCATION:Teatro Cervantes\, Calle Ramos Marín\, s/n\, Málaga\, Málaga\, 29012
CATEGORIES:entertainment,Live Performance,Live Show,Theater & Arts
ATTACH;FMTTYPE=image/png:https://themarbelladirectory.com/wp-content/uploads/2025/12/76e0b8c613ca5d0d76d9de4aed20144d.png
ORGANIZER;CN="Producciones Come y Calla":MAILTO:franaviladistribucion@gmail.com
END:VEVENT
END:VCALENDAR