BEGIN:VCALENDAR
VERSION:2.0
PRODID:-//The Marbella Directory - ECPv6.15.18//NONSGML v1.0//EN
CALSCALE:GREGORIAN
METHOD:PUBLISH
X-WR-CALNAME:The Marbella Directory
X-ORIGINAL-URL:https://themarbelladirectory.com
X-WR-CALDESC:Events for The Marbella Directory
REFRESH-INTERVAL;VALUE=DURATION:PT1H
X-Robots-Tag:noindex
X-PUBLISHED-TTL:PT1H
BEGIN:VTIMEZONE
TZID:Europe/Madrid
BEGIN:DAYLIGHT
TZOFFSETFROM:+0100
TZOFFSETTO:+0200
TZNAME:CEST
DTSTART:20250330T010000
END:DAYLIGHT
BEGIN:STANDARD
TZOFFSETFROM:+0200
TZOFFSETTO:+0100
TZNAME:CET
DTSTART:20251026T010000
END:STANDARD
BEGIN:DAYLIGHT
TZOFFSETFROM:+0100
TZOFFSETTO:+0200
TZNAME:CEST
DTSTART:20260329T010000
END:DAYLIGHT
BEGIN:STANDARD
TZOFFSETFROM:+0200
TZOFFSETTO:+0100
TZNAME:CET
DTSTART:20261025T010000
END:STANDARD
BEGIN:DAYLIGHT
TZOFFSETFROM:+0100
TZOFFSETTO:+0200
TZNAME:CEST
DTSTART:20270328T010000
END:DAYLIGHT
BEGIN:STANDARD
TZOFFSETFROM:+0200
TZOFFSETTO:+0100
TZNAME:CET
DTSTART:20271031T010000
END:STANDARD
END:VTIMEZONE
BEGIN:VEVENT
DTSTART;TZID=Europe/Madrid:20260110T173000
DTEND;TZID=Europe/Madrid:20260110T193000
DTSTAMP:20260425T002609
CREATED:20251209T061428Z
LAST-MODIFIED:20251209T061428Z
UID:10001402-1768066200-1768073400@themarbelladirectory.com
SUMMARY:Mississippi Gospel Choir
DESCRIPTION:Mississippi Gospel Choir – A Journey of Soul and Freedom!\nExperience the powerful spirit of black music as the renowned Mississippi Gospel Choir returns for its eighteenth tour! Composed of 20 passionate artists\, this ensemble offers an intense and moving journey through the history of soul and protest. \nThe choir’s performance spans centuries of music\, from 19th-century spiritual songs to a rousing tribute to freedom marches. Their renewed proposal is seasoned with the infectious rhythms of funk and blues\, ensuring an energetic and deeply emotional show. \nPrepare to be uplifted by glorious harmonies and passionate voices as they perform well-known classics\, including the iconic “Oh Happy Day!” Hallelujah! \nTickets & Registration\nDon’t miss this opportunity to witness the great voices of black music live. Please check the official ticketing platform for current prices and seating options. \nBuy Tickets Here (El Corte Inglés)
URL:https://themarbelladirectory.com/event/mississippi-gospel-choir/
LOCATION:Palacio de Ferias y Congresos de Málaga (FYCMA)\, Av. Ortega y Gasset\, 201\, Málaga\, Málaga\, 29006\, Spain
CATEGORIES:Concert,entertainment,Live Show,Music Events
ATTACH;FMTTYPE=image/jpeg:https://themarbelladirectory.com/wp-content/uploads/2025/12/mississippi-gospel-choir-8211-18a-gira-en-bilbao.jpg
ORGANIZER;CN="JPN CONCERTS S.L.":MAILTO:clientes@jpnconcerts.com
END:VEVENT
BEGIN:VEVENT
DTSTART;TZID=Europe/Madrid:20260110T213000
DTEND;TZID=Europe/Madrid:20260110T230000
DTSTAMP:20260425T002609
CREATED:20251209T060926Z
LAST-MODIFIED:20251209T062200Z
UID:10001401-1768080600-1768086000@themarbelladirectory.com
SUMMARY:ABBA Tribute
DESCRIPTION:ABBA Tribute – Become a Dancing Queen in Málaga!\nDig out your flared trousers and platform shoes! The spectacular ABBA Tribute show is coming to Málaga\, bringing the exuberant energy\, iconic costumes\, and timeless hits of one of the most beloved groups in pop culture history. \nFrom their victorious start at Eurovision in 1974\, ABBA became a global phenomenon\, producing hit after unforgettable hit. This sensational show captures the band’s distinctive style and essence\, promising a night of pure 70s and 80s fun. \nGet ready to sing along\, clap\, and dance to all the classics that are still fashionable today: \n\n“Mamma Mia”\n“Money\, Money\, Money”\n“Take A Chance On Me”\n“The Winner Takes It All”\n…and\, of course\, “Dancing Queen!”\n\nDon’t miss this opportunity to relive the magic and glamour of ABBA live on stage! \nTickets & Registration\nTickets are selling fast for this spectacular journey back to the disco era. Please check the official ticketing platform for current prices and availability. \nBuy Tickets Here (El Corte Inglés)
URL:https://themarbelladirectory.com/event/abba-tribute/
LOCATION:Palacio de Ferias y Congresos de Málaga (FYCMA)\, Av. Ortega y Gasset\, 201\, Málaga\, Málaga\, 29006\, Spain
CATEGORIES:Concert,entertainment,Music Events
ATTACH;FMTTYPE=image/jpeg:https://themarbelladirectory.com/wp-content/uploads/2025/12/Abba_500x500.jpg
ORGANIZER;CN="JPN CONCERTS S.L.":MAILTO:clientes@jpnconcerts.com
END:VEVENT
BEGIN:VEVENT
DTSTART;TZID=Europe/Madrid:20260124T180000
DTEND;TZID=Europe/Madrid:20260124T193000
DTSTAMP:20260425T002609
CREATED:20251209T063244Z
LAST-MODIFIED:20251209T063244Z
UID:10001405-1769277600-1769283000@themarbelladirectory.com
SUMMARY:Carmina Burana and the Concierto de Aranjuez
DESCRIPTION:A Night Between Fire and Soul – Carmina Burana & Concierto de Aranjuez\nExperience a unique evening where Spanish passion and epic choral power meet on a single stage. This extraordinary concert brings together two universal classical masterpieces: Carl Orff’s explosive Carmina Burana and Joaquín Rodrigo’s luminous Concierto de Aranjuez. It is a compelling dialogue between the fiery intensity of medieval life and the delicate soul of Spain. \nThe Soul of Spain: Concierto de Aranjuez\nMaster of the Spanish guitar\, Rolando Saad\, will guide the audience through the serene gardens of the Palace of Aranjuez. Accompanied by the Grand Symphony Orchestra\, Saad—whose performance has moved over two million spectators worldwide—conveys the joyful and nostalgic spirit of Rodrigo’s most emblematic work\, a true celebration of Andalusian delicacy. \nThe Fire of Life: Carmina Burana\nAn essential work for lovers of life\, art\, and satire\, Carmina Burana is an experience of overwhelming orchestral and choral force. Based on ancient medieval poems\, this vibrant cantata celebrates hedonism\, love\, changing fortunes\, and earthly pleasures. Premiered in 1937\, its powerful composition remains one of the most popular and invigorating pieces in the classical repertoire. \nDon’t miss this concert—a profound experience to feel\, vibrate\, and remember. \nTickets & Registration\nTickets are available for this spectacular night of classical music. Please check the official ticketing platform for current prices and seating availability. \nBuy Tickets Here (El Corte Inglés)
URL:https://themarbelladirectory.com/event/carmina-burana-and-the-concierto-de-aranjuez/
LOCATION:Palacio de Ferias y Congresos de Málaga (FYCMA)\, Av. Ortega y Gasset\, 201\, Málaga\, Málaga\, 29006\, Spain
CATEGORIES:Concert,entertainment,Live Show,Music Events
ATTACH;FMTTYPE=image/jpeg:https://themarbelladirectory.com/wp-content/uploads/2025/12/Carmina-Aranjuez_500x500.jpg
ORGANIZER;CN="JPN CONCERTS S.L.":MAILTO:clientes@jpnconcerts.com
END:VEVENT
BEGIN:VEVENT
DTSTART;TZID=Europe/Madrid:20260124T213000
DTEND;TZID=Europe/Madrid:20260124T223000
DTSTAMP:20260425T002609
CREATED:20251209T063608Z
LAST-MODIFIED:20251209T063634Z
UID:10001406-1769290200-1769293800@themarbelladirectory.com
SUMMARY:John Williams & Hans Zimmer
DESCRIPTION:John Williams & Hans Zimmer – A Hollywood Symphony Night!\nPrepare for an intense and emotional journey through the soundtracks that define our modern collective memory! The Hollywood Symphony Orchestra is coming to Málaga to celebrate the genius of two of the greatest film composers: John Williams and Hans Zimmer. \nThis unique concert brings to life universal melodies that have made us laugh\, cry\, dream\, and jump out of our seats\, taking on a life of their own outside the cinema screen. \nThe Magic of John Williams\nExperience the heroism\, magic\, and adventure of the scores composed by the legendary John Williams\, who has collaborated closely with Steven Spielberg. Hear the iconic themes that define beloved franchises\, including: \n\nThe heroism of Star Wars\nThe audacity of Indiana Jones\nThe magic of Harry Potter\n\nThe Epic Scale of Hans Zimmer\nSince the 1980s\, Hans Zimmer has created sparkling worlds of sound\, accompanying blockbusters and critical hits alike. The orchestra will perform wonderful music from his vast portfolio\, evoking eras from Ancient Rome to the distant future: \n\nThe grandeur of Gladiator\nThe complexity of Inception\nThe adventure of Pirates of the Caribbean\nThe intensity of The Dark Knight trilogy\nThe multi-award-winning The Lion King\n\nDon’t miss this unforgettable night where cinema and music merge into pure symphony! \nTickets & Registration\nSecure your seat for this orchestral spectacle. Please check the official ticketing platform for current prices and seating options. \nBuy Tickets Here (El Corte Inglés)
URL:https://themarbelladirectory.com/event/john-williams-hans-zimmer/
LOCATION:Palacio de Ferias y Congresos de Málaga (FYCMA)\, Av. Ortega y Gasset\, 201\, Málaga\, Málaga\, 29006\, Spain
CATEGORIES:Concert,entertainment,Live Show,Music Events
ATTACH;FMTTYPE=image/jpeg:https://themarbelladirectory.com/wp-content/uploads/2025/12/WilliamsZimmer_500x500.jpg
ORGANIZER;CN="JPN CONCERTS S.L.":MAILTO:clientes@jpnconcerts.com
END:VEVENT
END:VCALENDAR