BEGIN:VCALENDAR
VERSION:2.0
PRODID:-//The Marbella Directory - ECPv6.15.18//NONSGML v1.0//EN
CALSCALE:GREGORIAN
METHOD:PUBLISH
X-ORIGINAL-URL:https://themarbelladirectory.com
X-WR-CALDESC:Events for The Marbella Directory
REFRESH-INTERVAL;VALUE=DURATION:PT1H
X-Robots-Tag:noindex
X-PUBLISHED-TTL:PT1H
BEGIN:VTIMEZONE
TZID:Europe/Madrid
BEGIN:DAYLIGHT
TZOFFSETFROM:+0100
TZOFFSETTO:+0200
TZNAME:CEST
DTSTART:20250330T010000
END:DAYLIGHT
BEGIN:STANDARD
TZOFFSETFROM:+0200
TZOFFSETTO:+0100
TZNAME:CET
DTSTART:20251026T010000
END:STANDARD
BEGIN:DAYLIGHT
TZOFFSETFROM:+0100
TZOFFSETTO:+0200
TZNAME:CEST
DTSTART:20260329T010000
END:DAYLIGHT
BEGIN:STANDARD
TZOFFSETFROM:+0200
TZOFFSETTO:+0100
TZNAME:CET
DTSTART:20261025T010000
END:STANDARD
BEGIN:DAYLIGHT
TZOFFSETFROM:+0100
TZOFFSETTO:+0200
TZNAME:CEST
DTSTART:20270328T010000
END:DAYLIGHT
BEGIN:STANDARD
TZOFFSETFROM:+0200
TZOFFSETTO:+0100
TZNAME:CET
DTSTART:20271031T010000
END:STANDARD
END:VTIMEZONE
BEGIN:VEVENT
DTSTART;TZID=Europe/Madrid:20260425T123000
DTEND;TZID=Europe/Madrid:20260425T143000
DTSTAMP:20260424T144532
CREATED:20260228T021958Z
LAST-MODIFIED:20260228T021958Z
UID:10001935-1777120200-1777127400@themarbelladirectory.com
SUMMARY:Borja Montón Ilusiónate Live in Málaga 2026
DESCRIPTION:Borja Montón Brings the Magic of “Ilusiónate” to Málaga\nThe renowned magician and communicator Borja Montón performs in Málaga on Saturday\, April 25\, 2026. This highly anticipated family event at the Palacio de Ferias y Congresos de Málaga (FYCMA) presents his acclaimed show\, Ilusiónate. Specifically\, the performance serves as an emotional journey that challenges both children and adults to rediscover the enthusiasm and joy often lost in adulthood. \nA Magical Formula for Joy and Enthusiasm\nIlusiónate is more than a standard magic show; it is a profound experience designed to remind the audience of the importance of laughter and play. Borja Montón shares what he describes as a unique formula to regain enthusiasm and the courage to dream big. Furthermore\, the show offers viewers practical tools to appreciate daily successes and live happier lives. Consequently\, families can expect a night that balances spectacular entertainment with a deep personal and emotional impact. \nExperience the Wonder at FYCMA\nThe event takes place at FYCMA – Palacio de Ferias y Congresos de Málaga\, a premier destination for high-quality cultural productions in Andalusia. Located on Avenida Ortega y Gasset\, the venue provides a professional and spacious setting ideal for this type of interactive family experience. Because this is a high-demand performance focused on reconnection and shared memories\, securing admission in advance is highly recommended. Therefore\, join Borja Montón for a show that celebrates life alongside the people you love. \nEvent Schedule \n\nDate: Saturday\, April 25\, 2026\nTime: 12:30 (12:30 PM)\nVenue: FYCMA – Palacio de Ferias y Congresos de Málaga\nShow Type: Family Magic and Entertainment
URL:https://themarbelladirectory.com/event/borja-monton-ilusionate-magic-malaga-2026/
LOCATION:Palacio de Ferias y Congresos de Málaga (FYCMA)\, Av. Ortega y Gasset\, 201\, Málaga\, Málaga\, 29006\, Spain
CATEGORIES:Activity,Art,entertainment,Family & Kids,Live Performance,Live Show
ATTACH;FMTTYPE=image/jpeg:https://themarbelladirectory.com/wp-content/uploads/2026/02/Cartel-Ilusionate.jpg
ORGANIZER;CN="%C2%BFC%C3%B3mo est%C3%A1 Wally?":MAILTO:info@comoestawally.com
END:VEVENT
END:VCALENDAR