BEGIN:VCALENDAR
VERSION:2.0
PRODID:-//The Marbella Directory - ECPv6.15.18//NONSGML v1.0//EN
CALSCALE:GREGORIAN
METHOD:PUBLISH
X-WR-CALNAME:The Marbella Directory
X-ORIGINAL-URL:https://themarbelladirectory.com
X-WR-CALDESC:Events for The Marbella Directory
REFRESH-INTERVAL;VALUE=DURATION:PT1H
X-Robots-Tag:noindex
X-PUBLISHED-TTL:PT1H
BEGIN:VTIMEZONE
TZID:Europe/Madrid
BEGIN:DAYLIGHT
TZOFFSETFROM:+0100
TZOFFSETTO:+0200
TZNAME:CEST
DTSTART:20250330T010000
END:DAYLIGHT
BEGIN:STANDARD
TZOFFSETFROM:+0200
TZOFFSETTO:+0100
TZNAME:CET
DTSTART:20251026T010000
END:STANDARD
BEGIN:DAYLIGHT
TZOFFSETFROM:+0100
TZOFFSETTO:+0200
TZNAME:CEST
DTSTART:20260329T010000
END:DAYLIGHT
BEGIN:STANDARD
TZOFFSETFROM:+0200
TZOFFSETTO:+0100
TZNAME:CET
DTSTART:20261025T010000
END:STANDARD
BEGIN:DAYLIGHT
TZOFFSETFROM:+0100
TZOFFSETTO:+0200
TZNAME:CEST
DTSTART:20270328T010000
END:DAYLIGHT
BEGIN:STANDARD
TZOFFSETFROM:+0200
TZOFFSETTO:+0100
TZNAME:CET
DTSTART:20271031T010000
END:STANDARD
END:VTIMEZONE
BEGIN:VEVENT
DTSTART;TZID=Europe/Madrid:20260523T200000
DTEND;TZID=Europe/Madrid:20260523T230000
DTSTAMP:20260419T143922
CREATED:20260309T172813Z
LAST-MODIFIED:20260309T172813Z
UID:10001966-1779566400-1779577200@themarbelladirectory.com
SUMMARY:Grecas Live in Málaga 2026: Official Escrito en la M-30 Tour
DESCRIPTION:Grecas Returns to Málaga with the “Escrito en la M-30” Tour\nThe rising Madrid rap sensation Grecas (Ángel Rubio Cercas) performs in Málaga on Saturday\, May 23\, 2026. This highly anticipated show at Sala París 15 marks the final stop of his expansive 2026 national tour. Following a series of sold-out dates across Spain\, the artist returns to the city to present his latest album\, Escrito en la M-30. Specifically\, the performance serves as a high-energy showcase of his raw\, visceral style and the urban storytelling that has made him a viral phenomenon. \nFrom the Taxi to the Big Stage\nOriginally from Villalba\, Grecas has rapidly transitioned from a local talent to a national figure in the Spanish hip-hop scene. He is widely recognized for massive hits such as ES COMO FAK\, Me flipa\, and Qué culpa tiene el lunes de no ser un sábado. With millions of streams and a reputation for high-impact live renditions\, his current tour highlights his growth as a defining voice in modern urban music. Furthermore\, the concert promises an immersive atmosphere where his unfiltered lyrics take center stage. Therefore\, the evening provides more than just a standard rap show; it is a celebration of a comedian’s journey and his impact on the world of humor. \nExperience the Energy at Sala París 15\nThe event takes place at Sala París 15\, Málaga’s premier destination for live music with a capacity for 3\,000 people. Located in the San Luis industrial estate\, the venue is known for its warehouse-style space and professional acoustics. Because Grecas consistently attracts massive crowds\, securing your admission in advance is essential. Doors open promptly at 20:00h\, with the main performance scheduled to begin at 21:00h. Consequently\, you will have the chance to witness firsthand why he is currently one of the most talked-about rappers in the country. \nEvent Schedule \n\nDate: Saturday\, May 23\, 2026\nDoors Open: 20:00 (8:00 PM)\nShow Starts: 21:00 (9:00 PM)\nVenue: Sala París 15\, Málaga\nTicket Price: Approximately 24.90 EUR
URL:https://themarbelladirectory.com/event/grecas-live-in-malaga-2026-official-escrito-en-la-m-30-tour/
LOCATION:Sala París 15\, Calle la Orotava\, 25\, 27\, 29006 Málaga\, Spain\, Málaga\, Málaga\, 29006\, Spain
CATEGORIES:Concert,entertainment,Live Performance,Live Show,Music Events
ATTACH;FMTTYPE=image/jpeg:https://themarbelladirectory.com/wp-content/uploads/2026/03/MALAGA-819x1024-1.jpg
ORGANIZER;CN="Sala Paris 15":MAILTO:info@paris15.es
END:VEVENT
END:VCALENDAR