BEGIN:VCALENDAR
VERSION:2.0
PRODID:-//The Marbella Directory - ECPv6.15.18//NONSGML v1.0//EN
CALSCALE:GREGORIAN
METHOD:PUBLISH
X-WR-CALNAME:The Marbella Directory
X-ORIGINAL-URL:https://themarbelladirectory.com
X-WR-CALDESC:Events for The Marbella Directory
REFRESH-INTERVAL;VALUE=DURATION:PT1H
X-Robots-Tag:noindex
X-PUBLISHED-TTL:PT1H
BEGIN:VTIMEZONE
TZID:Europe/Madrid
BEGIN:DAYLIGHT
TZOFFSETFROM:+0100
TZOFFSETTO:+0200
TZNAME:CEST
DTSTART:20250330T010000
END:DAYLIGHT
BEGIN:STANDARD
TZOFFSETFROM:+0200
TZOFFSETTO:+0100
TZNAME:CET
DTSTART:20251026T010000
END:STANDARD
BEGIN:DAYLIGHT
TZOFFSETFROM:+0100
TZOFFSETTO:+0200
TZNAME:CEST
DTSTART:20260329T010000
END:DAYLIGHT
BEGIN:STANDARD
TZOFFSETFROM:+0200
TZOFFSETTO:+0100
TZNAME:CET
DTSTART:20261025T010000
END:STANDARD
BEGIN:DAYLIGHT
TZOFFSETFROM:+0100
TZOFFSETTO:+0200
TZNAME:CEST
DTSTART:20270328T010000
END:DAYLIGHT
BEGIN:STANDARD
TZOFFSETFROM:+0200
TZOFFSETTO:+0100
TZNAME:CET
DTSTART:20271031T010000
END:STANDARD
END:VTIMEZONE
BEGIN:VEVENT
DTSTART;TZID=Europe/Madrid:20260207T000000
DTEND;TZID=Europe/Madrid:20260207T050000
DTSTAMP:20260422T183603
CREATED:20260128T070834Z
LAST-MODIFIED:20260128T070834Z
UID:10001897-1770422400-1770440400@themarbelladirectory.com
SUMMARY:Claudia Tejada Live in Málaga 2026
DESCRIPTION:Claudia Tejeda Returns to Málaga for an Exclusive Birthday Celebration\nRenowned international tech house artist Claudia Tejeda (often referred to as Tejada) is set to headline a massive “All Night Long” session. Specifically\, she returns to her hometown of Málaga on Saturday\, February 7\, 2026. The DJ will take full control of the decks at Sala París 15. This event celebrates her birthday and has become a highly anticipated annual tradition. This performance follows her successful session last year\, which solidified her status as a central figure in the global electronic scene. \nA Night of Immersive Tech House and Heavy Grooves\nThe “All Night Long” format allows the artist to explore her full musical repertoire. Consequently\, she takes the audience on a seamless journey through underground rhythms and high-energy house beats. As a Málaga native with a flourishing global career\, her hometown shows are famous for unique energy. Because this is a commemorative event\, fans can expect a carefully curated set. This set honors her roots and her evolution as a producer and founder of Clover Records. \nExperience the Energy at Sala París 15\nMálaga’s premier venue\, Sala París 15\, provides a professional setting for this immersive night. Since opening in 2010\, the hall has become a cornerstone of the city’s cultural life. It regularly hosts top-tier national and international talent like Paco Osuna and Marco Carola. With a capacity for up to 3\,000 attendees and a professional sound system\, the venue ensures an unforgettable atmosphere. Therefore\, prepare yourself for an evening of pure electronic music and authentic connection. \nEvent Schedule \n\nDate: Saturday\, February 7\, 2026\nDoors Open: 23:59 (11:59 PM)\nPerformance Starts: 23:59 (11:59 PM)\nAge Requirement: 18+ Only (Original ID Required)\nVenue: Sala París 15\, Málaga
URL:https://themarbelladirectory.com/event/claudia-tejada-all-night-long-malaga-2026/
LOCATION:Sala París 15\, Calle la Orotava\, 25\, 27\, 29006 Málaga\, Spain\, Málaga\, Málaga\, 29006\, Spain
CATEGORIES:Activity,Concert,entertainment,Live Performance,Live Show,Music Events,Nightlife
ATTACH;FMTTYPE=image/jpeg:https://themarbelladirectory.com/wp-content/uploads/2026/01/WhatsApp-Image-2026-01-13-at-11.43.17.jpeg
ORGANIZER;CN="Orion Producciones S.L.":MAILTO:electronica@paris15.es
END:VEVENT
END:VCALENDAR