BEGIN:VCALENDAR
VERSION:2.0
PRODID:-//The Marbella Directory - ECPv6.15.18//NONSGML v1.0//EN
CALSCALE:GREGORIAN
METHOD:PUBLISH
X-WR-CALNAME:The Marbella Directory
X-ORIGINAL-URL:https://themarbelladirectory.com
X-WR-CALDESC:Events for The Marbella Directory
REFRESH-INTERVAL;VALUE=DURATION:PT1H
X-Robots-Tag:noindex
X-PUBLISHED-TTL:PT1H
BEGIN:VTIMEZONE
TZID:Europe/Madrid
BEGIN:DAYLIGHT
TZOFFSETFROM:+0100
TZOFFSETTO:+0200
TZNAME:CEST
DTSTART:20250330T010000
END:DAYLIGHT
BEGIN:STANDARD
TZOFFSETFROM:+0200
TZOFFSETTO:+0100
TZNAME:CET
DTSTART:20251026T010000
END:STANDARD
BEGIN:DAYLIGHT
TZOFFSETFROM:+0100
TZOFFSETTO:+0200
TZNAME:CEST
DTSTART:20260329T010000
END:DAYLIGHT
BEGIN:STANDARD
TZOFFSETFROM:+0200
TZOFFSETTO:+0100
TZNAME:CET
DTSTART:20261025T010000
END:STANDARD
BEGIN:DAYLIGHT
TZOFFSETFROM:+0100
TZOFFSETTO:+0200
TZNAME:CEST
DTSTART:20270328T010000
END:DAYLIGHT
BEGIN:STANDARD
TZOFFSETFROM:+0200
TZOFFSETTO:+0100
TZNAME:CET
DTSTART:20271031T010000
END:STANDARD
END:VTIMEZONE
BEGIN:VEVENT
DTSTART;TZID=Europe/Madrid:20260425T193000
DTEND;TZID=Europe/Madrid:20260425T230000
DTSTAMP:20260423T002225
CREATED:20260414T132656Z
LAST-MODIFIED:20260414T132656Z
UID:10002202-1777145400-1777158000@themarbelladirectory.com
SUMMARY:Tenda Live in Málaga: 2026 Indie Rock Performance
DESCRIPTION:Experience the Vibrant Energy of Tenda Live in Málaga\nFirstly\, prepare for a night of incredible alternative music. The talented Spanish band Tenda arrives at Sala Marte on Saturday\, April 25\, 2026. Specifically\, this performance marks their first visit to the city. Consequently\, fans are eagerly awaiting their arrival. They will showcase their latest album titled Patrick. Additionally\, they will perform their new release Cuando todo el mundo duerme. \nThe band is famous for its unique blend of indie pop and rock. Their music features catchy melodies and thought-provoking lyrics. Therefore\, every song resonates deeply with the listener. During the show\, you will experience a high-energy stage presence. The synergy between the musicians and the audience creates a magical atmosphere. \nFurthermore\, Sala Marte provides the perfect setting for this musical journey. It is a premier venue for music enthusiasts in Málaga. Because of its cutting-edge sound system\, every note will be crystal clear. The venue is located in the heart of the city for easy access. Indeed\, this event is a must-attend for alternative music lovers. Secure your tickets early to witness this innovative sound live. \nEvent Schedule and Venue Information \n\nDate: Saturday\, April 25\, 2026\nTime: 19:30 to 23:00 (7:30 PM – 11:00 PM)\nVenue: Sala Marte Málaga\nLocation: Málaga\, Spain\nAdmission: 12.00 EUR
URL:https://themarbelladirectory.com/event/tenda-live-in-malaga-2026-indie-rock-performance/
LOCATION:Sala Marte Málaga\, C. San Nicolás\, 2\, 29016 Málaga Málaga\, Spain\, Málaga\, Málaga\, 29016\, Spain
CATEGORIES:entertainment,Live Performance,Live Show,Music Events,Nightlife
ATTACH;FMTTYPE=image/avif:https://themarbelladirectory.com/wp-content/uploads/2026/04/poster_HlesMES.avif
END:VEVENT
END:VCALENDAR