BEGIN:VCALENDAR
VERSION:2.0
PRODID:-//The Marbella Directory - ECPv6.15.18//NONSGML v1.0//EN
CALSCALE:GREGORIAN
METHOD:PUBLISH
X-ORIGINAL-URL:https://themarbelladirectory.com
X-WR-CALDESC:Events for The Marbella Directory
REFRESH-INTERVAL;VALUE=DURATION:PT1H
X-Robots-Tag:noindex
X-PUBLISHED-TTL:PT1H
BEGIN:VTIMEZONE
TZID:Europe/Madrid
BEGIN:DAYLIGHT
TZOFFSETFROM:+0100
TZOFFSETTO:+0200
TZNAME:CEST
DTSTART:20250330T010000
END:DAYLIGHT
BEGIN:STANDARD
TZOFFSETFROM:+0200
TZOFFSETTO:+0100
TZNAME:CET
DTSTART:20251026T010000
END:STANDARD
BEGIN:DAYLIGHT
TZOFFSETFROM:+0100
TZOFFSETTO:+0200
TZNAME:CEST
DTSTART:20260329T010000
END:DAYLIGHT
BEGIN:STANDARD
TZOFFSETFROM:+0200
TZOFFSETTO:+0100
TZNAME:CET
DTSTART:20261025T010000
END:STANDARD
BEGIN:DAYLIGHT
TZOFFSETFROM:+0100
TZOFFSETTO:+0200
TZNAME:CEST
DTSTART:20270328T010000
END:DAYLIGHT
BEGIN:STANDARD
TZOFFSETFROM:+0200
TZOFFSETTO:+0100
TZNAME:CET
DTSTART:20271031T010000
END:STANDARD
END:VTIMEZONE
BEGIN:VEVENT
DTSTART;TZID=Europe/Madrid:20260425T200000
DTEND;TZID=Europe/Madrid:20260425T233000
DTSTAMP:20260423T125724
CREATED:20260121T043040Z
LAST-MODIFIED:20260121T043040Z
UID:10001870-1777147200-1777159800@themarbelladirectory.com
SUMMARY:Linkoln Park Returns to Málaga in 2026
DESCRIPTION:Linkoln Park: A Powerful Tribute Returns to Málaga in 2026\nLinkoln Park\, the acclaimed tribute band\, is set to return to Málaga for a massive live performance at the legendary Sala París 15. For years\, this dedicated group has honored the legacy of North American icons Linkin Park. They captivate audiences with high-energy recreations of the original band’s groundbreaking sound. Furthermore\, on Saturday\, April 25\, 2026\, they will deliver an extensive journey through the Californian band’s entire discography. \nCelebrating 25 Years of Hybrid Theory\nThis special 2026 show serves as a deep dive into the major anthems that defined a generation. Most importantly\, this performance marks the 25th Anniversary of the iconic Hybrid Theory album. As part of their anniversary celebrations\, the band will perform legendary tracks from every era. You can expect an immersive experience that unites the “Soldiers” family once more. Ultimately\, the band brings the spirit of Linkin Park’s music to life with authentic intensity. \nExclusive Pre-Concert Showcase by Kristóf7s\nThe evening will kick off with a special electronic set by Kristóf7s. He is a world-renowned loop station artist and two-time international champion. Known for his skills as a multi-instrumentalist and beatboxer\, Kristóf7s has prepared a unique showcase exclusively for this tour. He will perform a high-impact set of well-known rock\, punk\, and metal covers. These tracks are completely remade live through live looping and beatboxing techniques. \nVenue Experience at Sala París 15\nThe venue\, Sala París 15\, offers a professional setting with a capacity of up to 3\,000 people. This ensures a world-class sound and lighting experience for every attendee. Therefore\, fans are encouraged to secure their entry early for this unmissable night of music and nostalgia. \n\nEvent Schedule\n\nDate: Saturday\, April 25\, 2026\nDoors Open: 20:15 (8:15 PM)\nShowcase Kristóf7s: 20:45 (8:45 PM)\nConcert Starts: 21:30 (9:30 PM)\nVenue: Sala París 15\, Málaga\n\nTicket Information\nAdvance tickets are available starting at 18€ plus management fees. \n\n\nOfficial Ticket Portal: Ticketboom
URL:https://themarbelladirectory.com/event/linkoln-park-tribute-malaga-sala-paris-15-2026/
LOCATION:Sala París 15\, Calle la Orotava\, 25\, 27\, 29006 Málaga\, Spain\, Málaga\, Málaga\, 29006\, Spain
CATEGORIES:Concert,entertainment,Live Performance,Live Show,Music Events
ATTACH;FMTTYPE=image/jpeg:https://themarbelladirectory.com/wp-content/uploads/2026/01/571605490_1324005012985930_45810333948563019_n-1228x1536-1.jpg
ORGANIZER;CN="Orion Producciones S.L.":MAILTO:electronica@paris15.es
END:VEVENT
BEGIN:VEVENT
DTSTART;TZID=Europe/Madrid:20260506T200000
DTEND;TZID=Europe/Madrid:20260506T233000
DTSTAMP:20260423T125724
CREATED:20260121T040719Z
LAST-MODIFIED:20260121T040719Z
UID:10001868-1778097600-1778110200@themarbelladirectory.com
SUMMARY:ABEL PINTOS
DESCRIPTION:Abel Pintos: The Iconic Argentine Star Returns to Málaga\nMálaga is ready to welcome one of its most prominent musical icons. Abel Pintos returns for a highly anticipated performance on Wednesday\, May 6\, 2026. This exclusive four-date Spanish tour brings one of Latin music’s most emotive voices back to the stage. Specifically\, he will take the stage at the legendary Sala París 15. This night promises powerful melodies and a deep connection with his fans. \nA Rapid Rise in the Latin Music Scene\nAbel Pintos has experienced a meteoric rise over the last two decades. He successfully blends the raw energy of pop with authentic folklore and rock soul. He is best known for viral hits such as “Sin Principio Ni Final” and “Motivos”. These tracks have collectively accumulated millions of views across major digital platforms. \nHis career has been bolstered by collaborations with industry heavyweights like Pablo Alborán. Furthermore\, his music reflects the authentic spirit of his Argentine roots. As a result\, his popularity continues to grow globally. Fans love his soulful melodies that redefine modern Latin music. Therefore\, this concert is a must-see event for music lovers in Andalusia. \nAn Unforgettable Performance at Sala París 15\nThis concert represents a major milestone for the artist as he performs a headlining show in Málaga. Attendees can expect a professional production. It will feature his most popular hits and high-quality acoustics. Because the demand for his live shows is consistently high\, fans should act quickly. \nWe encourage you to secure your tickets early to avoid disappointment. Consequently\, this event is expected to be a highlight of Málaga’s 2026 summer cultural calendar. Do not miss your chance to see this global star live on stage. In addition\, the central location of the venue makes it easily accessible for everyone. \nEvent Schedule \n\nDate: Wednesday\, May 6\, 2026.\nDoors Open: 20:00 (8:00 PM).\nPerformance Starts: 21:00 (9:00 PM).\nVenue: Sala París 15\, Málaga.
URL:https://themarbelladirectory.com/event/abel-pintos-live-malaga-sala-paris-15-2026/
LOCATION:Sala París 15\, Calle la Orotava\, 25\, 27\, 29006 Málaga\, Spain\, Málaga\, Málaga\, 29006\, Spain
CATEGORIES:Concert,entertainment,Live Show,Music Events
ATTACH;FMTTYPE=image/jpeg:https://themarbelladirectory.com/wp-content/uploads/2026/01/MALAG.jpg
ORGANIZER;CN="Orion Producciones S.L.":MAILTO:electronica@paris15.es
END:VEVENT
BEGIN:VEVENT
DTSTART;TZID=Europe/Madrid:20260524T200000
DTEND;TZID=Europe/Madrid:20260524T220000
DTSTAMP:20260423T125724
CREATED:20260119T031935Z
LAST-MODIFIED:20260119T031935Z
UID:10001861-1779652800-1779660000@themarbelladirectory.com
SUMMARY:Rata Blanca: The Hard Rock Legends
DESCRIPTION:Rata Blanca: The Hard Rock Legends Return to Malaga in 2026\n\nThe iconic Argentine hard rock group Rata Blanca is set to make a triumphant return to Spain in 2026. As part of their highly anticipated national tour\, the band will perform a massive show in Malaga on Sunday\, May 24\, 2026. This performance represents a significant moment for rock and metal enthusiasts in the region. Moreover\, it brings one of the most respected names in Spanish-language music to the stage. \nA Legacy of Spanish-Language Metal\nFounded in 1987\, Rata Blanca has cemented its position as the most important Spanish-speaking rock and metal band in history. Their international recognition remains unparalleled. Therefore\, they continue to influence generations of fans with their unique blend of power metal and hard rock. This 2026 tour is particularly special because it celebrates the 35th anniversary of their legendary album\, Magos\, Espadas y Rosas. Consequently\, fans can expect a revamped setlist that honors their rich history. The band always delivers the technical virtuosity and raw energy they are famous for. \nAn Unmissable Night at Sala Paris 15\nThe concert will take place at Malaga’s premier live music venue\, Sala Paris 15. This venue is known for its high-energy atmosphere and professional sound quality. Thus\, it provides the perfect backdrop for Walter Giardino’s legendary riffs and Adrian Barilari’s unmistakable vocals. Doors will open early to welcome thousands of fans. These followers will gather to witness immortal classics like La Leyenda del Hada y el Mago and Mujer Amante. \nWhether you are a lifelong follower or a newcomer to their sound\, this show promises a powerful and unforgettable live experience. Given their history of sold-out performances across Spain\, you should secure your entry early for this international rock celebration. You can find more details and official updates in here. \nEvent Schedule \n\n\nDate: Sunday\, May 24\, 2026. \n\n\nDoors Open: 20:00 (8:00 PM). \n\n\nPerformance Start: 21:00 (9:00 PM). \n\n\nVenue: Sala Paris 15\, Malaga.
URL:https://themarbelladirectory.com/event/rata-blanca-the-hard-rock-legends/
LOCATION:Sala París 15\, Calle la Orotava\, 25\, 27\, 29006 Málaga\, Spain\, Málaga\, Málaga\, 29006\, Spain
CATEGORIES:Activity,Live Performance,Live Show,Music Events
ATTACH;FMTTYPE=image/jpeg:https://themarbelladirectory.com/wp-content/uploads/2026/01/DaXmI61wVvwW.jpg
ORGANIZER;CN="Orion Producciones S.L.":MAILTO:electronica@paris15.es
END:VEVENT
BEGIN:VEVENT
DTSTART;TZID=Europe/Madrid:20260614T200000
DTEND;TZID=Europe/Madrid:20260614T233000
DTSTAMP:20260423T125724
CREATED:20260325T043240Z
LAST-MODIFIED:20260325T043240Z
UID:10002041-1781467200-1781479800@themarbelladirectory.com
SUMMARY:Edén Muñoz Málaga 2026: Official Concert Guide
DESCRIPTION:Experience the Magic of Edén Muñoz Live in Málaga\nThe legendary Mexican singer Edén Muñoz arrives in Málaga on Sunday\, June 14\, 2026. This highly anticipated performance takes place at the iconic Sala Paris 15. Specifically\, the show is a major highlight of his national tour titled Como en los viejos tiempos. As one of the most influential figures in modern Regional Mexican music\, Muñoz is making his debut in the city. For one night only\, fans can experience a powerful and intimate live set that blends traditional roots with contemporary pop sensibilities. \nA Global Icon of Regional Mexican Music\nEdén Muñoz is celebrated for his unique ability to combine raw emotion with modern production. His career is marked by massive success both as a solo artist and a world-class songwriter. Furthermore\, he has composed chart-topping hits for legends like Alejandro Fernández and collaborated with renowned acts such as Maná and Diego Torres. With multiple gold and platinum certifications\, his current tour reflects his peak international projection. Fans can expect to hear his most famous anthems\, including the viral hit Chale and tracks from his latest project\, Eden Vol. II. \nWitness a Landmark Performance at Sala Paris 15\nSala Paris 15 provides the ultimate professional setting for this large-scale production. Located in the San Luis industrial district\, the venue is famous for its high-fidelity sound system and high-energy atmosphere. Early Entry ticket holders can access the venue at 19:30\, while general doors open at 20:00. The main performance will begin promptly at 21:00. Because this is his first appearance in the region\, demand is exceptionally high. Therefore\, joining the local community for this historic evening is highly recommended for all fans of authentic Mexican music. \nEvent Schedule \n\nDate: Sunday\, June 14\, 2026\nEarly Entry Access: 19:30 (7:30 PM)\nGeneral Doors Open: 20:00 (8:00 PM)\nConcert Starts: 21:00 (9:00 PM)\nVenue: Sala Paris 15\, Málaga\nPrice: Advance tickets from 42.70 EUR (plus fees)
URL:https://themarbelladirectory.com/event/eden-munoz-malaga-2026-official-concert-guide/
LOCATION:Sala París 15\, Calle la Orotava\, 25\, 27\, 29006 Málaga\, Spain\, Málaga\, Málaga\, 29006\, Spain
CATEGORIES:Concert,entertainment,Live Show,Music Events,Nightlife
ATTACH;FMTTYPE=image/jpeg:https://themarbelladirectory.com/wp-content/uploads/2026/03/EdenMunoz_Gira_Malaga_1080x1440.jpg
ORGANIZER;CN="Orion Producciones S.L.":MAILTO:electronica@paris15.es
END:VEVENT
BEGIN:VEVENT
DTSTART;TZID=Europe/Madrid:20260619T210000
DTEND;TZID=Europe/Madrid:20260619T230000
DTSTAMP:20260423T125724
CREATED:20260120T074039Z
LAST-MODIFIED:20260120T074039Z
UID:10001863-1781902800-1781910000@themarbelladirectory.com
SUMMARY:No Me Pises Que Llevo Chanclas
DESCRIPTION:Legendary Pop-Rock Double Celebration at Sala París 15\nGet ready for an extraordinary night of music and laughter as two icons of Spanish pop-rock join forces in Malaga! On Friday\, June 19\, 2026\, the legendary Orquesta Mondragón and the masters of “Agropop\,” No Me Pises Que Llevo Chanclas\, will hit the stage at Sala París 15 for a historic double anniversary celebration. \nOrquesta Mondragón\, led by the charismatic Javier Gurruchaga\, marks a monumental 50 years of success\, bringing half a century of rock\, blues\, and irreverent humor to the stage. Meanwhile\, No Me Pises Que Llevo Chanclas celebrates 35 years of hits that revolutionized the 90s with their infectious energy and good vibes. \nThis is a unique opportunity to sing along to timeless classics like “Bolillón” and “Viaje con Nosotros” in a live setting that promises to be one of the most fun concerts of the year. Do not miss this chance to witness a fusion of memory and vitality in one of Malaga’s most dynamic concert halls. \nEvent Schedule \n\nDate: Friday\, June 19\, 2026\nDoors Open: 21:00 (9:00 PM)\nConcert Starts: 22:00 (10:00 PM)\nPrice: 35€ (Advance sale)
URL:https://themarbelladirectory.com/event/no-me-pises-que-llevo-chanclas-orquesta-mondragon-malaga-2026/
LOCATION:Sala París 15\, Calle la Orotava\, 25\, 27\, 29006 Málaga\, Spain\, Málaga\, Málaga\, 29006\, Spain
CATEGORIES:Concert,entertainment,Exhibition,Live Performance,Live Show,Music Events
ATTACH;FMTTYPE=image/jpeg:https://themarbelladirectory.com/wp-content/uploads/2026/01/WhatsApp-Image-2025-12-26-at-12.35.30.jpeg
ORGANIZER;CN="Orion Producciones S.L.":MAILTO:electronica@paris15.es
END:VEVENT
BEGIN:VEVENT
DTSTART;TZID=Europe/Madrid:20260620T200000
DTEND;TZID=Europe/Madrid:20260620T230000
DTSTAMP:20260423T125724
CREATED:20260120T075159Z
LAST-MODIFIED:20260120T075159Z
UID:10001864-1781985600-1781996400@themarbelladirectory.com
SUMMARY:Óscar El Ruso Live in Málaga 2026
DESCRIPTION:Oscar El Ruso Returns to His Roots in Málaga\nMálaga is ready to welcome one of its most prominent musical icons. Óscar “El Ruso” returns for a massive homecoming performance on Saturday\, June 20\, 2026. Originating from the La Palmilla neighborhood where he grew up\, the artist has become a titan in the Spanish urban music scene. He will take the stage at the legendary Sala París 15. This night promises high-energy rhythms and a deep connection with his local fans. \nA Rapid Rise in the Urban Scene\nÓscar El Ruso has experienced a meteoric rise. He successfully blends the raw energy of urban music with authentic flamenco soul. He is best known for viral hits such as “Japoni” and “Whisky”. These tracks have collectively accumulated millions of views across major digital platforms. \nHis career has been bolstered by the support of industry heavyweights like Omar Montes and RVFV. This recognition marks him as a key artist to watch in 2026. Furthermore\, his music reflects the authentic spirit of his upbringing. As a result\, his popularity continues to grow globally. Fans love his “flamenco urbano” style that redefines modern pop. \nAn Unforgettable Performance at Sala París 15\nThis concert represents a major milestone for the artist. He is finally performing a solo headlining show in his home city. Attendees can expect a professional production featuring his most popular hits. The 3\,000-capacity venue will provide an electric atmosphere for the night. \nBecause the demand for his live shows is consistently high\, fans should act quickly. You are encouraged to secure your tickets during the advance sale period. Consequently\, this event is expected to be a highlight of Málaga’s 2026 summer cultural calendar. Do not miss your chance to see this local hero live on stage. \nEvent Schedule \n\nDate: Saturday\, June 20\, 2026.\nDoors Open: 20:00 (8:00 PM).\nPerformance Starts: 21:00 (9:00 PM).\nVenue: Sala París 15\, Málaga.
URL:https://themarbelladirectory.com/event/oscar-el-ruso-live-in-malaga-2026/
LOCATION:Sala París 15\, Calle la Orotava\, 25\, 27\, 29006 Málaga\, Spain\, Málaga\, Málaga\, 29006\, Spain
CATEGORIES:Activity,Concert,entertainment,Live Performance,Live Show,Music Events
ATTACH;FMTTYPE=image/jpeg:https://themarbelladirectory.com/wp-content/uploads/2026/01/MALAGA_ELRUSO.jpg
ORGANIZER;CN="Orion Producciones S.L.":MAILTO:electronica@paris15.es
END:VEVENT
BEGIN:VEVENT
DTSTART;TZID=Europe/Madrid:20260627T210000
DTEND;TZID=Europe/Madrid:20260627T233000
DTSTAMP:20260423T125724
CREATED:20260326T154357Z
LAST-MODIFIED:20260326T154357Z
UID:10002042-1782594000-1782603000@themarbelladirectory.com
SUMMARY:Haddaway and LayZee Live: 90s Mega Fiesta Málaga 2026
DESCRIPTION:Experience the 90s Mega Fiesta Live at Sala Paris 15\n\nPrepare to travel back to the ultimate decade of dance music. The 90s Mega Fiesta arrives in Málaga on Saturday\, June 27\, 2026. This massive event features two true Eurodance legends. They will perform their massive global hits at Sala Paris 15. First\, fans have a rare chance to hear the original voices. Moreover\, these are the authentic artists who shaped the nineties sound. This is not a tribute act. \nLegendary Performances by Haddaway and LayZee\nThe night features a powerful lineup led by Haddaway. He is the voice behind the world-famous hit What Is Love. This track remains a top dance anthem today. Furthermore\, LayZee joins him on stage. He is a founding member of the iconic group Mr. President. He will bring his energy to perform the summer smash Coco Jambo. Consequently\, these artists will recreate the magic of the Eurodance era. They promise a high-energy live show. \nA Must-Attend Event for Dance Music Fans\nSala Paris 15 offers the perfect backdrop for this celebration. The venue sits in the San Luis industrial area of Málaga. It provides professional sound quality and a spacious environment. This event attracts those who love to sing and dance. Since this concert features original artists\, tickets will sell fast. Therefore\, you should book your spot early. Doors open at 21:00. The musical journey starts immediately to ensure a full night of beats. \n\nEvent Schedule\n\nDate: Saturday\, June 27\, 2026\nDoors Open: 21:00 (9:00 PM)\nConcert Starts: 21:00 (9:00 PM)\nVenue: Sala Paris 15\, Málaga\nArtists: Haddaway and LayZee (Mr. President)\nTicket Price: From 52.00 EUR (Advance sale)
URL:https://themarbelladirectory.com/event/90s-mega-fiesta-haddaway-layzee-malaga-2026/
LOCATION:Sala París 15\, Calle la Orotava\, 25\, 27\, 29006 Málaga\, Spain\, Málaga\, Málaga\, 29006\, Spain
CATEGORIES:Concert,entertainment,Live Show,Music Events,Nightlife
ATTACH;FMTTYPE=image/jpeg:https://themarbelladirectory.com/wp-content/uploads/2026/03/90s-title.jpg
ORGANIZER;CN="Orion Producciones S.L.":MAILTO:electronica@paris15.es
END:VEVENT
BEGIN:VEVENT
DTSTART;TZID=Europe/Madrid:20260912T203000
DTEND;TZID=Europe/Madrid:20260912T233000
DTSTAMP:20260423T125724
CREATED:20260326T155052Z
LAST-MODIFIED:20260326T155052Z
UID:10002044-1789245000-1789255800@themarbelladirectory.com
SUMMARY:Emanero Málaga 2026: Official Guide to the Argentine Star's Debut
DESCRIPTION:Experience the Magic of Emanero Live in Málaga\nEmanero arrives in Málaga on Saturday\, September 12\, 2026. This highly anticipated performance takes place at the famous Sala Paris 15. Specifically\, the Argentine singer visits the city during his first-ever tour in Spain. He is currently one of the most popular figures in the urban music scene. Recently\, he collaborated with David Bisbal on a massive cumbia track. This explosive hit has solidified his international presence. For one night only\, fans can experience his unique sound live in Andalusia. \nThe King of the Runflas Arrives\nThe artist is famous for his creative Runflas project. This format invites legendary singers to explore his musical universe. Furthermore\, his songs blend rap\, pop\, and traditional cumbia rhythms. Consequently\, his live shows offer an emotional and energetic experience for every guest. His latest hit with David Bisbal and Luciano Pereyra has reached millions of global streams. Therefore\, demand for tickets is extremely high across the region. Do not miss this historic debut in the heart of Málaga. \nVenue and Event Information\nSala Paris 15 provides a professional atmosphere for this landmark event. The venue sits in the San Luis industrial area. Doors open promptly at 20:30\, followed by the main show at 21:30. Advance tickets are available starting from 35.00 EUR. Because this tour has already sold out major arenas in Argentina\, you should secure your entry soon. Join the local community for a night that celebrates the future of Latin music. Experience the passion and rhythm of one of Argentina’s greatest modern talents. \nEvent Details \n\nDate: Saturday\, September 12\, 2026\nDoors Open: 20:30 (8:30 PM)\nShow Starts: 21:30 (9:30 PM)\nVenue: Sala Paris 15\, Málaga\nTicket Price: From 35.00 EUR (plus fees)
URL:https://themarbelladirectory.com/event/emanero-malaga-sala-paris-15-2026/
LOCATION:Sala París 15\, Calle la Orotava\, 25\, 27\, 29006 Málaga\, Spain\, Málaga\, Málaga\, 29006\, Spain
CATEGORIES:Concert,entertainment,Live Show,Music Events
ATTACH;FMTTYPE=image/jpeg:https://themarbelladirectory.com/wp-content/uploads/2026/03/EMANERO_4-5-768x960-1.jpg
ORGANIZER;CN="Orion Producciones S.L.":MAILTO:electronica@paris15.es
END:VEVENT
BEGIN:VEVENT
DTSTART;TZID=Europe/Madrid:20260926T203000
DTEND;TZID=Europe/Madrid:20260926T233000
DTSTAMP:20260423T125724
CREATED:20260326T154729Z
LAST-MODIFIED:20260326T154729Z
UID:10002043-1790454600-1790465400@themarbelladirectory.com
SUMMARY:Raimundo Amador Live in Málaga: 2026 Concert Guide
DESCRIPTION:Experience the Magic of Raimundo Amador at Sala Paris 15\nThe legendary Spanish guitarist Raimundo Amador returns to Málaga on Saturday\, September 26\, 2026. This highly anticipated performance takes place at the iconic Sala Paris 15. Specifically\, the concert is part of his very special tour titled De Pata Negra a Raimundo. This musical journey covers his entire career. Moreover\, it celebrates one of the most influential and free spirits in Spanish music history. For one night only\, fans can witness a masterclass in flamenco fusion and rock. \nA Journey from Pata Negra to Solo Success\nRaimundo Amador is famous for connecting the past with the present. During this tour\, he recovers the essence of Pata Negra. This group was a key pillar in the history of flamenco fusion. Furthermore\, he combines those roots with the most representative songs from his solo career. The repertoire is full of classics and deep emotion. Consequently\, every note reflects the maturity and experience of a unique artist. He brings his guitar and a lifetime of live music to the stage without losing his soul. \nWitness a Masterpiece at Málaga’s Premier Venue\nSala Paris 15 provides the ultimate professional setting for this legendary artist. The venue sits in the San Luis industrial area of Málaga. It features high-quality sound systems that perfectly capture the nuance of his guitar. Doors open at 20:30. The main performance begins at 21:30. Because Raimundo Amador attracts a dedicated following\, tickets often sell out fast. Therefore\, you should book your spot early to ensure entry. Join the local community for a night of authentic Spanish musical heritage. \nEvent Schedule \n\nDate: Saturday\, September 26\, 2026\nDoors Open: 20:30 (8:30 PM)\nConcert Starts: 21:30 (9:30 PM)\nVenue: Sala Paris 15\, Málaga\nTour Title: De Pata Negra a Raimundo\nTicket Price: 27.50 EUR (Advance sale)
URL:https://themarbelladirectory.com/event/raimundo-amador-malaga-concert-2026/
LOCATION:Sala París 15\, Calle la Orotava\, 25\, 27\, 29006 Málaga\, Spain\, Málaga\, Málaga\, 29006\, Spain
CATEGORIES:Concert,entertainment,Live Show,Music Events
ATTACH;FMTTYPE=image/png:https://themarbelladirectory.com/wp-content/uploads/2026/03/salaparis15_raimundoamador_1080x1350-768x960-1.png
ORGANIZER;CN="Orion Producciones S.L.":MAILTO:electronica@paris15.es
END:VEVENT
BEGIN:VEVENT
DTSTART;TZID=Europe/Madrid:20261003T203000
DTEND;TZID=Europe/Madrid:20261003T233000
DTSTAMP:20260423T125724
CREATED:20260326T155811Z
LAST-MODIFIED:20260326T155811Z
UID:10002045-1791059400-1791070200@themarbelladirectory.com
SUMMARY:Robot Rock Alive Málaga 2026: Daft Punk Tribute Guide
DESCRIPTION:Experience the Magic of Daft Punk with Robot Rock Alive in Málaga\nThe legendary sounds of Daft Punk return to Málaga on Saturday\, October 3\, 2026. This incredible tribute event features the acclaimed duo Robot Rock Alive. Specifically\, the show takes place at the famous Sala Paris 15. The performance meticulously reproduces the iconic Alive 2007 world tour. Consequently\, fans will experience the legendary pyramid stage in a modern setting. This two-hour spectacle brings the most beloved dance floor hits to life with high energy and professional precision. \nA High-Tech Recreation of the Alive 2007 Tour\nRobot Rock Alive focuses on an extreme level of sonic detail. First\, the duo replicates the specific live sound of the original French duo. They use modern software and high-end hardware synthesizers to achieve this accuracy. Moreover\, a brand-new audiovisual show accompanies the music. This production utilizes cutting-edge technology to create a truly immersive environment. Therefore\, the audience can relive the magic of the robots as if it were the original tour. \nWitness the Spectacle at Sala Paris 15\nSala Paris 15 provides the perfect professional backdrop for this electronic journey. The venue is located in the San Luis industrial area of Málaga. It offers top-tier acoustics and a spacious dance floor for all attendees. Doors open at 20:30. The main performance begins at 21:30. Because this tribute show is highly popular across Spain\, tickets often sell out fast. Therefore\, you should book your entry in advance to secure your spot. Join the local community for an unforgettable night of electronic music history. \nEvent Schedule \n\nDate: Saturday\, October 3\, 2026\nDoors Open: 20:30 (8:30 PM)\nShow Starts: 21:30 (9:30 PM)\nVenue: Sala Paris 15\, Málaga\nDuration: Approximately 2 hours\nPrice: Advance tickets from 20.00 EUR (plus fees)
URL:https://themarbelladirectory.com/event/robot-rock-alive-daft-punk-tribute-malaga-2026/
LOCATION:Sala París 15\, Calle la Orotava\, 25\, 27\, 29006 Málaga\, Spain\, Málaga\, Málaga\, 29006\, Spain
CATEGORIES:entertainment,Live Show,Music Events,Nightlife
ATTACH;FMTTYPE=image/png:https://themarbelladirectory.com/wp-content/uploads/2026/03/IG-RRA-PARIS_MALAGA-768x960-1.png
ORGANIZER;CN="Orion Producciones S.L.":MAILTO:electronica@paris15.es
END:VEVENT
END:VCALENDAR