BEGIN:VCALENDAR
VERSION:2.0
PRODID:-//The Marbella Directory - ECPv6.15.18//NONSGML v1.0//EN
CALSCALE:GREGORIAN
METHOD:PUBLISH
X-WR-CALNAME:The Marbella Directory
X-ORIGINAL-URL:https://themarbelladirectory.com
X-WR-CALDESC:Events for The Marbella Directory
REFRESH-INTERVAL;VALUE=DURATION:PT1H
X-Robots-Tag:noindex
X-PUBLISHED-TTL:PT1H
BEGIN:VTIMEZONE
TZID:Europe/Madrid
BEGIN:DAYLIGHT
TZOFFSETFROM:+0100
TZOFFSETTO:+0200
TZNAME:CEST
DTSTART:20250330T010000
END:DAYLIGHT
BEGIN:STANDARD
TZOFFSETFROM:+0200
TZOFFSETTO:+0100
TZNAME:CET
DTSTART:20251026T010000
END:STANDARD
BEGIN:DAYLIGHT
TZOFFSETFROM:+0100
TZOFFSETTO:+0200
TZNAME:CEST
DTSTART:20260329T010000
END:DAYLIGHT
BEGIN:STANDARD
TZOFFSETFROM:+0200
TZOFFSETTO:+0100
TZNAME:CET
DTSTART:20261025T010000
END:STANDARD
BEGIN:DAYLIGHT
TZOFFSETFROM:+0100
TZOFFSETTO:+0200
TZNAME:CEST
DTSTART:20270328T010000
END:DAYLIGHT
BEGIN:STANDARD
TZOFFSETFROM:+0200
TZOFFSETTO:+0100
TZNAME:CET
DTSTART:20271031T010000
END:STANDARD
END:VTIMEZONE
BEGIN:VEVENT
DTSTART;TZID=Europe/Madrid:20260427T200000
DTEND;TZID=Europe/Madrid:20260427T210000
DTSTAMP:20260422T085838
CREATED:20251227T050713Z
LAST-MODIFIED:20251227T050713Z
UID:10001528-1777320000-1777323600@themarbelladirectory.com
SUMMARY:La Verdad
DESCRIPTION:La Verdad: A Gourmet Menu of Deception at Teatro Cervantes\nTreat yourself to a brilliant “holiday menu” of wit and irony this spring in Málaga. The 43rd Theater Festival presents La Verdad (The Truth)\, a sharp-witted comedy by Florian Zeller\, the most performed living French playwright. Produced by a powerhouse collective including Barco Pirata and Producciones Come y Calla\, this show transforms the Teatro Cervantes into a destination for world-class satire. On April 27 and 28\, 2026\, audiences can savor a masterclass in comedic timing and psychological games. \nA Recipe for Infidelity and Irony\nThe story follows Miguel\, a compulsive liar who lives in a world of deception. Ironically\, his friends and family also hide the truth from him. When his wife\, Laura\, begins to suspect his infidelity\, Miguel tries to solve everything with even more lies. He eventually convinces his lover that deception is the only way to preserve love and marriage. However\, the play leaves us with a haunting question: does Miguel truly know the “truth” of his own life?. \nStellar Performances and Direction\nPopular comedian and actor Joaquín Reyes stars in this intriguing game of manipulation. He leads a talented cast including Natalie Pinot\, Raúl Jiménez\, and Alicia Rubio. Director Juan Carlos Fisher returns to Zeller’s work\, following his success with The Father and The Mother\, to ensure a dynamic and fast-paced performance. Consequently\, La Verdad offers an enticing “special menu” of laughter and deep reflection for every theater lover visiting Málaga. \nIn short\, do not miss this chance to see how four characters twist the truth to their convenience. Secure your tickets today for a night of theater that is as delicious as it is deceptive. \n\nEvent Highlights\n\nDates: Monday\, April 27 and Tuesday\, April 28\, 2026.\nTime: 8:00 PM (20.00 h).\nTicket Prices: €36 (Zone A)\, €27 (Zone B)\, €20 (Zone C)\, and €12 (Zone D).
URL:https://themarbelladirectory.com/event/la-verdad-florian-zeller-teatro-cervantes-malaga-2026/2026-04-27/
LOCATION:Teatro Cervantes\, Calle Ramos Marín\, s/n\, Málaga\, Málaga\, 29012
CATEGORIES:entertainment,Live Performance,Live Show,Theater & Arts
ATTACH;FMTTYPE=image/png:https://themarbelladirectory.com/wp-content/uploads/2025/12/277ca338ce129cf729095dd9ea6540d0.png
ORGANIZER;CN="Teatro Cervantes de M%C3%A1laga":MAILTO:info@teatrocervantes.es
END:VEVENT
BEGIN:VEVENT
DTSTART;TZID=Europe/Madrid:20260428T200000
DTEND;TZID=Europe/Madrid:20260428T210000
DTSTAMP:20260422T085838
CREATED:20251227T050713Z
LAST-MODIFIED:20251227T050713Z
UID:10001529-1777406400-1777410000@themarbelladirectory.com
SUMMARY:La Verdad
DESCRIPTION:La Verdad: A Gourmet Menu of Deception at Teatro Cervantes\nTreat yourself to a brilliant “holiday menu” of wit and irony this spring in Málaga. The 43rd Theater Festival presents La Verdad (The Truth)\, a sharp-witted comedy by Florian Zeller\, the most performed living French playwright. Produced by a powerhouse collective including Barco Pirata and Producciones Come y Calla\, this show transforms the Teatro Cervantes into a destination for world-class satire. On April 27 and 28\, 2026\, audiences can savor a masterclass in comedic timing and psychological games. \nA Recipe for Infidelity and Irony\nThe story follows Miguel\, a compulsive liar who lives in a world of deception. Ironically\, his friends and family also hide the truth from him. When his wife\, Laura\, begins to suspect his infidelity\, Miguel tries to solve everything with even more lies. He eventually convinces his lover that deception is the only way to preserve love and marriage. However\, the play leaves us with a haunting question: does Miguel truly know the “truth” of his own life?. \nStellar Performances and Direction\nPopular comedian and actor Joaquín Reyes stars in this intriguing game of manipulation. He leads a talented cast including Natalie Pinot\, Raúl Jiménez\, and Alicia Rubio. Director Juan Carlos Fisher returns to Zeller’s work\, following his success with The Father and The Mother\, to ensure a dynamic and fast-paced performance. Consequently\, La Verdad offers an enticing “special menu” of laughter and deep reflection for every theater lover visiting Málaga. \nIn short\, do not miss this chance to see how four characters twist the truth to their convenience. Secure your tickets today for a night of theater that is as delicious as it is deceptive. \n\nEvent Highlights\n\nDates: Monday\, April 27 and Tuesday\, April 28\, 2026.\nTime: 8:00 PM (20.00 h).\nTicket Prices: €36 (Zone A)\, €27 (Zone B)\, €20 (Zone C)\, and €12 (Zone D).
URL:https://themarbelladirectory.com/event/la-verdad-florian-zeller-teatro-cervantes-malaga-2026/2026-04-28/
LOCATION:Teatro Cervantes\, Calle Ramos Marín\, s/n\, Málaga\, Málaga\, 29012
CATEGORIES:entertainment,Live Performance,Live Show,Theater & Arts
ATTACH;FMTTYPE=image/png:https://themarbelladirectory.com/wp-content/uploads/2025/12/277ca338ce129cf729095dd9ea6540d0.png
ORGANIZER;CN="Teatro Cervantes de M%C3%A1laga":MAILTO:info@teatrocervantes.es
END:VEVENT
BEGIN:VEVENT
DTSTART;TZID=Europe/Madrid:20260429T200000
DTEND;TZID=Europe/Madrid:20260429T213000
DTSTAMP:20260422T085838
CREATED:20251227T051414Z
LAST-MODIFIED:20251227T051414Z
UID:10001530-1777492800-1777498200@themarbelladirectory.com
SUMMARY:LA ÓPERA DE LOS TRES CENTAVOS
DESCRIPTION:La ópera de los tres centavos: A Bold Artistic “Menu” at Teatro Cervantes\nImmerse yourself in a world of dark satire and social critique this spring in Málaga. As a premier event of the 43rd Theater Festival\, the powerhouse collaboration of Barco Pirata\, Unahoramenos Producciones\, and Teatro Pérez Galdós presents La ópera de los tres centavos. On Wednesday\, April 29\, 2026\, the Teatro Cervantes serves an extraordinary “special menu” of musical parody and fierce anti-capitalist commentary. \nA Critical Feast for the Modern Soul\nOriginally premiering in Berlin in 1928\, Bertolt Brecht and Kurt Weill created this three-act masterpiece to expose the raw machinery of organized crime and economic disparity. The narrative acts as a scathing critique of power\, misery\, and the darker side of human ambition. Furthermore\, this updated version of John Gay’s The Beggar’s Opera remains strikingly relevant today\, examining the “organized crime” of economic systems. \nAn Ensemble of Extraordinary Talent\nUnder the direction of Mario Vega\, the production features a stellar cast led by the acclaimed Coque Malla\, who also contributes live guitar and banjo. The “menu” is further enhanced by a diverse group of musicians playing everything from the harmonium and celesta to the saxophone and trombone. Consequently\, this performance is not just a play; it is a full sensory experience that blends live music with a narrative that “bites”. \nIn short\, do not miss this chance to witness a landmark of 20th-century theater in the heart of Málaga. Secure your tickets now for an evening of entertainment that is as thought-provoking as it is thrilling. \n\nEvent Highlights\n\nDate: Wednesday\, April 29\, 2026.\nTime: 8:00 PM (20.00 h).\nTicket Prices: €45 (Zone A)\, €33 (Zone B)\, €25 (Zone C)\, and €15 (Zone D).
URL:https://themarbelladirectory.com/event/the-threepenny-opera-teatro-cervantes-malaga-2026/
LOCATION:Teatro Cervantes\, Calle Ramos Marín\, s/n\, Málaga\, Málaga\, 29012
CATEGORIES:entertainment,Live Performance,Theater & Arts
ATTACH;FMTTYPE=image/png:https://themarbelladirectory.com/wp-content/uploads/2025/12/92aec528027d64b9172302a3d671b195.png
ORGANIZER;CN="Teatro Cervantes de M%C3%A1laga":MAILTO:info@teatrocervantes.es
END:VEVENT
BEGIN:VEVENT
DTSTART;TZID=Europe/Madrid:20260522T193000
DTEND;TZID=Europe/Madrid:20260522T220000
DTSTAMP:20260422T085838
CREATED:20251222T033227Z
LAST-MODIFIED:20251222T033227Z
UID:10001493-1779478200-1779487200@themarbelladirectory.com
SUMMARY:LA FILLE DU RÉGIMENT
DESCRIPTION:Experience the Brilliance of Bel Canto: La Fille du Régiment in Málaga\nPrepare for a night of laughter and vocal mastery at Teatro Cervantes. As a highlight of the XXXVII Lyric Season\, the theater presents Gaetano Donizetti’s beloved comic opera\, La Fille du Régiment. This vibrant production brings a touch of Napoleonic history and French charm to the heart of Málaga. \nA Heartwarming Tale of Love and Loyalty\nThe story takes place in the Swiss Tyrol during the Napoleonic Wars. It follows Marie\, a spirited orphan adopted by a French regiment. Marie falls deeply in love with Tonio\, a young local who saved her life. To marry his beloved\, Tonio takes the bold step of enlisting in the army. However\, a sudden revelation about Marie’s noble origins threatens to tear the lovers apart. Ultimately\, the marquesa de Berkenfield grants her blessing\, leading to a joyful and triumphant conclusion. \nScaling the “Everest of Bel Canto”\nDonizetti’s score remains famous for its incredible vocal challenges. For example\, the tenor aria “Ah! Mes amis quel jour de fête” features nine high Cs. Critics often call this demanding sequence the “Everest of Bel Canto”. Furthermore\, the opera perfectly balances spoken dialogue with accessible\, uplifting music. It combines romantic intrigue with social satire and patriotic enthusiasm. \nWorld-Class Artistic Talent\nThis production features a stellar collaboration between Teatro Cervantes de Málaga and Teatro Villamarta de Jerez. Under the baton of Salvador Vázquez\, the Málaga Philharmonic Orchestra and the Teatro Cervantes Choir bring the masterpiece to life. Javier Hernández provides the scenic direction\, while renowned soloists Rocío Pérez and Juan de Dios Mateos lead the cast. \nIn short\, do not miss this chance to witness one of the most entertaining titles in the operatic repertoire. Secure your tickets today for an evening of technical brilliance and pure joy. \n\nEvent Highlights\n\nDates: Friday\, May 22 and Sunday\, May 24\, 2026.\nTime: 7:30 PM (May 22) and 7:00 PM (May 24).\nTicket Prices: €120 (Zone A)\, €90 (Zone B)\, €66 (Zone C)\, and €28 (Zone D).\nDuration: Typically 2 hours and 15 minutes (including intermission).
URL:https://themarbelladirectory.com/event/la-fille-du-regiment-teatro-cervantes-malaga-2026/2026-05-22/
LOCATION:Teatro Cervantes\, Calle Ramos Marín\, s/n\, Málaga\, Málaga\, 29012
CATEGORIES:entertainment,Live Performance,Live Show,Music Events
ATTACH;FMTTYPE=image/png:https://themarbelladirectory.com/wp-content/uploads/2025/12/c9fd9b9aa3fb1a9746ee14db2a7becb4.png
ORGANIZER;CN="Teatro Cervantes de M%C3%A1laga":MAILTO:info@teatrocervantes.es
END:VEVENT
BEGIN:VEVENT
DTSTART;TZID=Europe/Madrid:20260524T190000
DTEND;TZID=Europe/Madrid:20260524T213000
DTSTAMP:20260422T085838
CREATED:20251222T033227Z
LAST-MODIFIED:20251222T033227Z
UID:10001494-1779649200-1779658200@themarbelladirectory.com
SUMMARY:LA FILLE DU RÉGIMENT
DESCRIPTION:Experience the Brilliance of Bel Canto: La Fille du Régiment in Málaga\nPrepare for a night of laughter and vocal mastery at Teatro Cervantes. As a highlight of the XXXVII Lyric Season\, the theater presents Gaetano Donizetti’s beloved comic opera\, La Fille du Régiment. This vibrant production brings a touch of Napoleonic history and French charm to the heart of Málaga. \nA Heartwarming Tale of Love and Loyalty\nThe story takes place in the Swiss Tyrol during the Napoleonic Wars. It follows Marie\, a spirited orphan adopted by a French regiment. Marie falls deeply in love with Tonio\, a young local who saved her life. To marry his beloved\, Tonio takes the bold step of enlisting in the army. However\, a sudden revelation about Marie’s noble origins threatens to tear the lovers apart. Ultimately\, the marquesa de Berkenfield grants her blessing\, leading to a joyful and triumphant conclusion. \nScaling the “Everest of Bel Canto”\nDonizetti’s score remains famous for its incredible vocal challenges. For example\, the tenor aria “Ah! Mes amis quel jour de fête” features nine high Cs. Critics often call this demanding sequence the “Everest of Bel Canto”. Furthermore\, the opera perfectly balances spoken dialogue with accessible\, uplifting music. It combines romantic intrigue with social satire and patriotic enthusiasm. \nWorld-Class Artistic Talent\nThis production features a stellar collaboration between Teatro Cervantes de Málaga and Teatro Villamarta de Jerez. Under the baton of Salvador Vázquez\, the Málaga Philharmonic Orchestra and the Teatro Cervantes Choir bring the masterpiece to life. Javier Hernández provides the scenic direction\, while renowned soloists Rocío Pérez and Juan de Dios Mateos lead the cast. \nIn short\, do not miss this chance to witness one of the most entertaining titles in the operatic repertoire. Secure your tickets today for an evening of technical brilliance and pure joy. \n\nEvent Highlights\n\nDates: Friday\, May 22 and Sunday\, May 24\, 2026.\nTime: 7:30 PM (May 22) and 7:00 PM (May 24).\nTicket Prices: €120 (Zone A)\, €90 (Zone B)\, €66 (Zone C)\, and €28 (Zone D).\nDuration: Typically 2 hours and 15 minutes (including intermission).
URL:https://themarbelladirectory.com/event/la-fille-du-regiment-teatro-cervantes-malaga-2026/2026-05-24/
LOCATION:Teatro Cervantes\, Calle Ramos Marín\, s/n\, Málaga\, Málaga\, 29012
CATEGORIES:entertainment,Live Performance,Live Show,Music Events
ATTACH;FMTTYPE=image/png:https://themarbelladirectory.com/wp-content/uploads/2025/12/c9fd9b9aa3fb1a9746ee14db2a7becb4.png
ORGANIZER;CN="Teatro Cervantes de M%C3%A1laga":MAILTO:info@teatrocervantes.es
END:VEVENT
BEGIN:VEVENT
DTSTART;TZID=Europe/Madrid:20261010T210000
DTEND;TZID=Europe/Madrid:20261012T223000
DTSTAMP:20260422T085838
CREATED:20251221T094004Z
LAST-MODIFIED:20251221T094332Z
UID:10001467-1791666000-1791844200@themarbelladirectory.com
SUMMARY:OBK: The 35th Anniversary Vértigo Tour
DESCRIPTION:Spanish synth-pop pioneers OBK are set to electrify Málaga as part of their massive “Vértigo Tour\,” celebrating a remarkable 35-year career. On Saturday\, October 10\, 2026\, the iconic Teatro Cervantes will host Jordi Sánchez for a night of nostalgic hits and fresh electronic beats. \nSpanish synth-pop pioneers OBK will electrify Málaga during their massive “Vértigo Tour”. This event celebrates a remarkable 35-year career. On Saturday\, October 10\, 2026\, the iconic Teatro Cervantes hosts Jordi Sánchez for a night of nostalgic hits and fresh electronic beats. \nA Milestone Celebration: 35 Years of Techno-Pop\nOBK has remained the gold standard for Spanish electronic pop since their early 90s debut with Llámalo sueño. Legends like Depeche Mode and Yazoo heavily influenced their signature sound. Furthermore\, this tour marks an exciting new chapter for Jordi Sánchez. He continues the OBK legacy with the same energy that defined a whole generation. \nThe Vértigo Tour Experience\nFans in Málaga can look forward to a high-octane setlist. For example\, the performance will feature: \n\nClassic Anthems: Experience iconic tracks that dominated the charts for decades.\nNew Material: Enjoy songs from their upcoming album\, such as the hit single “Maldita mujer”.\nHistoric Venue: The majestic Teatro Cervantes provides an intimate yet powerful atmosphere for this milestone.\n\nTicket Information\nConsequently\, this concert offers an accessible way to witness Spanish music history. Fans should act fast because the Vértigo Tour travels across 40 cities. The tour eventually culminates in massive shows in Barcelona and Madrid. Purchase your tickets now! \nIn short\, do not miss this chance to celebrate three and a half decades of OBK in the heart of Málaga. \nPurchase now!
URL:https://themarbelladirectory.com/event/obk-the-vertigo-tour-2026/
LOCATION:Teatro Cervantes\, Calle Ramos Marín\, s/n\, Málaga\, Málaga\, 29012
CATEGORIES:Activity,entertainment,Live Show,Music Events
ATTACH;FMTTYPE=image/webp:https://themarbelladirectory.com/wp-content/uploads/2025/12/OBK-k3f-U240217274206kRB-1200x840@Diario-Sur.webp
ORGANIZER;CN="Teatro Cervantes de M%C3%A1laga":MAILTO:info@teatrocervantes.es
END:VEVENT
END:VCALENDAR