BEGIN:VCALENDAR
VERSION:2.0
PRODID:-//The Marbella Directory - ECPv6.15.18//NONSGML v1.0//EN
CALSCALE:GREGORIAN
METHOD:PUBLISH
X-ORIGINAL-URL:https://themarbelladirectory.com
X-WR-CALDESC:Events for The Marbella Directory
REFRESH-INTERVAL;VALUE=DURATION:PT1H
X-Robots-Tag:noindex
X-PUBLISHED-TTL:PT1H
BEGIN:VTIMEZONE
TZID:Europe/Madrid
BEGIN:DAYLIGHT
TZOFFSETFROM:+0100
TZOFFSETTO:+0200
TZNAME:CEST
DTSTART:20250330T010000
END:DAYLIGHT
BEGIN:STANDARD
TZOFFSETFROM:+0200
TZOFFSETTO:+0100
TZNAME:CET
DTSTART:20251026T010000
END:STANDARD
BEGIN:DAYLIGHT
TZOFFSETFROM:+0100
TZOFFSETTO:+0200
TZNAME:CEST
DTSTART:20260329T010000
END:DAYLIGHT
BEGIN:STANDARD
TZOFFSETFROM:+0200
TZOFFSETTO:+0100
TZNAME:CET
DTSTART:20261025T010000
END:STANDARD
BEGIN:DAYLIGHT
TZOFFSETFROM:+0100
TZOFFSETTO:+0200
TZNAME:CEST
DTSTART:20270328T010000
END:DAYLIGHT
BEGIN:STANDARD
TZOFFSETFROM:+0200
TZOFFSETTO:+0100
TZNAME:CET
DTSTART:20271031T010000
END:STANDARD
END:VTIMEZONE
BEGIN:VEVENT
DTSTART;VALUE=DATE:20260304
DTEND;VALUE=DATE:20260307
DTSTAMP:20260421T093327
CREATED:20260301T151509Z
LAST-MODIFIED:20260301T151509Z
UID:10001944-1772582400-1772841599@themarbelladirectory.com
SUMMARY:Reinicia Tu Negocio Málaga 2026
DESCRIPTION:Reinicia Tu Negocio: Transform Your Business Strategy in Málaga\nThe intensive training experience Reinicia Tu Negocio (Restart Your Business) arrives in Málaga from Wednesday\, March 4\, to Friday\, March 6\, 2026. This highly anticipated event at the Palacio de Ferias y Congresos de Málaga (FYCMA) targets freelancers and small-to-medium enterprises (SMEs). Specifically\, the program assists those who feel their business has stagnated or is failing to deliver expected results. It serves as a strategic turning point for entrepreneurs seeking to move from confusion to absolute clarity. \nA Blueprint for Professional Reinvention and Growth\nReinicia Tu Negocio offers an experiential environment where participants review their core mindset and business models. During the three-day session\, attendees identify key obstacles and common mistakes that hinder progress. Furthermore\, the event provides practical tools to help leaders regain focus and make decisions with conviction. Consequently\, business owners walk away with a realistic plan to return to a path of sustainable growth. The curriculum emphasizes a shift from professional fatigue to high-level motivation driven by action. \nExperience the Event at FYCMA\nThe venue\, FYCMA\, provides a professional and modern setting ideal for high-impact business training. Located on Avenida Ortega y Gasset\, it stands as the premier destination for corporate events in the region. Because this is a high-demand training session led by industry experts\, securing your registration in advance is essential. Additionally\, the venue offers the necessary infrastructure to facilitate deep networking and collaborative learning. Therefore\, join other driven professionals in Málaga to build a business that works for you. \nEvent Schedule \n\nStart Date: Wednesday\, March 4\, 2026\nEnd Date: Friday\, March 6\, 2026\nVenue: FYCMA – Palacio de Ferias y Congresos de Málaga\nTarget Audience: Freelancers and SMEs
URL:https://themarbelladirectory.com/event/reinicia-tu-negocio-business-event-malaga-2026/
LOCATION:Palacio de Ferias y Congresos de Málaga (FYCMA)\, Av. Ortega y Gasset\, 201\, Málaga\, Málaga\, 29006\, Spain
CATEGORIES:Business,Business & Networking,Conference
ATTACH;FMTTYPE=image/jpeg:https://themarbelladirectory.com/wp-content/uploads/2026/03/reinicia-tu-negocio-500.jpg
ORGANIZER;CN="LEVEL UP":MAILTO:info@levelupdesarrollo.com
END:VEVENT
BEGIN:VEVENT
DTSTART;TZID=Europe/Madrid:20260323T190000
DTEND;TZID=Europe/Madrid:20260323T213000
DTSTAMP:20260421T093327
CREATED:20260228T024040Z
LAST-MODIFIED:20260228T024040Z
UID:10001937-1774292400-1774301400@themarbelladirectory.com
SUMMARY:Emilio Duró "No Vale Rendirse" Live in Málaga
DESCRIPTION:Emilio Duró Brings “Expert Minds” to Málaga\nThe renowned economist and motivational speaker Emilio Duró performs in Málaga on Monday\, March 23\, 2026. This highly anticipated event at the Málaga Trade Fair and Congress Centre (FYCMA) features his acclaimed talk\, No vale rendirse (Don’t give up). Specifically\, this session offers a profound perspective on resilience and personal growth. Emilio Duró is widely recognized for his work as a consultant and trainer for leading companies\, bringing over 30 years of expertise to the stage. \nA Transformative Perspective on Life and Resilience\nEmilio Duró holds degrees in Economics from the Autonomous University of Barcelona and ESADE Business School. His talk focuses on the powerful realization that we have two lives\, and the second one begins when we realize we have lost the first. Furthermore\, he challenges the audience not to seek constant happiness but to embrace perseverance and grit. Consequently\, the evening provides a unique opportunity for attendees of all ages to gain tools for professional and personal reinvention. \nExperience the Event at FYCMA\nThe venue\, FYCMA – Palacio de Ferias y Congresos de Málaga\, provides a professional and spacious setting ideal for a major lecture of this scale. Located on Avenida Ortega y Gasset\, it stands as a premier destination for high-impact cultural and educational gatherings in Andalusia. Because this is a high-demand event featuring one of the most influential figures in motivation and business consulting\, securing your admission in advance is highly recommended. Therefore\, join the crowd for an unforgettable evening of insight and energy in the heart of Málaga. \nEvent Schedule \n\nDate: Monday\, March 23\, 2026\nTime: 19:00 (7:00 PM)\nVenue: FYCMA – Palacio de Ferias y Congresos de Málaga\nCategory: Personal Motivation and Self-Knowledge
URL:https://themarbelladirectory.com/event/emilio-duro-expert-minds-malaga-2026/
LOCATION:Palacio de Ferias y Congresos de Málaga (FYCMA)\, Av. Ortega y Gasset\, 201\, Málaga\, Málaga\, 29006\, Spain
CATEGORIES:Activity,Business,Business & Networking,Congress
ATTACH;FMTTYPE=image/jpeg:https://themarbelladirectory.com/wp-content/uploads/2026/02/emilio-duro-2303-500.jpg
ORGANIZER;CN="Mentes Expertas Formaci%C3%B3n%2C S.L.":MAILTO:info@mentesexpertas.com
END:VEVENT
BEGIN:VEVENT
DTSTART;VALUE=DATE:20260324
DTEND;VALUE=DATE:20260326
DTSTAMP:20260421T093327
CREATED:20260228T022649Z
LAST-MODIFIED:20260228T022649Z
UID:10001936-1774310400-1774483199@themarbelladirectory.com
SUMMARY:5th Andalusian Cybersecurity Congress
DESCRIPTION:Málaga Hosts the 5th Andalusian Cybersecurity Congress 2026\nThe 5th Andalusian Cybersecurity Congress arrives in Málaga from Tuesday\, March 24\, to Wednesday\, March 25\, 2026. This premier event at the Palacio de Ferias y Congresos de Málaga (FYCMA) centers on the vital theme Secure Territories\, Connected Future. Cybersecurity is now essential for ensuring organizational resilience\, business competitiveness\, and digital trust. Specifically\, this edition serves as a strategic meeting point for specialists\, startups\, and public administrations. \nA Hub for Innovation and Digital Defense\nThe congress has established itself as a leading event in the sector. It brings together over 3\,000 professionals and specialists to address the present and future of digital security. The program features more than 23 specialized presentations\, 9 debate tables\, and 11 practical workshops. Furthermore\, attendees can explore a 4\,000 m² exhibition area where top companies present their latest innovations. Therefore\, the event offers a unique opportunity to strengthen professional connections and identify the most disruptive advances in the field. \nExperience the Event at FYCMA\nThe venue\, FYCMA\, provides the specialized infrastructure necessary for large-scale international congresses. Located in the heart of Málaga\, it is strategically connected to the city via the urban bus network and commuter rail. Because this is the most significant cybersecurity gathering in Southern Spain\, early participation is highly encouraged. Consequently\, attendees will be immersed in a vibrant atmosphere focused on collaboration and knowledge exchange. \nEvent Schedule \n\nDate: Tuesday\, March 24 – Wednesday\, March 25\, 2026\nTime: Reception starts at 09:00 (9:00 AM)\nVenue: Palacio de Ferias y Congresos de Málaga (FYCMA)\nTheme: Secure Territories\, Connected Future
URL:https://themarbelladirectory.com/event/5th-andalusian-cybersecurity-congress-malaga-2026/
LOCATION:Palacio de Ferias y Congresos de Málaga (FYCMA)\, Av. Ortega y Gasset\, 201\, Málaga\, Málaga\, 29006\, Spain
CATEGORIES:Business,Business & Networking,Congress,entertainment,Exhibition,Live Performance,Live Show,Professional fairs
ATTACH;FMTTYPE=image/png:https://themarbelladirectory.com/wp-content/uploads/2026/02/v-congreso-ciberseguridad-andalucia-500.png
ORGANIZER;CN="Agencia Digital de Andaluc%C3%ADa":MAILTO:congresociberseguridad@juntadeandalucia.es
END:VEVENT
END:VCALENDAR