BEGIN:VCALENDAR
VERSION:2.0
PRODID:-//The Marbella Directory - ECPv6.15.18//NONSGML v1.0//EN
CALSCALE:GREGORIAN
METHOD:PUBLISH
X-WR-CALNAME:The Marbella Directory
X-ORIGINAL-URL:https://themarbelladirectory.com
X-WR-CALDESC:Events for The Marbella Directory
REFRESH-INTERVAL;VALUE=DURATION:PT1H
X-Robots-Tag:noindex
X-PUBLISHED-TTL:PT1H
BEGIN:VTIMEZONE
TZID:Europe/Madrid
BEGIN:DAYLIGHT
TZOFFSETFROM:+0100
TZOFFSETTO:+0200
TZNAME:CEST
DTSTART:20230326T010000
END:DAYLIGHT
BEGIN:STANDARD
TZOFFSETFROM:+0200
TZOFFSETTO:+0100
TZNAME:CET
DTSTART:20231029T010000
END:STANDARD
BEGIN:DAYLIGHT
TZOFFSETFROM:+0100
TZOFFSETTO:+0200
TZNAME:CEST
DTSTART:20240331T010000
END:DAYLIGHT
BEGIN:STANDARD
TZOFFSETFROM:+0200
TZOFFSETTO:+0100
TZNAME:CET
DTSTART:20241027T010000
END:STANDARD
BEGIN:DAYLIGHT
TZOFFSETFROM:+0100
TZOFFSETTO:+0200
TZNAME:CEST
DTSTART:20250330T010000
END:DAYLIGHT
BEGIN:STANDARD
TZOFFSETFROM:+0200
TZOFFSETTO:+0100
TZNAME:CET
DTSTART:20251026T010000
END:STANDARD
BEGIN:DAYLIGHT
TZOFFSETFROM:+0100
TZOFFSETTO:+0200
TZNAME:CEST
DTSTART:20260329T010000
END:DAYLIGHT
BEGIN:STANDARD
TZOFFSETFROM:+0200
TZOFFSETTO:+0100
TZNAME:CET
DTSTART:20261025T010000
END:STANDARD
BEGIN:DAYLIGHT
TZOFFSETFROM:+0100
TZOFFSETTO:+0200
TZNAME:CEST
DTSTART:20270328T010000
END:DAYLIGHT
BEGIN:STANDARD
TZOFFSETFROM:+0200
TZOFFSETTO:+0100
TZNAME:CET
DTSTART:20271031T010000
END:STANDARD
BEGIN:DAYLIGHT
TZOFFSETFROM:+0100
TZOFFSETTO:+0200
TZNAME:CEST
DTSTART:20280326T010000
END:DAYLIGHT
BEGIN:STANDARD
TZOFFSETFROM:+0200
TZOFFSETTO:+0100
TZNAME:CET
DTSTART:20281029T010000
END:STANDARD
BEGIN:DAYLIGHT
TZOFFSETFROM:+0100
TZOFFSETTO:+0200
TZNAME:CEST
DTSTART:20290325T010000
END:DAYLIGHT
BEGIN:STANDARD
TZOFFSETFROM:+0200
TZOFFSETTO:+0100
TZNAME:CET
DTSTART:20291028T010000
END:STANDARD
END:VTIMEZONE
BEGIN:VEVENT
DTSTART;TZID=Europe/Madrid:20240319T100000
DTEND;TZID=Europe/Madrid:20280130T180000
DTSTAMP:20260423T115239
CREATED:20251211T085220Z
LAST-MODIFIED:20251211T085315Z
UID:10001436-1710842400-1832868000@themarbelladirectory.com
SUMMARY:Pablo Picasso: Structures of Invention
DESCRIPTION:Pablo Picasso: Structures of Invention – The Unity of a Life’s Work\nExperience a revolutionary view of the master’s career! The Museo Picasso Málaga has transformed its galleries to host Pablo Picasso: Structures of Invention. This permanent transformation is a project from the Museo Picasso Málaga. It features approximately 144 works of art. Furthermore\, these pieces reveal Picasso’s extraordinary ability to create innovative structures. \nThe Unity of a Life’s Work\nThis new installation challenges conventional interpretations of Picasso’s career. Curator Michael FitzGerald proposes a unified body of art. Therefore\, the installation avoids the traditional practice of dividing his work. \nTraditionally\, Picasso’s long career is fragmented in two main ways: \n\nStylistic Periods: These include the ‘Blue’ period\, ‘Cubism\,‘ or ‘Surrealism’.\nBiographical Periods: These are based on his relationships\, such as the period of Dora Maar or Jacqueline Roque.\n\nConversely\, the new display reconnects these different phases. FitzGerald states that Picasso’s creativity arose from two opposing inspirations: innovation and retrospection. Consequently\, the exhibition illustrates how he wove Cubism\, Classicism\, and Surrealism into one cohesive whole. \nNew Works and Thematic Jumps\nThis Picasso Structures of Invention approach involves the viewer in the artist’s creative process. Visitors now see relationships across his career by combining works from different decades in the same gallery. \n\nWorks Spanning Decades: The works span the period between 1895 and 1972.\nTechniques: The display combines painting\, sculpture\, ceramics\, drawing\, and graphic art.\nNew to Spain: The exhibition features several pieces new to Spain. For example\, these include the oils Paul (The Artist’s Son) (1922) and Head of a Woman (1928). The sculpture Woman leaning on her Elbow (1933) is also displayed.\n\nResearch and Focus Exhibitions\nA new feature includes five small ‘Focus Exhibitions’ within the permanent collection. Researchers from the Fundación Almine y Bernard Ruiz-Picasso (FABA) curate these sections. Specifically\, themes covered include the artist’s relationship with African sculpture and his plaster sculptures of the 1930s.
URL:https://themarbelladirectory.com/event/pablo-picasso-structures-of-invention/
LOCATION:Museo Picasso Málaga\, Palacio de Buenavista Calle San Agustín\, 8\, Málaga\, Málaga\, 29015\, Spain
CATEGORIES:Activity,Art,entertainment,Exhibition
ATTACH;FMTTYPE=image/jpeg:https://themarbelladirectory.com/wp-content/uploads/2025/12/large_Expo_Estructuras_Invencion_eb739f2131.jpg
ORGANIZER;CN="Museo Picasso M%C3%A1laga":MAILTO:info@mpicassom.org
END:VEVENT
BEGIN:VEVENT
DTSTART;TZID=Europe/Madrid:20260815T200000
DTEND;TZID=Europe/Madrid:20260815T233000
DTSTAMP:20260423T115239
CREATED:20260329T154114Z
LAST-MODIFIED:20260329T154114Z
UID:10002077-1786824000-1786836600@themarbelladirectory.com
SUMMARY:Omega 30th Anniversary Live at Starlite Marbella 2026
DESCRIPTION:Experience the Revolutionary Sound of Omega Live in Marbella\nThe historic musical project Omega returns to Marbella on Saturday\, August 15\, 2026\, for a special 30th Anniversary performance. This landmark event takes place at the world-renowned Starlite Occident festival. Specifically\, the show will be hosted in the Auditorio\, an open-air venue carved into the spectacular Nagüeles quarry. As one of the most revolutionary works in Spanish music history\, this performance revives the legacy of Enrique Morente in a night that blends tradition with avant-garde energy. \nA Masterpiece of Flamenco and Rock Fusion\nOmega is far more than a concert; it is a legendary project that broke the boundaries of traditional flamenco. Originally conceived by Enrique Morente\, the work masterfully connects “cante jondo” with the profound poetry of Federico García Lorca and the influential music of Leonard Cohen. This 30th Anniversary show offers a contemporary and electric dimension that remains as transgressive today as it was at its inception. It is a live experience where the intensity of the past meets the innovation of the present. \nLegendary Performers on the Starlite Stage\nThe performance features Lagartija Nick\, the band that was a fundamental part of the original album. They bring their experimental rock energy and raw sound to the stage\, keeping the transgressive spirit of the work alive. Joining them is Kiki Morente\, who provides a deeply emotional vocal bridge between his father’s legacy and the current generation. Together\, they transform the evening into a celebration of risk\, innovation\, and pure emotion under the Mediterranean stars. \nVenue and Access Information\nStarlite Occident is located in the Cantera de Nagüeles\, a historic natural landscape in Marbella that offers world-class acoustics. Doors for the event will open at 20:00\, allowing guests to enjoy the premium atmosphere and boutique services before the music begins. The main performance starts promptly at 22:00. Please note the venue’s policy regarding younger attendees. Specifically\, individuals under 18 years of age must leave the premises immediately after the concert concludes. We recommend arriving early to experience the full magic of this Mediterranean summer night. \nEvent Schedule \n\nDate: Saturday\, August 15\, 2026\nDoors Open: 20:00 (8:00 PM)\nConcert Starts: 22:00 (10:00 PM)\nVenue: Auditorio\, Starlite Occident\, Marbella\nAge Policy: Under 18s must exit after the performance\n\nTicket Purchase Link\nOfficial advance tickets for “Omega 30 Aniversario at Starlite Occident 2026” can be purchased through the authorized festival portal: https://starlitefestival.com/eventoconcierto/omega/
URL:https://themarbelladirectory.com/event/omega-30th-anniversary-starlite-marbella-2026/
LOCATION:Starlite Occident\, Calle Albinoni s/n\, Cantera de Nagüeles\, Marbella\, Málaga\, 29602\, Spain
CATEGORIES:Concert,entertainment,Live Show,Music Events,Nightlife
ATTACH;FMTTYPE=image/jpeg:https://themarbelladirectory.com/wp-content/uploads/2026/03/0815_Omega_StarliteMarbella26_NLGN.jpg
END:VEVENT
BEGIN:VEVENT
DTSTART;TZID=Europe/Madrid:20260815T213000
DTEND;TZID=Europe/Madrid:20260815T230000
DTSTAMP:20260423T115239
CREATED:20260108T034035Z
LAST-MODIFIED:20260108T034035Z
UID:10001815-1786829400-1786834800@themarbelladirectory.com
SUMMARY:Antonio Orozco Live at Marenostrum Fuengirola 2026
DESCRIPTION:Antonio Orozco Live at Marenostrum Fuengirola 2026\nGet ready for an unforgettable night on Saturday\, August 15\, 2026\, as the charismatic Antonio Orozco takes the Unicaja Stage. Known for his unmistakable voice and deeply sincere lyrics\, the Barcelona-born artist returns to Fuengirola to offer a soul-stirring journey through his greatest hits and latest works. \nFans can look forward to emotional renditions of legendary anthems like “Devuélveme la vida\,” “Estoy hecho de pedacitos de ti\,” and “Mi héroe”. This concert is more than just a musical performance; it is a raw and honest experience set against the stunning backdrop of the Mediterranean Sea and the historic Sohail Castle. With a mix of seated and standing areas\, the venue provides the perfect atmosphere to feel the overwhelming energy of Orozco’s live show under the summer stars. \nDoors open at 7:30 PM\, and the show begins at 9:30 PM. With tickets starting from €49.50\, this is a must-attend event for any lover of contemporary Spanish music.
URL:https://themarbelladirectory.com/event/antonio-orozco-live-at-marenostrum-fuengirola-2026/
LOCATION:Marenostrum Fuengirola – Escenario Fundación Unicaja\, Paseo Marítimo Rey de España
CATEGORIES:Concert,entertainment,Live Show,Music Events
ATTACH;FMTTYPE=image/jpeg:https://themarbelladirectory.com/wp-content/uploads/2026/01/AO_1080-x-1350.jpg
ORGANIZER;CN="L.A. Rock Entertainment S.L.":MAILTO:info@larock.com.es
END:VEVENT
END:VCALENDAR