BEGIN:VCALENDAR
VERSION:2.0
PRODID:-//The Marbella Directory - ECPv6.15.18//NONSGML v1.0//EN
CALSCALE:GREGORIAN
METHOD:PUBLISH
X-ORIGINAL-URL:https://themarbelladirectory.com
X-WR-CALDESC:Events for The Marbella Directory
REFRESH-INTERVAL;VALUE=DURATION:PT1H
X-Robots-Tag:noindex
X-PUBLISHED-TTL:PT1H
BEGIN:VTIMEZONE
TZID:Europe/Madrid
BEGIN:DAYLIGHT
TZOFFSETFROM:+0100
TZOFFSETTO:+0200
TZNAME:CEST
DTSTART:20240331T010000
END:DAYLIGHT
BEGIN:STANDARD
TZOFFSETFROM:+0200
TZOFFSETTO:+0100
TZNAME:CET
DTSTART:20241027T010000
END:STANDARD
BEGIN:DAYLIGHT
TZOFFSETFROM:+0100
TZOFFSETTO:+0200
TZNAME:CEST
DTSTART:20250330T010000
END:DAYLIGHT
BEGIN:STANDARD
TZOFFSETFROM:+0200
TZOFFSETTO:+0100
TZNAME:CET
DTSTART:20251026T010000
END:STANDARD
BEGIN:DAYLIGHT
TZOFFSETFROM:+0100
TZOFFSETTO:+0200
TZNAME:CEST
DTSTART:20260329T010000
END:DAYLIGHT
BEGIN:STANDARD
TZOFFSETFROM:+0200
TZOFFSETTO:+0100
TZNAME:CET
DTSTART:20261025T010000
END:STANDARD
END:VTIMEZONE
BEGIN:VEVENT
DTSTART;TZID=Europe/Madrid:20251213T190000
DTEND;TZID=Europe/Madrid:20251213T200000
DTSTAMP:20260425T194515
CREATED:20251126T043757Z
LAST-MODIFIED:20251126T043757Z
UID:10000588-1765652400-1765656000@themarbelladirectory.com
SUMMARY:Candlelight: Rings & Dragons
DESCRIPTION:Candlelight brings the magic of a live musical experience to incredible venues in Málaga. Get your tickets for this Candlelight: Rings and Dragons! \nGeneral Info\nVenue: Salón Real del Gran Hotel Miramar\, Málaga\nDate and time: choose the date and time you want directly in the ticket selector\nDuration: 60 minutes (doors open 45 minutes before\, no admission after the start)\nAge requirement: from 8 years old. Children under the age of 16 must be accompanied by an adult\nAccessibility: wheelchair accessible\nSeats are assigned upon arrival according to the type of ticket you have purchased \nCandlelight Program: Rings and Dragons \n\nMain Theme – Game of Thrones\nWinter is coming – Game of Thrones\nReign of the Targaryens – House of the Dragon\nLight Of The Seven – Game of Thrones\nFlaming Red Hair – The Lord of the Rings\nRivendelll – The Lord of the Rings\nGollum – The Lord of the Rings\nThe Grace of Undomiel – The Lord of the Rings\nThe Rains Of Castamere – Game of Thrones\nFire & Blood – Game of Thrones\nJon Snow – Game of Thrones\nThe Passing Of The Elves – The Lord of the Rings\nThe Caverns Of Isengard – The Lord of the Rings\nThe Sacrifice Of Faramir – The Lord of the Rings\nThe Lightning Of The Beacons – The Lord of the Rings\nSaruman The White – The Lord of the Rings\nThe Shire – The Lord of the Rings\n\nPerformers \n\nString Quartet – Melissando Quartet
URL:https://themarbelladirectory.com/event/candlelight-rings-dragons-game-of-thrones-lord-of-the-rings-malaga/2025-12-13/
LOCATION:Salón Real (Royal Hall) of the Gran Hotel Miramar\, Paseo Reding\, 22\, 24\, Málaga\, Málaga\, 29016
CATEGORIES:Concert,Live Show,Music Events
ATTACH;FMTTYPE=image/avif:https://themarbelladirectory.com/wp-content/uploads/2025/11/44be6702-3234-11ef-84a8-2ebf35a0e268.avif
END:VEVENT
END:VCALENDAR