BEGIN:VCALENDAR
VERSION:2.0
PRODID:-//The Marbella Directory - ECPv6.15.18//NONSGML v1.0//EN
CALSCALE:GREGORIAN
METHOD:PUBLISH
X-ORIGINAL-URL:https://themarbelladirectory.com
X-WR-CALDESC:Events for The Marbella Directory
REFRESH-INTERVAL;VALUE=DURATION:PT1H
X-Robots-Tag:noindex
X-PUBLISHED-TTL:PT1H
BEGIN:VTIMEZONE
TZID:Europe/Madrid
BEGIN:DAYLIGHT
TZOFFSETFROM:+0100
TZOFFSETTO:+0200
TZNAME:CEST
DTSTART:20250330T010000
END:DAYLIGHT
BEGIN:STANDARD
TZOFFSETFROM:+0200
TZOFFSETTO:+0100
TZNAME:CET
DTSTART:20251026T010000
END:STANDARD
BEGIN:DAYLIGHT
TZOFFSETFROM:+0100
TZOFFSETTO:+0200
TZNAME:CEST
DTSTART:20260329T010000
END:DAYLIGHT
BEGIN:STANDARD
TZOFFSETFROM:+0200
TZOFFSETTO:+0100
TZNAME:CET
DTSTART:20261025T010000
END:STANDARD
BEGIN:DAYLIGHT
TZOFFSETFROM:+0100
TZOFFSETTO:+0200
TZNAME:CEST
DTSTART:20270328T010000
END:DAYLIGHT
BEGIN:STANDARD
TZOFFSETFROM:+0200
TZOFFSETTO:+0100
TZNAME:CET
DTSTART:20271031T010000
END:STANDARD
END:VTIMEZONE
BEGIN:VEVENT
DTSTART;VALUE=DATE:20260219
DTEND;VALUE=DATE:20260301
DTSTAMP:20260420T154138
CREATED:20251227T062717Z
LAST-MODIFIED:20251227T062717Z
UID:10001539-1771459200-1772323199@themarbelladirectory.com
SUMMARY:Conserveras del tiempo: A Moving Tribute to Sisterhood
DESCRIPTION:Conserveras del tiempo: A Moving Tribute to Sisterhood at Teatro Echegaray\nExperience a profound theatrical “tasting” this season in Málaga. As a highlight of the Factoría Echegaray initiative\, the Teatro Echegaray presents Conserveras del tiempo. On select dates in February 2026\, audiences are invited to enjoy a “special menu” of historical drama and emotional connection. This production explores the resilience of women during a pivotal moment in Spanish history. \nLife Inside the Cannery\nThe story transports us to a tuna cannery in southern Spain in 1975. Four women begin another routine day filled with the scent of fish and the hum of machinery. However\, everything changes when a new girl arrives at the factory. As she learns the trade\, the personal stories of the workers begin to unfold. Consequently\, the women develop a powerful bond of sisterhood. Together\, they navigate personal challenges while Spain stands on the brink of its political transition. \nAward-Winning Local Production\nWritten and directed by Juan Fleta\, this play features a talented all-female cast. The production stars Inma Caballero\, Alejandra Cid\, Virginia DeMorata\, and Magda Salinas. Factoría Echegaray produced this work to celebrate local storytelling and professional excellence. Furthermore\, the theater offers a special 2×1 ticket promotion for all performances. In short\, this show provides a unique opportunity to witness high-caliber drama at an exceptional value. \n\nEvent Highlights\n\nDates: February 19\, 20\, 21\, 26\, 27\, and 28\, 2026.\nTime: All sessions begin at 8:00 PM (20.00 h).\nTicket Price: €15 (Single price).\nSpecial Offer: 2-for-1 tickets available for every function.
URL:https://themarbelladirectory.com/event/conserveras-del-tiempo-teatro-echegaray-malaga-2026/
LOCATION:Teatro Echegaray\, Calle Echegaray\, 6\, Málaga\, Málaga\, 29015\, Spain
CATEGORIES:entertainment,Live Performance,Live Show,Theater & Arts
ATTACH;FMTTYPE=image/png:https://themarbelladirectory.com/wp-content/uploads/2025/12/2c7165962efe7d8071627dbc6236999f.png
ORGANIZER;CN="Teatro Echegaray":MAILTO:info@teatroechegaray.es
END:VEVENT
BEGIN:VEVENT
DTSTART;TZID=Europe/Madrid:20260227T193000
DTEND;TZID=Europe/Madrid:20260227T210000
DTSTAMP:20260420T154138
CREATED:20251222T032400Z
LAST-MODIFIED:20251222T032400Z
UID:10001490-1772220600-1772226000@themarbelladirectory.com
SUMMARY:LA VERBENA DE LA PALOMA
DESCRIPTION:La Verbena de la Paloma: A Masterpiece of Spanish Lyric Theater in Málaga\nExperience the vibrant soul of Madrid this season at Teatro Cervantes. As a highlight of the XXXVII Lyric Season\, the theater presents a magnificent production of La Verbena de la Paloma. This “sainete lírico” by Tomás Bretón remains one of the most beloved gems of the Spanish repertoire. \nA Tale of Love\, Jealousy\, and Festivity\nThe story takes place on a scorching Madrid night on August 15th. It follows young Julián and his fiery love for Susana. Julián’s jealousy peaks when he discovers a new threat. The elderly apothecary\, Don Hilarión\, intends to escort Susana and her sister Casta to the local festival. Consequently\, a series of comedic entanglements ensues. The plot involves a colorful cast of characters. These include the tavern keeper\, the night watchman\, and the guards. Ultimately\, the young couple reconciles. The entire neighborhood then joins in the joy of the celebration. \nWorld-Class Artistic Production\nThis performance features a stellar collaboration. Teatro Cervantes de Málaga led the musical production. Meanwhile\, the prestigious Teatro de la Zarzuela de Madrid handled the scenic production. The Málaga Philharmonic Orchestra and the Teatro Cervantes Choir will bring the masterful score to life. Furthermore\, José María Moreno provides musical direction. Nuria Castejón leads the scenic direction and choreography. Together\, they perfectly balance folk traditions with high musical art. \nIn short\, do not miss this chance to see a production that has captivated audiences since 1894. Secure your tickets today for a night of orchestral beauty and technical brilliance. \n\nEvent Highlights\n\nDates: Friday\, February 27; Saturday\, February 28; and Sunday\, March 1\, 2026.\nTime: 7:30 PM (Feb 27 & 28); 6:00 PM (Mar 1).\nTicket Prices: €90 (Zone A)\, €67 (Zone B)\, €50 (Zone C)\, and €24 (Zone D).\nLanguage: Spanish.
URL:https://themarbelladirectory.com/event/la-verbena-de-la-paloma-teatro-cervantes-malaga-2026/2026-02-27/
LOCATION:Teatro Cervantes\, Calle Ramos Marín\, s/n\, Málaga\, Málaga\, 29012
CATEGORIES:entertainment,Live Performance,Live Show,Music Events
ATTACH;FMTTYPE=image/png:https://themarbelladirectory.com/wp-content/uploads/2025/12/f6a9e293f62c7baf28943396b6366601.png
ORGANIZER;CN="Teatro Cervantes de M%C3%A1laga":MAILTO:info@teatrocervantes.es
END:VEVENT
BEGIN:VEVENT
DTSTART;TZID=Europe/Madrid:20260227T200000
DTEND;TZID=Europe/Madrid:20260227T233000
DTSTAMP:20260420T154138
CREATED:20260123T063104Z
LAST-MODIFIED:20260123T063104Z
UID:10001884-1772222400-1772235000@themarbelladirectory.com
SUMMARY:Miguel Campello in Málaga 2026: The 25th Anniversary Tour
DESCRIPTION:Miguel Campello: 25 Years of Musical Stories in Málaga\nThe legendary voice of elbicho\, Miguel Campello\, is set to return to Málaga for a historic night of music. On Friday\, February 27\, 2026\, the artist will take the stage at the renowned Sala París 15 as part of his national tour\, “25 años de historias que cantar”. This milestone tour specifically celebrates over two decades of poetic lyrics and a unique fusion of flamenco\, rock\, and rumba. \nA New Chapter with “Con Todos Mis Respetos 2”\nDuring this highly anticipated performance\, Campello will present tracks from his latest album\, “Con Todos Mis Respetos 2”. This project features powerful covers of songs that have influenced his artistic journey over the years. However\, the show is not just about the new material. Fans can also look forward to hearing iconic hits from his time with elbicho and the most successful tracks from his solo career. Consequently\, the setlist serves as a comprehensive journey through his soul-stirring discography. \nAn Intimate Night at Sala París 15\nSala París 15 provides the perfect professional setting for Campello’s magnetic stage presence. Known for its exceptional acoustics and high-energy atmosphere\, the venue ensures an immersive experience for every attendee. Because this tour celebrates a quarter-century of music\, demand for tickets is extremely high. Therefore\, enthusiasts should secure their spot early to avoid missing out on this landmark cultural event in Andalusia. \nEvent Schedule \n\nDate: Friday\, February 27\, 2026.\nDoors Open: 20:00 (8:00 PM).\nConcert Starts: 21:00 (9:00 PM).\nVenue: Sala París 15\, Málaga.
URL:https://themarbelladirectory.com/event/miguel-campello-25-anniversary-tour-malaga-2026/
LOCATION:Sala París 15\, Calle la Orotava\, 25\, 27\, 29006 Málaga\, Spain\, Málaga\, Málaga\, 29006\, Spain
CATEGORIES:Concert,entertainment,Live Performance,Live Show,Music Events
ATTACH;FMTTYPE=image/jpeg:https://themarbelladirectory.com/wp-content/uploads/2026/01/campello-post-819x1024-1.jpg
ORGANIZER;CN="Orion Producciones S.L.":MAILTO:electronica@paris15.es
END:VEVENT
BEGIN:VEVENT
DTSTART;TZID=Europe/Madrid:20260227T233000
DTEND;TZID=Europe/Madrid:20260228T050000
DTSTAMP:20260420T154138
CREATED:20260222T080132Z
LAST-MODIFIED:20260222T080521Z
UID:10001925-1772235000-1772254800@themarbelladirectory.com
SUMMARY:Mr. Belt and Wezol Live in Málaga 2026: Official Concert Guide
DESCRIPTION:Mr. Belt and Wezol Bring High-Energy House Music to Málaga\nThe internationally acclaimed Dutch DJ duo Mr. Belt and Wezol performs in Málaga on Friday\, February 27\, 2026. This highly anticipated event at BRO Club marks a major stop for the duo as they bring their infectious house beats to the heart of the Costa del Sol. Specifically\, this performance serves as a highlight of the city’s electronic music calendar for 2026. Fans can expect a night that perfectly embodies the vibrant energy and creative spirit of modern dance music. \nA Global Sensation with Chart-Topping Hits\nWith over 9 million monthly listeners\, Mr. Belt and Wezol have firmly established themselves as leaders in the global electronic scene. They are widely recognized for their unique blend of house music\, featuring massive hits such as It is Not Right But It is Okay and Homeless. Furthermore\, their performances are celebrated for being full sensory experiences. They combine pulsating rhythms with captivating visuals to create a powerful atmosphere that resonates with dance music lovers worldwide. Therefore\, attendees can anticipate an unforgettable musical journey from start to finish. \nLate Night Grooves at BRO Club\nThe event takes place at BRO Club\, a premier destination for high-energy nightlife in Málaga. The performance kicks off at 23:45 (11:45 PM) and continues into the early hours\, concluding at 05:00 AM on Saturday morning. Because this is a free admission event\, it serves as a primary gathering point for the local electronic music community. However\, given the duo’s global popularity\, you should arrive early to secure your spot for this high-demand showcase. \nEvent Schedule \n\nDate: Friday\, February 27\, 2026\nTime: 23:45 – 05:00 (Feb 28)\nVenue: BRO Club\, Málaga\nAdmission: Free Entry
URL:https://themarbelladirectory.com/event/mr-belt-wezol-malaga-concert-2026/
LOCATION:BRO Club\, Calle Larios\, 5\, 29005 Málaga\, Spain\, Málaga\, Málaga\, 29005\, Spain
CATEGORIES:Charity,entertainment,Live Show,Music Events,Nightlife
ATTACH;FMTTYPE=image/avif:https://themarbelladirectory.com/wp-content/uploads/2026/02/poster_SbZf5ma.avif
END:VEVENT
END:VCALENDAR