BEGIN:VCALENDAR
VERSION:2.0
PRODID:-//The Marbella Directory - ECPv6.15.18//NONSGML v1.0//EN
CALSCALE:GREGORIAN
METHOD:PUBLISH
X-WR-CALNAME:The Marbella Directory
X-ORIGINAL-URL:https://themarbelladirectory.com
X-WR-CALDESC:Events for The Marbella Directory
REFRESH-INTERVAL;VALUE=DURATION:PT1H
X-Robots-Tag:noindex
X-PUBLISHED-TTL:PT1H
BEGIN:VTIMEZONE
TZID:Europe/Madrid
BEGIN:DAYLIGHT
TZOFFSETFROM:+0100
TZOFFSETTO:+0200
TZNAME:CEST
DTSTART:20250330T010000
END:DAYLIGHT
BEGIN:STANDARD
TZOFFSETFROM:+0200
TZOFFSETTO:+0100
TZNAME:CET
DTSTART:20251026T010000
END:STANDARD
BEGIN:DAYLIGHT
TZOFFSETFROM:+0100
TZOFFSETTO:+0200
TZNAME:CEST
DTSTART:20260329T010000
END:DAYLIGHT
BEGIN:STANDARD
TZOFFSETFROM:+0200
TZOFFSETTO:+0100
TZNAME:CET
DTSTART:20261025T010000
END:STANDARD
BEGIN:DAYLIGHT
TZOFFSETFROM:+0100
TZOFFSETTO:+0200
TZNAME:CEST
DTSTART:20270328T010000
END:DAYLIGHT
BEGIN:STANDARD
TZOFFSETFROM:+0200
TZOFFSETTO:+0100
TZNAME:CET
DTSTART:20271031T010000
END:STANDARD
END:VTIMEZONE
BEGIN:VEVENT
DTSTART;VALUE=DATE:20260219
DTEND;VALUE=DATE:20260301
DTSTAMP:20260422T113130
CREATED:20251227T062717Z
LAST-MODIFIED:20251227T062717Z
UID:10001539-1771459200-1772323199@themarbelladirectory.com
SUMMARY:Conserveras del tiempo: A Moving Tribute to Sisterhood
DESCRIPTION:Conserveras del tiempo: A Moving Tribute to Sisterhood at Teatro Echegaray\nExperience a profound theatrical “tasting” this season in Málaga. As a highlight of the Factoría Echegaray initiative\, the Teatro Echegaray presents Conserveras del tiempo. On select dates in February 2026\, audiences are invited to enjoy a “special menu” of historical drama and emotional connection. This production explores the resilience of women during a pivotal moment in Spanish history. \nLife Inside the Cannery\nThe story transports us to a tuna cannery in southern Spain in 1975. Four women begin another routine day filled with the scent of fish and the hum of machinery. However\, everything changes when a new girl arrives at the factory. As she learns the trade\, the personal stories of the workers begin to unfold. Consequently\, the women develop a powerful bond of sisterhood. Together\, they navigate personal challenges while Spain stands on the brink of its political transition. \nAward-Winning Local Production\nWritten and directed by Juan Fleta\, this play features a talented all-female cast. The production stars Inma Caballero\, Alejandra Cid\, Virginia DeMorata\, and Magda Salinas. Factoría Echegaray produced this work to celebrate local storytelling and professional excellence. Furthermore\, the theater offers a special 2×1 ticket promotion for all performances. In short\, this show provides a unique opportunity to witness high-caliber drama at an exceptional value. \n\nEvent Highlights\n\nDates: February 19\, 20\, 21\, 26\, 27\, and 28\, 2026.\nTime: All sessions begin at 8:00 PM (20.00 h).\nTicket Price: €15 (Single price).\nSpecial Offer: 2-for-1 tickets available for every function.
URL:https://themarbelladirectory.com/event/conserveras-del-tiempo-teatro-echegaray-malaga-2026/
LOCATION:Teatro Echegaray\, Calle Echegaray\, 6\, Málaga\, Málaga\, 29015\, Spain
CATEGORIES:entertainment,Live Performance,Live Show,Theater & Arts
ATTACH;FMTTYPE=image/png:https://themarbelladirectory.com/wp-content/uploads/2025/12/2c7165962efe7d8071627dbc6236999f.png
ORGANIZER;CN="Teatro Echegaray":MAILTO:info@teatroechegaray.es
END:VEVENT
BEGIN:VEVENT
DTSTART;TZID=Europe/Madrid:20260227T233000
DTEND;TZID=Europe/Madrid:20260228T050000
DTSTAMP:20260422T113130
CREATED:20260222T080132Z
LAST-MODIFIED:20260222T080521Z
UID:10001925-1772235000-1772254800@themarbelladirectory.com
SUMMARY:Mr. Belt and Wezol Live in Málaga 2026: Official Concert Guide
DESCRIPTION:Mr. Belt and Wezol Bring High-Energy House Music to Málaga\nThe internationally acclaimed Dutch DJ duo Mr. Belt and Wezol performs in Málaga on Friday\, February 27\, 2026. This highly anticipated event at BRO Club marks a major stop for the duo as they bring their infectious house beats to the heart of the Costa del Sol. Specifically\, this performance serves as a highlight of the city’s electronic music calendar for 2026. Fans can expect a night that perfectly embodies the vibrant energy and creative spirit of modern dance music. \nA Global Sensation with Chart-Topping Hits\nWith over 9 million monthly listeners\, Mr. Belt and Wezol have firmly established themselves as leaders in the global electronic scene. They are widely recognized for their unique blend of house music\, featuring massive hits such as It is Not Right But It is Okay and Homeless. Furthermore\, their performances are celebrated for being full sensory experiences. They combine pulsating rhythms with captivating visuals to create a powerful atmosphere that resonates with dance music lovers worldwide. Therefore\, attendees can anticipate an unforgettable musical journey from start to finish. \nLate Night Grooves at BRO Club\nThe event takes place at BRO Club\, a premier destination for high-energy nightlife in Málaga. The performance kicks off at 23:45 (11:45 PM) and continues into the early hours\, concluding at 05:00 AM on Saturday morning. Because this is a free admission event\, it serves as a primary gathering point for the local electronic music community. However\, given the duo’s global popularity\, you should arrive early to secure your spot for this high-demand showcase. \nEvent Schedule \n\nDate: Friday\, February 27\, 2026\nTime: 23:45 – 05:00 (Feb 28)\nVenue: BRO Club\, Málaga\nAdmission: Free Entry
URL:https://themarbelladirectory.com/event/mr-belt-wezol-malaga-concert-2026/
LOCATION:BRO Club\, Calle Larios\, 5\, 29005 Málaga\, Spain\, Málaga\, Málaga\, 29005\, Spain
CATEGORIES:Charity,entertainment,Live Show,Music Events,Nightlife
ATTACH;FMTTYPE=image/avif:https://themarbelladirectory.com/wp-content/uploads/2026/02/poster_SbZf5ma.avif
END:VEVENT
BEGIN:VEVENT
DTSTART;TZID=Europe/Madrid:20260228T000000
DTEND;TZID=Europe/Madrid:20260228T050000
DTSTAMP:20260422T113130
CREATED:20260123T062303Z
LAST-MODIFIED:20260123T062303Z
UID:10001883-1772236800-1772254800@themarbelladirectory.com
SUMMARY:Fiebre Club 7th Anniversary
DESCRIPTION:Fiebre Club 7th Anniversary: Málaga’s Ultimate Urban Party\nThe local urban collective Fiebre Club is reaching a major milestone. On Saturday\, February 28\, 2026\, the group celebrates its 7th Anniversary at the iconic Sala París 15 in Málaga. This event coincides with the Andalusia Day weekend. Consequently\, it promises to be a legendary highlight for the city’s nightlife. \nCutting-Edge Beats with King Dou Dou\nSpecifically\, Fiebre Club has confirmed French DJ and producer King Dou Dou as the first headliner. He is famous for his global mixes and high-energy performances. Additionally\, his unique sound blends electronic rhythms with urban beats. This creates an immersive experience for every dancer. His set honors the innovative spirit that has defined Fiebre Club for seven years. \nExperience the Energy at Sala París 15\nMálaga’s premier concert space\, Sala París 15\, will transform its floor for this celebration. The venue features a state-of-the-art sound system and stunning visuals. Furthermore\, the production ensures a professional and unforgettable night. Because this is a high-demand anniversary\, secure your entry early. Please note that this is a +18 event. Therefore\, you must bring a physical ID to the door. \nEvent Schedule \n\nDate: Saturday\, February 28\, 2026\nTime: 23:45 (Doors Open) to 06:00 (March 1st)\nVenue: Sala París 15\, Málaga\nAge Requirement: 18+ Only
URL:https://themarbelladirectory.com/event/fiebre-club-7th-anniversary/
LOCATION:Sala París 15\, Calle la Orotava\, 25\, 27\, 29006 Málaga\, Spain\, Málaga\, Málaga\, 29006\, Spain
CATEGORIES:Activity,entertainment,Live Show,Music Events,Nightlife
ATTACH;FMTTYPE=image/jpeg:https://themarbelladirectory.com/wp-content/uploads/2026/01/b2tHOPYxPbsZ.jpg
ORGANIZER;CN="Orion Producciones S.L.":MAILTO:electronica@paris15.es
END:VEVENT
BEGIN:VEVENT
DTSTART;TZID=Europe/Madrid:20260228T000000
DTEND;TZID=Europe/Madrid:20260228T060000
DTSTAMP:20260422T113130
CREATED:20260222T081545Z
LAST-MODIFIED:20260222T081545Z
UID:10001926-1772236800-1772258400@themarbelladirectory.com
SUMMARY:Adam Beyer & Pan-Pot Live in Torremolinos 2026: Official Studio Club Guide
DESCRIPTION:Adam Beyer & Pan-Pot Bring Studio x Drumcode Night to Torremolinos\nThe global techno titans Adam Beyer and Pan-Pot perform in Torremolinos on Saturday\, February 28\, 2026. This monumental Studio x Drumcode Night at Studio Club marks a premier event for the region. Specifically\, fans can expect a night that embodies dark and driving rhythms. The show features the best of the Drumcode label alongside influential German minimal techno. Consequently\, the performance serves as a major highlight for the 2026 electronic music season. \nA Night of Cutting-Edge Electronic Excellence\nAdam Beyer founded the world-renowned Drumcode label. He is widely recognized for his profound impact on the underground movement. Joining him is the legendary duo Pan-Pot. They are renowned for their dynamic energy and ability to push musical boundaries. Furthermore\, this collaborative event promises an electrifying sensory journey. It combines innovative audio-visual displays with a state-of-the-art L-Acoustics sound system. Therefore\, attendees will experience the raw essence of global nightlife in a powerful way. \nExperience the Industrial Aesthetic of Studio Club\nThe venue\, Studio Club\, provides a unique setting for modern art. It fuses industrial aesthetics with creative design through its signature Studio Room. Located in the heart of Torremolinos\, the club stands as a sanctuary for techno lovers. Because this is a high-demand show\, you should secure your admission early. Additionally\, the venue offers a state-of-the-art environment for high-quality electronic beats. Finally\, this rare opportunity allows you to witness the biggest names in the industry live. \nEvent Schedule\n\nDate: Saturday\, February 28\, 2026\nTime: 00:00 – 06:00 (Midnight to early morning)\nVenue: Studio Club\, Torremolinos\nTicket Price: 30.00 EUR
URL:https://themarbelladirectory.com/event/adam-beyer-pan-pot-studio-club-techno-2026/
LOCATION:Studio Club\, Avenida Palma de Mallorca\, 36\, 29620 Torremolinos\, Málaga\, Spain\, Málaga\, Málaga\, 29620\, Spain
CATEGORIES:Concert,entertainment,Live Performance,Live Show,Music Events,Nightlife
ATTACH;FMTTYPE=image/avif:https://themarbelladirectory.com/wp-content/uploads/2026/02/poster_PZjNaSe.avif
ORGANIZER;CN="8487MT PRODUCTIONS S.L.":MAILTO:info@studioclub.es
END:VEVENT
BEGIN:VEVENT
DTSTART;TZID=Europe/Madrid:20260228T170000
DTEND;TZID=Europe/Madrid:20260228T230000
DTSTAMP:20260422T113130
CREATED:20260222T083121Z
LAST-MODIFIED:20260222T083121Z
UID:10001927-1772298000-1772319600@themarbelladirectory.com
SUMMARY:Mystic by PortalsShow Málaga 2026: Official Event Guide
DESCRIPTION:Mystic by PortalsShow: An Immersive Music and Fantasy Journey in Málaga\nThe innovative spectacle Mystic by @PortalsShow performs in Málaga on Saturday\, February 28\, 2026. This highly anticipated event at the Málaga Forum offers a unique format that combines music\, visuals\, and fantasy. Specifically\, the day serves as an immersive journey designed to captivate audiences through an evolving sonic and visual landscape. \nA Day of Musical Evolution and Tribal Energy\nThe event begins with a family-friendly afternoon atmosphere featuring a tribute to Rumí. During this time\, attendees can enjoy a vibrant mix of commercial and dance music\, including melodic house and popular electronic pop remixes. Furthermore\, as night falls\, the experience transforms into a mystical and tribal celebration. The soundtrack shifts toward deep house and Afro house\, highlighted by a special set from @YeknomBlack and synchronized visuals provided by @PortalsShow. Consequently\, the performance offers a complete sensory experience that transitions from lighthearted fun to deep\, rhythmic immersion. \nExperience the Venue at Málaga Forum\nThe venue\, Málaga Forum\, provides a professional and spacious setting ideal for this type of large-scale visual production. Located in a primary cultural hub of the city\, it stands as a reference point for innovative entertainment in Andalusia. Because this is a high-concept show featuring guest DJs and advanced visual technology\, securing your tickets in advance is highly recommended. Therefore\, don’t miss the chance to witness a production that pushes the boundaries of traditional live music events. \nEvent Schedule \n\nDate: Saturday\, February 28\, 2026\nTime: 17:00 – 23:00 (5:00 PM – 11:00 PM)\nVenue: Málaga Forum\, Málaga\nTicket Price: Ranges from 11.32 EUR to 64.55 EUR
URL:https://themarbelladirectory.com/event/mystic-by-portalsshow-malaga-2026-official-event-guide/
LOCATION:Málaga Forum\, Calle Paquiro\, 8\, 29006 Málaga\, Spain\, Málaga\, Málaga\, 29006\, Spain
CATEGORIES:Concert,entertainment,Live Show,Music Events
ATTACH;FMTTYPE=image/avif:https://themarbelladirectory.com/wp-content/uploads/2026/02/poster_CAwjBKZ.avif
END:VEVENT
BEGIN:VEVENT
DTSTART;TZID=Europe/Madrid:20260228T193000
DTEND;TZID=Europe/Madrid:20260228T210000
DTSTAMP:20260422T113130
CREATED:20251222T032400Z
LAST-MODIFIED:20251222T032400Z
UID:10001491-1772307000-1772312400@themarbelladirectory.com
SUMMARY:LA VERBENA DE LA PALOMA
DESCRIPTION:La Verbena de la Paloma: A Masterpiece of Spanish Lyric Theater in Málaga\nExperience the vibrant soul of Madrid this season at Teatro Cervantes. As a highlight of the XXXVII Lyric Season\, the theater presents a magnificent production of La Verbena de la Paloma. This “sainete lírico” by Tomás Bretón remains one of the most beloved gems of the Spanish repertoire. \nA Tale of Love\, Jealousy\, and Festivity\nThe story takes place on a scorching Madrid night on August 15th. It follows young Julián and his fiery love for Susana. Julián’s jealousy peaks when he discovers a new threat. The elderly apothecary\, Don Hilarión\, intends to escort Susana and her sister Casta to the local festival. Consequently\, a series of comedic entanglements ensues. The plot involves a colorful cast of characters. These include the tavern keeper\, the night watchman\, and the guards. Ultimately\, the young couple reconciles. The entire neighborhood then joins in the joy of the celebration. \nWorld-Class Artistic Production\nThis performance features a stellar collaboration. Teatro Cervantes de Málaga led the musical production. Meanwhile\, the prestigious Teatro de la Zarzuela de Madrid handled the scenic production. The Málaga Philharmonic Orchestra and the Teatro Cervantes Choir will bring the masterful score to life. Furthermore\, José María Moreno provides musical direction. Nuria Castejón leads the scenic direction and choreography. Together\, they perfectly balance folk traditions with high musical art. \nIn short\, do not miss this chance to see a production that has captivated audiences since 1894. Secure your tickets today for a night of orchestral beauty and technical brilliance. \n\nEvent Highlights\n\nDates: Friday\, February 27; Saturday\, February 28; and Sunday\, March 1\, 2026.\nTime: 7:30 PM (Feb 27 & 28); 6:00 PM (Mar 1).\nTicket Prices: €90 (Zone A)\, €67 (Zone B)\, €50 (Zone C)\, and €24 (Zone D).\nLanguage: Spanish.
URL:https://themarbelladirectory.com/event/la-verbena-de-la-paloma-teatro-cervantes-malaga-2026/2026-02-28/
LOCATION:Teatro Cervantes\, Calle Ramos Marín\, s/n\, Málaga\, Málaga\, 29012
CATEGORIES:entertainment,Live Performance,Live Show,Music Events
ATTACH;FMTTYPE=image/png:https://themarbelladirectory.com/wp-content/uploads/2025/12/f6a9e293f62c7baf28943396b6366601.png
ORGANIZER;CN="Teatro Cervantes de M%C3%A1laga":MAILTO:info@teatrocervantes.es
END:VEVENT
BEGIN:VEVENT
DTSTART;TZID=Europe/Madrid:20260228T210000
DTEND;TZID=Europe/Madrid:20260301T000000
DTSTAMP:20260422T113130
CREATED:20260222T083520Z
LAST-MODIFIED:20260222T083520Z
UID:10001928-1772312400-1772323200@themarbelladirectory.com
SUMMARY:Duo Kie Live in Málaga 2026: Official Desempolvando El Hacha Tour Guide
DESCRIPTION:Duo Kie Returns to the Stage: Desempolvando El Hacha Tour in Málaga\nThe legendary Spanish rap duo Duo Kie performs in Málaga on Saturday\, February 28\, 2026. This monumental event at Sala Marte marks a pivotal stop on their national Desempolvando El Hacha Tour. Specifically\, the group returns after a significant hiatus to reconnect with their fanbase through raw Boom Bap energy and powerful storytelling. \nA Triumphant Comeback of Rap Royalty\nDuo Kie\, comprised of veteran MCs Locus and Nerviozzo\, is widely recognized for defining the hardcore rap sound in Spain. Their new tour serves as a double celebration: honoring their twenty-five-year legacy while presenting fresh material from their latest EP\, MAMÚT\, released in late 2025. Consequently\, attendees can expect a setlist that masterfully balances classic hits with new\, high-intensity beats. Furthermore\, the performance features an updated stage design specifically engineered to capture the “monster with two heads” energy for which the duo is famous. \nJoin the Battle at Sala Marte\nThe venue\, Sala Marte\, provides an intimate yet electric atmosphere perfect for the duo’s direct and honest musical style. Located in the heart of Málaga\, this premier cultural space is renowned for its high-quality acoustics and vibrant underground scene. Because this tour marks a rare opportunity to witness these rap icons together again\, securing your entry in advance is highly recommended. Therefore\, don’t miss the chance to experience a night of pure hip hop truth and lyrical power in Málaga. \nEvent Schedule \n\nDate: Saturday\, February 28\, 2026\nDoors Open: 21:00 (9:00 PM)\nShow Time: 22:00 – 00:00 (approximate)\nVenue: Sala Marte\, Málaga
URL:https://themarbelladirectory.com/event/duo-kie-desempolvando-el-hacha-tour-malaga-2026/
LOCATION:Sala Marte Málaga\, C. San Nicolás\, 2\, 29016 Málaga Málaga\, Spain\, Málaga\, Málaga\, 29016\, Spain
CATEGORIES:entertainment,Live Performance,Live Show,Music Events,Nightlife
ATTACH;FMTTYPE=image/avif:https://themarbelladirectory.com/wp-content/uploads/2026/02/poster_e6zm4IO.avif
END:VEVENT
BEGIN:VEVENT
DTSTART;TZID=Europe/Madrid:20260228T220000
DTEND;TZID=Europe/Madrid:20260301T023000
DTSTAMP:20260422T113130
CREATED:20260222T085204Z
LAST-MODIFIED:20260222T085204Z
UID:10001929-1772316000-1772332200@themarbelladirectory.com
SUMMARY:Tu Otra Bonita Live in Málaga 2026: Official Puta Vida Tour Guide
DESCRIPTION:Tu Otra Bonita Unleashes the “Puta Vida” Tour in Málaga\nThe Madrid-based band Tu Otra Bonita performs in Málaga on Saturday\, February 28\, 2026. This highly anticipated event at Sala Trinchera marks a pivotal stop on their national Puta Vida Tour. Specifically\, the group arrives to present their most visceral and sincere album to date. The performance offers a live experience defined by raw emotion and unfiltered power. Consequently\, the show serves as a major highlight for the 2026 music season. \nA Ritual of Release and Honest Rock Energy\nTu Otra Bonita is known for their unique fusion of “rumba psicodélica” and rock. They have spent over fifteen years carving a distinct path in the Spanish music scene. Their 2026 tour represents a major shift toward a more honest and direct sound. Furthermore\, the setlist masterfully combines new material with reimagined fan favorites. These include tracks such as Nadie\, Ryanair\, and Alegría de Vivir. Therefore\, the performance thrives in intimate venue settings where the connection with the crowd becomes physical. \nExperience the Energy at Sala Trinchera\nThe venue\, Sala Trinchera\, provides a high-energy atmosphere for this type of intense musical encounter. Located in the heart of Málaga\, this premier cultural space is renowned for its excellent acoustics. Because the tour is designed as a shared ritual of release\, you should participate fully. Additionally\, the venue provides a professional environment for live rock performances. For more information on upcoming shows\, check our internal links to the 2026 concert calendar. Finally\, securing your admission in advance is highly recommended. \n\nEvent Schedule\n\nDate: Saturday\, February 28\, 2026\nTime: 22:00 – 02:15 (March 1)\nVenue: Sala Trinchera\, Málaga\nTicket Price: 22.00 EUR
URL:https://themarbelladirectory.com/event/tu-otra-bonita-live-in-malaga-2026-official-puta-vida-tour-guide/
LOCATION:Sala Trinchera\, Calle Parauta\, 25\, 29006 Málaga\, Spain\, Málaga\, Málaga\, 29006\, Spain
CATEGORIES:Concert,entertainment,Live Performance,Live Show,Music Events,Nightlife
ATTACH;FMTTYPE=image/avif:https://themarbelladirectory.com/wp-content/uploads/2026/02/poster_Ca4WYbb.avif
END:VEVENT
END:VCALENDAR