BEGIN:VCALENDAR
VERSION:2.0
PRODID:-//The Marbella Directory - ECPv6.15.18//NONSGML v1.0//EN
CALSCALE:GREGORIAN
METHOD:PUBLISH
X-WR-CALNAME:The Marbella Directory
X-ORIGINAL-URL:https://themarbelladirectory.com
X-WR-CALDESC:Events for The Marbella Directory
REFRESH-INTERVAL;VALUE=DURATION:PT1H
X-Robots-Tag:noindex
X-PUBLISHED-TTL:PT1H
BEGIN:VTIMEZONE
TZID:Europe/Madrid
BEGIN:DAYLIGHT
TZOFFSETFROM:+0100
TZOFFSETTO:+0200
TZNAME:CEST
DTSTART:20250330T010000
END:DAYLIGHT
BEGIN:STANDARD
TZOFFSETFROM:+0200
TZOFFSETTO:+0100
TZNAME:CET
DTSTART:20251026T010000
END:STANDARD
BEGIN:DAYLIGHT
TZOFFSETFROM:+0100
TZOFFSETTO:+0200
TZNAME:CEST
DTSTART:20260329T010000
END:DAYLIGHT
BEGIN:STANDARD
TZOFFSETFROM:+0200
TZOFFSETTO:+0100
TZNAME:CET
DTSTART:20261025T010000
END:STANDARD
BEGIN:DAYLIGHT
TZOFFSETFROM:+0100
TZOFFSETTO:+0200
TZNAME:CEST
DTSTART:20270328T010000
END:DAYLIGHT
BEGIN:STANDARD
TZOFFSETFROM:+0200
TZOFFSETTO:+0100
TZNAME:CET
DTSTART:20271031T010000
END:STANDARD
END:VTIMEZONE
BEGIN:VEVENT
DTSTART;TZID=Europe/Madrid:20260306T220000
DTEND;TZID=Europe/Madrid:20260307T010000
DTSTAMP:20260420T155511
CREATED:20260305T054708Z
LAST-MODIFIED:20260305T054708Z
UID:10001961-1772834400-1772845200@themarbelladirectory.com
SUMMARY:Ricardo Moya – La Música Es Droga Tour
DESCRIPTION:Ricardo Moya Brings “La Música Es Droga Tour” to Málaga\nThe versatile artist Ricardo Moya performs in Málaga on Friday\, March 6\, 2026. This highly anticipated event at La Cochera Cabaret serves as a major stop on his La Música Es Droga Tour. Known for hosting the popular show El sentido de la birra\, Moya is now showcasing his evolution as a musician with the launch of his new EP\, Botánica Básica. Specifically\, the show promises to captivate the audience with a fresh and vibrant energy that reflects his transition from a traditional singer-songwriter to a more eclectic\, modern sound. \nA Fusion of Indie and Psychedelic Sounds\nInfluenced by iconic artists such as Tame Impala and Mac DeMarco\, Ricardo Moya’s latest work is a unique fusion of indie and psychedelic elements. During the performance\, attendees will experience live renditions of tracks like Voy a Estar Bien and El del Cosmos. Furthermore\, the tour highlights Moya’s commitment to pushing musical boundaries and his growth as a rising star in the Spanish music scene. Consequently\, fans can expect an immersive journey through sound and emotion that goes beyond a standard concert experience. \nExperience the Intimacy of La Cochera Cabaret\nThe event takes place at La Cochera Cabaret\, one of Málaga’s most beloved venues for its intimate atmosphere and superior acoustics. Located on Avenida de los Guindos\, this venue provides the perfect setting for a performance where the artist’s voice and creative expression take center stage. Because this tour represents a significant milestone in Moya’s musical career\, securing your admission in advance is highly recommended. Therefore\, join the crowd for an unforgettable night of innovative music in the heart of the city. \nEvent Schedule \n\nDate: Friday\, March 6\, 2026\nTime: 22:00 – 01:00 (10:00 PM – 1:00 AM)\nVenue: La Cochera Cabaret\, Málaga\nTicket Price: 15.00 EUR
URL:https://themarbelladirectory.com/event/ricardo-moya-la-musica-es-droga-tour/
LOCATION:La Cochera Cabaret\, Avenida de los Guindos\, 19\, 29004 Málaga\, Spain\, Málaga\, Málaga\, 29004\, Spain
CATEGORIES:Activity,Concert,entertainment,Live Show,Music Events
ATTACH;FMTTYPE=image/avif:https://themarbelladirectory.com/wp-content/uploads/2026/03/poster_TpOHj8m.avif
ORGANIZER;CN="La Cochera Cabaret":MAILTO:info@lacocheracabaret.com
END:VEVENT
BEGIN:VEVENT
DTSTART;TZID=Europe/Madrid:20260307T203000
DTEND;TZID=Europe/Madrid:20260307T233000
DTSTAMP:20260420T155511
CREATED:20260122T043514Z
LAST-MODIFIED:20260122T043514Z
UID:10001881-1772915400-1772926200@themarbelladirectory.com
SUMMARY:Iseo & Dodosound in Málaga 2026: The Ultimate New Album Tour
DESCRIPTION:Iseo & Dodosound: The New Album Tour Arrives in Málaga\nThe acclaimed Navarrese duo Iseo & Dodosound has officially unveiled their first 2026 tour dates. Specifically\, they will perform a headline show in Málaga on Saturday\, March 7\, 2026. This return follows nearly two years of relentless international touring for their fourth album\, “En la tormenta.” Now\, the duo returns to the stage with a brand-new studio project. This work marks a significant evolution in their signature sound. \nA New Musical Chapter Born on the Road\nThis upcoming tour serves as the live debut for their fifth studio album. Interestingly\, the duo crafted the new material “between airports and stages” across various continents. This process successfully captured the raw\, nomadic energy of their global travels. Furthermore\, fans in Málaga can expect a unique show. The performance seamlessly blends roots and dub foundations with fresh\, experimental textures. These new sounds directly reflect their recent world experiences. \nAn Unmissable Night at Sala París 15\nThe concert will take place at the professional Sala París 15. This venue is highly renowned for its high-quality acoustics and immersive atmosphere. Because Iseo & Dodosound are famous for their captivating stage presence\, this night will be a cultural highlight. They possess a rare ability to transform venues into vibrant musical landscapes. Consequently\, the event is expected to be a major highlight of the 2026 calendar in Andalusia. \nEarly bird tickets are now available for purchase. Therefore\, followers of the duo should act quickly to secure their spot. Given their history of sold-out shows in major cities\, this is a rare opportunity. You can witness their artistic evolution in an intimate yet powerful setting. Prepare yourself for an unforgettable night of music and connection. \nEvent Schedule \n\nDate: Saturday\, March 7\, 2026\nDoors Open: 20:30 (8:30 PM)\nPerformance Starts: 21:30 (9:30 PM)\nVenue: Sala París 15\, Málaga
URL:https://themarbelladirectory.com/event/iseo-dodosound-in-malaga-2026-the-ultimate-new-album-tour/
LOCATION:Sala París 15\, Calle la Orotava\, 25\, 27\, 29006 Málaga\, Spain\, Málaga\, Málaga\, 29006\, Spain
CATEGORIES:Art,Concert,entertainment,Live Performance,Live Show,Music Events
ATTACH;FMTTYPE=image/png:https://themarbelladirectory.com/wp-content/uploads/2026/01/9-MALAGA-819x1024-1.png
ORGANIZER;CN="Iseo & Dodosound":MAILTO:info@iseododosound.com
END:VEVENT
BEGIN:VEVENT
DTSTART;TZID=Europe/Madrid:20260307T213000
DTEND;TZID=Europe/Madrid:20260307T233000
DTSTAMP:20260420T155511
CREATED:20260305T044617Z
LAST-MODIFIED:20260305T044617Z
UID:10001957-1772919000-1772926200@themarbelladirectory.com
SUMMARY:Invisible – Theatre at Teatro del Soho CaixaBank: Official Málaga Guide
DESCRIPTION:“Invisible” – The Emotional Stage Adaptation Arrives in Málaga\nThe highly anticipated theatrical premiere of Invisible performs in Málaga on Friday\, March 6\, and Saturday\, March 7\, 2026. This production at the Teatro del Soho CaixaBank brings the internationally bestselling novel by Eloy Moreno to life. Specifically\, the show serves as a powerful stage adaptation. It transforms a contemporary literary success into an emotional and sensitive experience. The acclaimed company LaJoven presents this work with the significant support of the Fundación Teatral Antonio Banderas. Consequently\, this collaboration ensures a high-quality artistic production that captures the heart of the original story. \nA Poetic Journey Through Adolescence and Identity\nJosep María Miró adapted the story for the stage while José Luis Arellano García directed the performance. Invisible features a talented cast of young performers who bring raw energy to the stage. The production uses a poetic narrative to invite the audience into a unique world. This story focuses on the deep human need to be seen and understood. Furthermore\, it explores critical themes of adolescence and personal identity. Because it creates a moving theatrical atmosphere\, this performance has become a must-see for all generations. \nExperience the Premiere at Teatro del Soho CaixaBank\nThe venue\, Teatro del Soho CaixaBank\, stands as one of Málaga’s most prestigious cultural centers. It is located in the heart of the city’s Ensanche Heredia district. The theater serves as a hub for dramatic arts and innovation. Because this is the theatrical premiere of a global literary phenomenon\, demand is high among local theatergoers. Therefore\, you should secure your admission in advance. This unique collaboration between modern literature and contemporary stagecraft offers an unforgettable evening. Specifically\, fans of Eloy Moreno will appreciate how the stage brings his words to life. \nEvent Schedule \n\nFriday Show: March 6\, 2026\, from 19:00 to 21:30\nSaturday Show: March 7\, 2026\, from 21:30 to 23:30\nVenue: Teatro del Soho CaixaBank\, Málaga\nTicket Price: 22.00 EUR
URL:https://themarbelladirectory.com/event/invisible-theatre-at-teatro-del-soho-caixabank-official-malaga-guide/2026-03-07/
LOCATION:Teatro del Soho CaixaBank\, Calle Córdoba\, 13\, 29001 Málaga\, Spain\, Málaga\, Málaga\, 29001\, Spain
CATEGORIES:Art,Live Performance,Live Show,Theater & Arts
ATTACH;FMTTYPE=image/avif:https://themarbelladirectory.com/wp-content/uploads/2026/03/poster_RA5AB38.avif
ORGANIZER;CN="Fundaci%C3%B3n Teatro Joven":MAILTO:contacto@lajoven.es
END:VEVENT
END:VCALENDAR