BEGIN:VCALENDAR
VERSION:2.0
PRODID:-//The Marbella Directory - ECPv6.15.18//NONSGML v1.0//EN
CALSCALE:GREGORIAN
METHOD:PUBLISH
X-WR-CALNAME:The Marbella Directory
X-ORIGINAL-URL:https://themarbelladirectory.com
X-WR-CALDESC:Events for The Marbella Directory
REFRESH-INTERVAL;VALUE=DURATION:PT1H
X-Robots-Tag:noindex
X-PUBLISHED-TTL:PT1H
BEGIN:VTIMEZONE
TZID:Europe/Madrid
BEGIN:DAYLIGHT
TZOFFSETFROM:+0100
TZOFFSETTO:+0200
TZNAME:CEST
DTSTART:20250330T010000
END:DAYLIGHT
BEGIN:STANDARD
TZOFFSETFROM:+0200
TZOFFSETTO:+0100
TZNAME:CET
DTSTART:20251026T010000
END:STANDARD
BEGIN:DAYLIGHT
TZOFFSETFROM:+0100
TZOFFSETTO:+0200
TZNAME:CEST
DTSTART:20260329T010000
END:DAYLIGHT
BEGIN:STANDARD
TZOFFSETFROM:+0200
TZOFFSETTO:+0100
TZNAME:CET
DTSTART:20261025T010000
END:STANDARD
BEGIN:DAYLIGHT
TZOFFSETFROM:+0100
TZOFFSETTO:+0200
TZNAME:CEST
DTSTART:20270328T010000
END:DAYLIGHT
BEGIN:STANDARD
TZOFFSETFROM:+0200
TZOFFSETTO:+0100
TZNAME:CET
DTSTART:20271031T010000
END:STANDARD
END:VTIMEZONE
BEGIN:VEVENT
DTSTART;TZID=Europe/Madrid:20260321T220000
DTEND;TZID=Europe/Madrid:20260322T003000
DTSTAMP:20260424T155245
CREATED:20260312T033727Z
LAST-MODIFIED:20260312T033727Z
UID:10001997-1774130400-1774139400@themarbelladirectory.com
SUMMARY:Barry B Live in Málaga 2026: Infancia Mal Calibrada Tour
DESCRIPTION:Barry B Brings the “Infancia Mal Calibrada Tour” to Málaga\nThe rising star of the Spanish alternative scene\, Barry B\, performs in Málaga on Saturday\, March 21\, 2026. This highly anticipated event at Sala Trinchera marks a key stop on his national Infancia Mal Calibrada Tour. Specifically\, the show serves as a powerful showcase of his latest EP\, blending the raw energy of his debut album Chato with a fresh\, evolved sound. Fans can expect a night that perfectly captures his signature intensity and emotional depth\, which have quickly made him a definitive voice for a new generation of rock lovers. \nA New Era of Spanish Alternative Rock\nBarry B has established a significant reputation for high-impact live performances. During the show\, attendees will experience a dynamic setlist that transitions from powerful guitar riffs to catchy\, thought-provoking choruses. Furthermore\, the concert highlights material from his recent project released in late 2025\, marking a significant creative shift in his career. Because his music resonates with themes of raw experience and modern frustration\, the evening provides an immersive atmosphere where the audience can connect deeply with the artist. Consequently\, this tour stop has become a must-see event for those seeking the cutting edge of Spanish rock. \nExperience the Energy at Sala Trinchera\nThe event takes place at Sala Trinchera\, one of Málaga’s premier venues for live music and alternative culture. Located in the Polígono Industrial La Estrella\, the venue provides the professional acoustics and intimate setting necessary for such a high-energy production. Because the venue enforces specific age policies\, attendees should ensure they have valid ID for verification. Doors open promptly at 21:00\, allowing the crowd to gather and soak in the pre-show excitement before the main performance begins at 22:00. Therefore\, join the local community for an unforgettable night of music and connection. \nEvent Schedule \n\nDate: Saturday\, March 21\, 2026\nDoors Open: 21:00 (9:00 PM)\nConcert Starts: 22:00 (10:00 PM)\nVenue: Sala Trinchera\, Málaga\nAge Policy: 16+ (Minors under 18 require parental permission)\nTicket Price: 22.00 EUR
URL:https://themarbelladirectory.com/event/barry-b-infancia-mal-calibrada-tour-malaga-2026/
LOCATION:Sala Trinchera\, Calle Parauta\, 25\, 29006 Málaga\, Spain\, Málaga\, Málaga\, 29006\, Spain
CATEGORIES:Concert,entertainment,Live Show,Nightlife
ATTACH;FMTTYPE=image/avif:https://themarbelladirectory.com/wp-content/uploads/2026/03/poster_op3boxx.avif
ORGANIZER;CN="Sala Trinchera":MAILTO:info@salatrinchera.com
END:VEVENT
BEGIN:VEVENT
DTSTART;TZID=Europe/Madrid:20260321T220000
DTEND;TZID=Europe/Madrid:20260322T003000
DTSTAMP:20260424T155245
CREATED:20260312T034537Z
LAST-MODIFIED:20260312T034537Z
UID:10001998-1774130400-1774139400@themarbelladirectory.com
SUMMARY:Daniel Blacksmith – The Art of Suffering Live
DESCRIPTION:Daniel Blacksmith Presents “The Art of Suffering” Live in Málaga\nThe visionary composer and multi-instrumentalist Daniel Blacksmith performs in Málaga on Saturday\, March 21\, 2026. This highly anticipated event at La Cochera Cabaret marks the live debut of his third studio album\, The Art of Suffering. Specifically\, the performance serves as a profound exploration of existential philosophy through a unique sonic lens. Fans can expect an evening that seamlessly blends classical guitar\, minimalist piano\, and ambient synthesizers into a cohesive cinematic journey. \nA Masterclass in Cinematic Post-Rock and Philosophy\nDaniel Blacksmith has established a reputation for creating music that functions as both an auditory experience and conceptual art. During the show\, he will guide the audience through an emotional landscape where every track flows into the next without effort. Furthermore\, the performance highlights his evolution as a producer\, moving beyond traditional boundaries to create a sound that is both intimate and expansive. Consequently\, the evening provides more than just a musical set; it is a deep dive into the human condition\, inviting listeners to reflect on the nature of suffering and artistic growth. \nExperience the Immersive Atmosphere at La Cochera Cabaret\nThe event takes place at La Cochera Cabaret\, a premier multidisciplinary space in the heart of Málaga. Located on Avenida de los Guindos\, the venue is renowned for its versatile programming and professional acoustic environment. Because the show features a carefully designed light display to complement the evocative soundscapes\, the atmosphere promises to be truly immersive. Therefore\, securing your admission in advance is highly recommended to witness this master at work in an intimate setting. Join the community of music enthusiasts for a night that redefines the boundaries of musical expression. \nEvent Schedule \n\nDate: Saturday\, March 21\, 2026\nTime: 22:00 – 00:00 (10:00 PM – Midnight)\nVenue: La Cochera Cabaret\, Málaga\nFormat: Live Album Presentation\nTicket Price: 16.00 EUR
URL:https://themarbelladirectory.com/event/daniel-blacksmith-the-art-of-suffering-live/
LOCATION:La Cochera Cabaret\, Avenida de los Guindos\, 19\, 29004 Málaga\, Spain\, Málaga\, Málaga\, 29004\, Spain
CATEGORIES:Concert,entertainment,Live Show,Music Events,Nightlife
ORGANIZER;CN="Daniel Blacksmith Music":MAILTO:info@danielblacksmith.com
END:VEVENT
BEGIN:VEVENT
DTSTART;TZID=Europe/Madrid:20260322T173000
DTEND;TZID=Europe/Madrid:20260322T193000
DTSTAMP:20260424T155245
CREATED:20260228T025245Z
LAST-MODIFIED:20260228T025245Z
UID:10001938-1774200600-1774207800@themarbelladirectory.com
SUMMARY:Comandante Lara Málaga 2026
DESCRIPTION:Comandante Lara & Cía: The “Viaje con Nosotros” Tour Lands in Málaga\nThe renowned humorist Comandante Lara performs in Málaga on Sunday\, March 22\, 2026. He appears as a headlining act for the Perita Comedy Fest. This high-energy show\, titled Viaje con Nosotros\, transforms the venue into a humorous flight. Specifically\, Comandante Lara pilots this comedic adventure. He guides the audience through a journey of non-stop laughter. Consequently\, fans can expect a performance that perfectly captures his signature wit. \nA First-Class Comedy Crew\nThis show is not a solo flight. Comandante Lara is accompanied by his charismatic cabin crew. Comedians Vicente Ruidos and Jesús Tapia join him on stage. Before takeoff\, the audience receives safety instructions. These ensure a seamless entry into the “land of laughter”. Furthermore\, the show uses the fictional banner of AIR Kejöèrsen. Therefore\, every passenger is guaranteed a fun and immersive experience. In fact\, it promises to be the best flight of your life. \nExperience the Humour at FYCMA\nThe event takes place at FYCMA – Palacio de Ferias y Congresos de Málaga. This venue stands as a premier location for international cultural events. Located on Avenida Ortega y Gasset\, FYCMA provides a professional setting with excellent acoustics. Because this is a high-demand show\, you should secure your tickets early. Additionally\, the venue provides an ideal backdrop for large-scale stand-up productions. For more information on upcoming shows\, check our internal links to the 2026 comedy calendar. Finally\, please note that the “flight” departs promptly at 17:30 (5:30 PM). \n\nEvent Schedule\n\nDate: Sunday\, March 22\, 2026\nTime: 17:30 (5:30 PM)\nVenue: FYCMA – Palacio de Ferias y Congresos de Málaga\nFestival: Perita Comedy Fest
URL:https://themarbelladirectory.com/event/comandante-lara-malaga-perita-comedy-fest-2026/
LOCATION:Palacio de Ferias y Congresos de Málaga (FYCMA)\, Av. Ortega y Gasset\, 201\, Málaga\, Málaga\, 29006\, Spain
CATEGORIES:Activity,Comedy Show,entertainment,Family & Kids,Live Performance,Live Show,Theater & Arts
ATTACH;FMTTYPE=image/jpeg:https://themarbelladirectory.com/wp-content/uploads/2026/02/perita-comedy-fest-aguilera-y-meni-Comandante-Lara-y-Cia-500.jpg
END:VEVENT
BEGIN:VEVENT
DTSTART;TZID=Europe/Madrid:20260322T173000
DTEND;TZID=Europe/Madrid:20260322T210000
DTSTAMP:20260424T155245
CREATED:20260310T142005Z
LAST-MODIFIED:20260310T142005Z
UID:10001970-1774200600-1774213200@themarbelladirectory.com
SUMMARY:Universo Cádi El Selu Málaga 2026: Official Carnival Show
DESCRIPTION:El Selu Brings “Universo Cádi” to Málaga\nThe legendary carnival figure José Luis García Cossío\, widely known as El Selu\, performs in Málaga on Sunday\, March 22\, 2026. This highly anticipated event at Sala París 15 marks a significant new chapter for the artist following his announced retirement from the official competition at the Gran Teatro Falla. Specifically\, the show serves as the debut of his latest project\, Universo Cádi\, designed to delight both long-time aficionados and veterans of the genre. While he may have stepped away from the contest\, this performance proves that his dedication to the art of carnival remains as strong as ever. \nA Unique Celebration of Carnival Artistry\nUniverso Cádi offers a deep dive into the creative mind of one of carnival’s most influential authors. The performance highlights the sharp wit\, social satire\, and iconic characters that have defined El Selu’s career for decades. Furthermore\, the show provides a fresh perspective on the traditional Cádiz carnival\, blending nostalgia with innovative stagecraft. Consequently\, the evening promises an emotional and humorous journey through the sounds and stories of the south. \nExperience the Performance at Sala París 15\nThe event takes place at Sala París 15\, a premier venue for large-scale cultural events in Málaga. Located in the Polígono Industrial San Luis\, the venue provides professional acoustics and a layout specifically arranged with numbered seating for this special occasion. Because El Selu is a master of the genre with a massive following across Andalusia\, securing your admission in advance is essential. Doors open promptly at 17:30h\, with the main performance scheduled to begin at 18:00h. Therefore\, join the crowd for an unforgettable afternoon celebrating the enduring spirit of the Cádiz carnival. \nEvent Schedule \n\nDate: Sunday\, March 22\, 2026\nDoors Open: 17:30 (5:30 PM)\nShow Starts: 18:00 (6:00 PM)\nVenue: Sala París 15\, Málaga\nSeating: Numbered Entries\nTicket Price: 30.00 EUR (plus booking fees)
URL:https://themarbelladirectory.com/event/universo-cadi-el-selu-malaga-2026-official-carnival-show/
LOCATION:Sala París 15\, Calle la Orotava\, 25\, 27\, 29006 Málaga\, Spain\, Málaga\, Málaga\, 29006\, Spain
CATEGORIES:Concert,entertainment,Live Performance,Live Show,Music Events
ATTACH;FMTTYPE=image/jpeg:https://themarbelladirectory.com/wp-content/uploads/2026/03/el-selu-funcion-malaga-2026-1228x1536-1.jpg
ORGANIZER;CN="Sala Paris 15":MAILTO:info@paris15.es
END:VEVENT
BEGIN:VEVENT
DTSTART;TZID=Europe/Madrid:20260322T203000
DTEND;TZID=Europe/Madrid:20260322T230000
DTSTAMP:20260424T155245
CREATED:20260228T030832Z
LAST-MODIFIED:20260228T031324Z
UID:10001943-1774211400-1774220400@themarbelladirectory.com
SUMMARY:Aguilera and Mení Live in Málaga 2026
DESCRIPTION:Aguilera and Mení Bring Misión IMPRO-SIBLE to Málaga\nThe viral comedy sensations Aguilera and Mení perform in Málaga from Friday\, March 20\, to Sunday\, March 22\, 2026. These highly anticipated shows at FYCMA serve as a centerpiece of the Perita Comedy Fest. Specifically\, the duo presents their hit show\, Misión IMPRO-SIBLE. This production has become a genuine social phenomenon across Spain. Consequently\, fans can expect a night that perfectly captures the duo’s signature wit. Furthermore\, the performance showcases their legendary talent for improvisation. \nA Carnival of Improvisation and Audience Interaction\nOriginally known as carnival performers from Cádiz\, Aguilera and Mení have catapulted to national fame. They achieved this success through their infectious live shows and viral social media content. Their current tour is making history by filling major theaters in every region. Many dates sell out within minutes of tickets going on sale. Moreover\, the improvised nature of the performance ensures that every single show is a unique experience. Because the audience participates actively\, no two nights are ever the same. Therefore\, attendees act as central characters in this comedic mission. \nExperience the Humor at FYCMA\nThe event takes place at FYCMA – Palacio de Ferias y Congresos de Málaga. This venue stands as a premier location for major cultural events in the city. Located on Avenida Ortega y Gasset\, FYCMA provides a professional setting with modern facilities. Because these performers have a massive following\, you should secure your tickets early. Additionally\, the venue provides an ideal backdrop for high-energy comedy productions. For more information on upcoming shows\, check our internal links to the 2026 comedy calendar. Finally\, please note the different start times for each scheduled performance. \n\nEvent Schedule\n\nFriday Show: March 20\, 2026\, at 21:00 (9:00 PM)\nSaturday Show: March 21\, 2026\, at 17:30 (5:30 PM)\nSunday Show: March 22\, 2026\, at 20:30 (8:30 PM)\nVenue: FYCMA – Palacio de Ferias y Congresos de Málaga\nFestival: Perita Comedy Fest
URL:https://themarbelladirectory.com/event/aguilera-meni-mision-impro-sible-malaga-2026/2026-03-22/
LOCATION:Palacio de Ferias y Congresos de Málaga (FYCMA)\, Av. Ortega y Gasset\, 201\, Málaga\, Málaga\, 29006\, Spain
CATEGORIES:Comedy Show,entertainment,Family & Kids,Live Performance,Live Show,Theater & Arts
ATTACH;FMTTYPE=image/jpeg:https://themarbelladirectory.com/wp-content/uploads/2026/02/perita-comedy-fest-aguilera-y-meni.jpg
END:VEVENT
BEGIN:VEVENT
DTSTART;TZID=Europe/Madrid:20260322T210000
DTEND;TZID=Europe/Madrid:20260322T230000
DTSTAMP:20260424T155245
CREATED:20260312T035328Z
LAST-MODIFIED:20260312T035328Z
UID:10001999-1774213200-1774220400@themarbelladirectory.com
SUMMARY:Euge Quevedo and La Banda de Carlitos Málaga 2026
DESCRIPTION:Euge Quevedo and La Banda de Carlitos Bring Argentine Cuarteto to Málaga\nThe vibrant energy of Córdoba\, Argentina\, arrives in Málaga on Sunday\, March 22\, 2026. This highly anticipated event at Sala Trinchera features the powerhouse duo Euge Quevedo and La Banda de Carlitos (LBC). Specifically\, the performance marks a major highlight of their second official Spanish tour\, following a series of sold-out shows across Europe. Fans can expect an electrifying night dedicated to cuarteto\, a genre famous for its infectious rhythms and non-stop dancing. \nA Powerful Fusion of Voice and Rhythm\nLa Banda de Carlitos\, led by the charismatic Rubén “Kesito” Pavón\, has been a staple of the Argentine music scene for decades. Since joining in 2021\, Euge Quevedo has captivated audiences with her powerful vocals and magnetic stage presence. Together\, they deliver a dynamic repertoire that blends classic cuarteto hits with fresh\, modern favorites. Furthermore\, the show is renowned for its intense interaction with the crowd\, ensuring every attendee feels the heartbeat of the community. Consequently\, the evening provides more than just a concert; it is a full-scale celebration of Latin culture. \nExperience the Celebration at Sala Trinchera\nThe event takes place at Sala Trinchera\, one of Málaga’s premier mid-scale concert venues. Located in the Cruz de Humilladero district\, the venue is celebrated for its professional sound and authentic atmosphere. Because this tour stop represents a rare opportunity to see these legends live in Southern Spain\, securing your admission in advance is highly recommended. Doors open to a night of high-energy music that will keep you on your feet until the final note. Therefore\, join the crowd for an unforgettable experience of pure Argentine passion. \nEvent Schedule \n\nDate: Sunday\, March 22\, 2026\nTime: 21:00h – 23:00h (9:00 PM – 11:00 PM)\nVenue: Sala Trinchera\, Málaga\nAge Policy: Event for attendees aged 16 and over\nTicket Price: From 25.00 EUR
URL:https://themarbelladirectory.com/event/euge-quevedo-la-banda-de-carlitos-malaga-2026/
LOCATION:Sala Trinchera\, Calle Parauta\, 25\, 29006 Málaga\, Spain\, Málaga\, Málaga\, 29006\, Spain
CATEGORIES:Concert,entertainment,Live Show,Music Events,Nightlife
ATTACH;FMTTYPE=image/avif:https://themarbelladirectory.com/wp-content/uploads/2026/03/poster_FvSjMEV.avif
ORGANIZER;CN="ConciertosYa":MAILTO:alejandro@chainsaw.es
END:VEVENT
END:VCALENDAR