BEGIN:VCALENDAR
VERSION:2.0
PRODID:-//The Marbella Directory - ECPv6.15.18//NONSGML v1.0//EN
CALSCALE:GREGORIAN
METHOD:PUBLISH
X-ORIGINAL-URL:https://themarbelladirectory.com
X-WR-CALDESC:Events for The Marbella Directory
REFRESH-INTERVAL;VALUE=DURATION:PT1H
X-Robots-Tag:noindex
X-PUBLISHED-TTL:PT1H
BEGIN:VTIMEZONE
TZID:Europe/Madrid
BEGIN:DAYLIGHT
TZOFFSETFROM:+0100
TZOFFSETTO:+0200
TZNAME:CEST
DTSTART:20250330T010000
END:DAYLIGHT
BEGIN:STANDARD
TZOFFSETFROM:+0200
TZOFFSETTO:+0100
TZNAME:CET
DTSTART:20251026T010000
END:STANDARD
BEGIN:DAYLIGHT
TZOFFSETFROM:+0100
TZOFFSETTO:+0200
TZNAME:CEST
DTSTART:20260329T010000
END:DAYLIGHT
BEGIN:STANDARD
TZOFFSETFROM:+0200
TZOFFSETTO:+0100
TZNAME:CET
DTSTART:20261025T010000
END:STANDARD
BEGIN:DAYLIGHT
TZOFFSETFROM:+0100
TZOFFSETTO:+0200
TZNAME:CEST
DTSTART:20270328T010000
END:DAYLIGHT
BEGIN:STANDARD
TZOFFSETFROM:+0200
TZOFFSETTO:+0100
TZNAME:CET
DTSTART:20271031T010000
END:STANDARD
END:VTIMEZONE
BEGIN:VEVENT
DTSTART;VALUE=DATE:20260405
DTEND;VALUE=DATE:20260406
DTSTAMP:20260424T173902
CREATED:20251216T062301Z
LAST-MODIFIED:20251216T062738Z
UID:10001463-1775376000-1775408400@themarbelladirectory.com
SUMMARY:La Cala Junior Golf League: Champions of Tomorrow
DESCRIPTION:Ignite Your Child’s Passion for Golf at the La Cala Junior Golf League\nFirst\, we invite young golfers to join the La Cala Junior Golf League\, an exciting competitive series designed specifically for players aged 6 to 17. Specifically\, the La Cala Golf Academy hosts this initiative to provide a fun yet professional environment where juniors can develop their skills and gain tournament experience. \nCompetition & Camaraderie Furthermore\, the league fosters friendly competition. Participants play in multiple events throughout the season\, allowing them to track their progress and compete for prizes. Consequently\, each tournament is an opportunity to build confidence\, make new friends\, and enjoy the spirit of the game on our beautiful courses. \nAffordable & Accessible. Moreover\, the league is designed to be accessible. Notably\, the registration fee is just €10 per tournament\, making it an excellent value for aspiring golfers. Therefore\, whether your child is a budding champion or just starting to compete\, this league offers the perfect platform to grow. \nEvent Highlights: \n\nFormat: Series of competitive events/tournaments\nAges: 6 to 17 years old\nVenue: La Cala Golf Academy & Par 3 Course\nEntry Fee: €10 per tournament\n\nFinally\, spaces for these events are popular. Thus\, we encourage parents to register their children in advance to ensure participation. Visit the La Cala Golf Academy website to sign up for the next scheduled match. \nRegister Today!
URL:https://themarbelladirectory.com/event/la-cala-junior-golf-league-champions-of-tomorrow/2026-04-05/
LOCATION:La Cala Resort\, La Cala Resort\, Mijas Costa\, Málaga\, 29649\, Spain
CATEGORIES:Activity,COMPETITIONS,entertainment,Luxury Lifestyle,Outdoor sports
ATTACH;FMTTYPE=image/webp:https://themarbelladirectory.com/wp-content/uploads/2025/12/interna-liga-junior-768x461.png.webp
ORGANIZER;CN="La Cala Resort":MAILTO:lacala@lacala.com
END:VEVENT
BEGIN:VEVENT
DTSTART;TZID=Europe/Madrid:20260405T120000
DTEND;TZID=Europe/Madrid:20260405T180000
DTSTAMP:20260424T173902
CREATED:20260319T050319Z
LAST-MODIFIED:20260319T050319Z
UID:10002016-1775390400-1775412000@themarbelladirectory.com
SUMMARY:Wellness Spa Open Day 2026: Maison CODAGE at Kimpton Los Monteros Marbella
DESCRIPTION:Rejuvenate Your Senses at the Maison CODAGE Spa Open Day\nThe prestigious Maison CODAGE Spa\, located within the luxurious Kimpton Los Monteros Marbella\, invites you to an exclusive Wellness Open Day on Sunday\, April 5\, 2026. This meticulously curated event offers a rare opportunity to experience world-class relaxation at a significantly reduced rate. Specifically\, guests can enjoy full spa access for only 25.00 EUR\, representing a 50% discount from the standard daily rate. Whether you are a local resident or a visitor to the Costa del Sol\, this open day serves as the perfect escape to rejuvenate both body and mind. \nA Tailored Journey of Wellness and Luxury\nThroughout the afternoon\, attendees will be treated to a variety of high-end wellness perks. The experience begins with complimentary mini-massages provided by expert therapists\, designed to offer a glimpse into the bespoke methodology of CODAGE Paris. Furthermore\, the event features a 30% discount on all treatments and specialized skincare products booked or purchased during the day. Guests will also receive complimentary skincare samples from CODAGE Paris\, allowing the luxury experience to continue long after leaving the spa. \nThe Setting: Kimpton Los Monteros Marbella\nSet in the heart of one of Marbella’s most iconic 5-star resorts\, the Maison CODAGE Spa provides a sophisticated haven of tranquility. The facility is renowned for its hydrothermal saltwater pool\, hammam\, and Finnish sauna. This open day is designed to be an intimate and calm experience; therefore\, availability is strictly limited. To ensure a personalized visit for every guest\, an advanced reservation is mandatory. Consequently\, we recommend securing your place early to witness the fusion of contemporary French cosmetology and Mediterranean elegance. \nEvent Schedule \n\nDate: Sunday\, April 5\, 2026\nTime: 12:00 – 18:00 (12:00 PM – 6:00 PM)\nVenue: Spa Maison CODAGE\, Kimpton Los Monteros Marbella\nAdmission: 25.00 EUR (Includes Spa Access)\nSpecial Offers: 30% off all treatments and products
URL:https://themarbelladirectory.com/event/wellness-spa-open-day-2026-maison-codage-at-kimpton-los-monteros-marbella/
LOCATION:Maison CODAGE Spa\, Carretera de Cádiz\, Km. 187\, 29603 Marbella\, Málaga\, Spain\, Málaga\, Málaga\, 29603\, Spain
CATEGORIES:Fitness,Health & Wellness,Luxury Lifestyle
ATTACH;FMTTYPE=image/avif:https://themarbelladirectory.com/wp-content/uploads/2026/03/poster_JjE1JLE.avif
ORGANIZER;CN="Kimpton Los Monteros Marbella":MAILTO:info@kimptonlosmonteros.com
END:VEVENT
END:VCALENDAR