BEGIN:VCALENDAR
VERSION:2.0
PRODID:-//The Marbella Directory - ECPv6.15.18//NONSGML v1.0//EN
CALSCALE:GREGORIAN
METHOD:PUBLISH
X-ORIGINAL-URL:https://themarbelladirectory.com
X-WR-CALDESC:Events for The Marbella Directory
REFRESH-INTERVAL;VALUE=DURATION:PT1H
X-Robots-Tag:noindex
X-PUBLISHED-TTL:PT1H
BEGIN:VTIMEZONE
TZID:Europe/Madrid
BEGIN:DAYLIGHT
TZOFFSETFROM:+0100
TZOFFSETTO:+0200
TZNAME:CEST
DTSTART:20240331T010000
END:DAYLIGHT
BEGIN:STANDARD
TZOFFSETFROM:+0200
TZOFFSETTO:+0100
TZNAME:CET
DTSTART:20241027T010000
END:STANDARD
BEGIN:DAYLIGHT
TZOFFSETFROM:+0100
TZOFFSETTO:+0200
TZNAME:CEST
DTSTART:20250330T010000
END:DAYLIGHT
BEGIN:STANDARD
TZOFFSETFROM:+0200
TZOFFSETTO:+0100
TZNAME:CET
DTSTART:20251026T010000
END:STANDARD
BEGIN:DAYLIGHT
TZOFFSETFROM:+0100
TZOFFSETTO:+0200
TZNAME:CEST
DTSTART:20260329T010000
END:DAYLIGHT
BEGIN:STANDARD
TZOFFSETFROM:+0200
TZOFFSETTO:+0100
TZNAME:CET
DTSTART:20261025T010000
END:STANDARD
BEGIN:DAYLIGHT
TZOFFSETFROM:+0100
TZOFFSETTO:+0200
TZNAME:CEST
DTSTART:20270328T010000
END:DAYLIGHT
BEGIN:STANDARD
TZOFFSETFROM:+0200
TZOFFSETTO:+0100
TZNAME:CET
DTSTART:20271031T010000
END:STANDARD
BEGIN:DAYLIGHT
TZOFFSETFROM:+0100
TZOFFSETTO:+0200
TZNAME:CEST
DTSTART:20280326T010000
END:DAYLIGHT
BEGIN:STANDARD
TZOFFSETFROM:+0200
TZOFFSETTO:+0100
TZNAME:CET
DTSTART:20281029T010000
END:STANDARD
END:VTIMEZONE
BEGIN:VEVENT
DTSTART;VALUE=DATE:20250703
DTEND;VALUE=DATE:20270201
DTSTAMP:20260423T102225
CREATED:20260109T074607Z
LAST-MODIFIED:20260109T074607Z
UID:10001842-1751500800-1801439999@themarbelladirectory.com
SUMMARY:To Open Eyes: Transforming Our Gaze Through Modern Art
DESCRIPTION:To Open Eyes: Transforming Our Gaze Through Modern Art\nArt should teach us to see and feel life more deeply. In 1940\, the influential artist Josef Albers shared this powerful vision. Today\, the Centre Pompidou Malaga brings this philosophy to life in its new exhibition. “To Open Eyes” invites you on a journey through the evolution of modern creativity. \nThis exhibition explores how artists help us transform our relationship with the world. Consequently\, the display does not follow a simple timeline. Instead\, it organizes works based on visual themes and artistic rimas. You will find a diverse range of media\, from traditional paintings to contemporary installations. Furthermore\, these pieces reflect the immense richness of the National Museum of Modern Art in Paris. \nVisitors can witness the major ruptures that shaped the history of 20th and 21st-century art. The collection specifically highlights how art interacts with history\, spirituality\, and our social imagination. By moving away from a traditional narrative\, the exhibition offers a free and open panorama. Therefore\, every visitor can experience a unique connection with the works on display. \nThis is more than just an art show. It is an invitation to decentralize your gaze and reconsider the world around you. Make sure to visit this landmark exhibition in Malaga before it concludes in early 2027.
URL:https://themarbelladirectory.com/event/to-open-eyes-exhibition-centre-pompidou-malaga/
LOCATION:Centre Pompidou Málaga (The Cube)\, Pasaje Doctor Carrillo Casaux\, s/n\, 29016\, Muelle Uno\, Puerto de Málaga\, Spain\, Málaga\, Málaga\, Spain
CATEGORIES:Activity,Art,Exhibition,Theater & Arts,Workshop
ATTACH;FMTTYPE=image/jpeg:https://themarbelladirectory.com/wp-content/uploads/2026/01/images.jpg
ORGANIZER;CN="Ayuntamiento de M%C3%A1laga":MAILTO:info@malaga.eu
END:VEVENT
BEGIN:VEVENT
DTSTART;TZID=Europe/Madrid:20260301T173000
DTEND;TZID=Europe/Madrid:20260301T203000
DTSTAMP:20260423T102225
CREATED:20260301T160534Z
LAST-MODIFIED:20260301T160534Z
UID:10001951-1772386200-1772397000@themarbelladirectory.com
SUMMARY:Paco y Maite – A Comedic Journey of Marriage
DESCRIPTION:Paco y Maite Bring “A Comedic Journey of Marriage” to Málaga\nThe viral comedy sensations Paco y Maite perform in Málaga on Sunday\, March 1\, 2026. This highly anticipated event at La Cochera Cabaret offers a delightful theatrical exploration of the inevitable ups and downs of married life. Specifically\, the performance serves as a humorous window into the everyday world of a couple where routine transforms into a comedic spectacle. Fans can expect a night that perfectly captures the duo’s signature wit and their ability to find joy in shared misunderstandings. \nA Hilarious Exploration of Love and Partnership\nPaco and Maite have become a national phenomenon by highlighting the hidden truths of love through satire and relatable anecdotes. Their journey on stage reveals that even within the complexities of long-term communication\, laughter remains a powerful bond. Furthermore\, the performance acts as a vibrant reminder of the art of living together\, blending comedy with genuine complicity. Consequently\, the show has become a must-see for anyone who appreciates the humor found in life’s daily challenges. \nExperience the Energy at La Cochera Cabaret\nThe event takes place at La Cochera Cabaret\, one of Málaga’s most diverse and multidisciplinary cultural spaces. Located on Avenida de los Guindos\, the venue provides an intimate and modern atmosphere where the audience often feels like part of the story. Because this is a high-demand comedy production featuring a duo that has sold out across Spain\, securing your admission in advance is essential. Therefore\, join the crowd for an unforgettable evening of laughter and connection in the heart of Málaga. \nEvent Schedule \n\nDate: Sunday\, March 1\, 2026\nTime: 17:30 – 20:30 (5:30 PM – 8:30 PM)\nDuration: Approximately 90 minutes\nVenue: La Cochera Cabaret\, Málaga\nRecommended Age: 16 years and older
URL:https://themarbelladirectory.com/event/paco-y-maite-a-comedic-journey-of-marriage/
LOCATION:La Cochera Cabaret\, Avenida de los Guindos\, 19\, 29004 Málaga\, Spain\, Málaga\, Málaga\, 29004\, Spain
CATEGORIES:Art,Comedy Show,entertainment,Live Performance,Theater & Arts
ATTACH;FMTTYPE=image/avif:https://themarbelladirectory.com/wp-content/uploads/2026/03/poster_YqZEjhl.avif
ORGANIZER;CN="La Cochera Cabaret":MAILTO:info@lacocheracabaret.com
END:VEVENT
BEGIN:VEVENT
DTSTART;TZID=Europe/Madrid:20260301T180000
DTEND;TZID=Europe/Madrid:20260301T200000
DTSTAMP:20260423T102225
CREATED:20260302T112256Z
LAST-MODIFIED:20260302T112256Z
UID:10001952-1772388000-1772395200@themarbelladirectory.com
SUMMARY:Anime Live – The Musical Experience
DESCRIPTION:Anime Live – The Musical Experience Arrives in Málaga\nThe magic of anime takes center stage in Málaga on Sunday\, March 1\, 2026\, with the debut of Anime Live – The Musical Experience. This immersive production at Auditorio AM (Auditorio Edgar Neville) invites fans into a world where music serves as the bridge between light and darkness. The show features a group of talented young performers whose voices possess the power to change human fate and open mystical portals. Blending breathtaking choreography with emotionally charged songs\, the musical transports the audience through a vibrant theatrical adventure inspired by iconic anime universes. \nA Night of Theatrical Brilliance and Song\nUnlike a standard concert\, this experience combines the best of anime culture with professional stage performance. Attendees can expect a poetic dramaturgy where every note acts as a “spell of hope”. The show emphasizes the unity of song over traditional battles\, offering an unforgettable journey for fans of all ages. Because this is a high-demand event in the 2026 Málaga concert calendar\, securing tickets in advance is highly recommended to witness these greatest battles fought with melody. \nExperience the Event at Auditorio AM\nThe performance takes place at Auditorio AM\, also known as the Auditorio Edgar Neville\, located in the Carretera de Cádiz district. This professional theater venue provides an ideal acoustic and visual setting for large-scale musical productions. Located at Avenida de Sor Teresa Prat\, 51\, the auditorium is easily accessible for both locals and tourists visiting Málaga for the spring season. Therefore\, join the anime community for a night where imagination and fandom unite in a spectacular live show. \nEvent Schedule \n\nDate: Sunday\, March 1\, 2026\nTime: 18:00 – 20:00 (6:00 PM – 8:00 PM)\nVenue: Auditorio AM (Auditorio Edgar Neville)\, Málaga\nTicket Price: 19.50 EUR\nEntry Policy: Free entry for children up to 12 months (must be held in parents’ arms).
URL:https://themarbelladirectory.com/event/anime-live-musical-experience-malaga-2026/
LOCATION:Auditorio Edgar Neville\, Av. de Sor Teresa Prat\, 51\, Carretera de Cádiz\, 29003 Málaga\, Spain\, Málaga\, Málaga\, 29003\, Spain
CATEGORIES:Art,entertainment,Live Performance,Music Events,Theater & Arts
ATTACH;FMTTYPE=image/avif:https://themarbelladirectory.com/wp-content/uploads/2026/03/poster_8IxoSUz.avif
END:VEVENT
END:VCALENDAR