BEGIN:VCALENDAR
VERSION:2.0
PRODID:-//The Marbella Directory - ECPv6.15.18//NONSGML v1.0//EN
CALSCALE:GREGORIAN
METHOD:PUBLISH
X-ORIGINAL-URL:https://themarbelladirectory.com
X-WR-CALDESC:Events for The Marbella Directory
REFRESH-INTERVAL;VALUE=DURATION:PT1H
X-Robots-Tag:noindex
X-PUBLISHED-TTL:PT1H
BEGIN:VTIMEZONE
TZID:Europe/Madrid
BEGIN:DAYLIGHT
TZOFFSETFROM:+0100
TZOFFSETTO:+0200
TZNAME:CEST
DTSTART:20250330T010000
END:DAYLIGHT
BEGIN:STANDARD
TZOFFSETFROM:+0200
TZOFFSETTO:+0100
TZNAME:CET
DTSTART:20251026T010000
END:STANDARD
BEGIN:DAYLIGHT
TZOFFSETFROM:+0100
TZOFFSETTO:+0200
TZNAME:CEST
DTSTART:20260329T010000
END:DAYLIGHT
BEGIN:STANDARD
TZOFFSETFROM:+0200
TZOFFSETTO:+0100
TZNAME:CET
DTSTART:20261025T010000
END:STANDARD
BEGIN:DAYLIGHT
TZOFFSETFROM:+0100
TZOFFSETTO:+0200
TZNAME:CEST
DTSTART:20270328T010000
END:DAYLIGHT
BEGIN:STANDARD
TZOFFSETFROM:+0200
TZOFFSETTO:+0100
TZNAME:CET
DTSTART:20271031T010000
END:STANDARD
END:VTIMEZONE
BEGIN:VEVENT
DTSTART;VALUE=DATE:20260212
DTEND;VALUE=DATE:20260215
DTSTAMP:20260423T212945
CREATED:20251209T070624Z
LAST-MODIFIED:20251209T070624Z
UID:10001410-1770854400-1771113599@themarbelladirectory.com
SUMMARY:41st SEME Congress and 7th SERECAP Congress
DESCRIPTION:Europe’s Premier Aesthetic Medicine Congress Returns!\nValentine’s Day is just around the corner! Therefore\, the 41st NATIONAL CONGRESS OF THE SPANISH SOCIETY OF AESTHETIC MEDICINE (SEME) is also approaching. This major event happens concurrently with the 7th SERECAP CONGRESS. This dual congress has established itself as the most important Aesthetic Medicine Congress in both Europe and America. \nUnparalleled Scientific Excellence\nThe event’s prestige is recognized internationally. In fact\, its high scientific level and the impartiality of the speakers set it apart. The organizing committee has received requests from various societies in multiple countries. Furthermore\, these societies wish to collaborate and even twin with SEME. This demonstrates the congress’s strong international vocation. \nFocused Expertise: Aesthetic Hair Medicine\nThe 7th SERECAP Congress focuses specifically on aesthetic hair medicine. Consequently\, it has established itself as a powerful scientific event with its own clearly defined entity. The program will repeat the dynamic format of the previous edition. Moreover\, organizers are planning a new live training proposal for attendees. \nKey Objectives for Attendees\nThis Aesthetic Medicine Congress provides crucial tools for professionals. Thus\, attending the congress helps you stay ahead in the global market. \n\nDiscover Cutting-Edge Research: Learn about the newest techniques and validated procedures in aesthetic medicine.\nNetworking: Connect with the most influential speakers and experts from Europe and America.\nLive Training: Experience the innovative live training sessions offered by the new proposal.\nMarket Insight: Gain a comprehensive view of the industry’s direction and future advancements. Finally\, assess collaborative opportunities through SEME’s international partnerships.\n\nIn summary\, this congress is essential for any professional seeking scientific excellence and practical application in aesthetic medicine.
URL:https://themarbelladirectory.com/event/41st-seme-congress-and-7th-serecap-congress/
LOCATION:Palacio de Ferias y Congresos de Málaga (FYCMA)\, Av. Ortega y Gasset\, 201\, Málaga\, Málaga\, 29006\, Spain
CATEGORIES:Business & Networking,Congress,Exhibition,Professional fairs
ATTACH;FMTTYPE=image/png:https://themarbelladirectory.com/wp-content/uploads/2025/12/CARTEL-500X500.png
ORGANIZER;CN="SEME %E2%80%93 Sociedad Espa%C3%B1ola de Restauraci%C3%B3n Capilar":MAILTO:seme2024@pacifico-meetings.com
END:VEVENT
END:VCALENDAR