BEGIN:VCALENDAR
VERSION:2.0
PRODID:-//The Marbella Directory - ECPv6.15.18//NONSGML v1.0//EN
CALSCALE:GREGORIAN
METHOD:PUBLISH
X-WR-CALNAME:The Marbella Directory
X-ORIGINAL-URL:https://themarbelladirectory.com
X-WR-CALDESC:Events for The Marbella Directory
REFRESH-INTERVAL;VALUE=DURATION:PT1H
X-Robots-Tag:noindex
X-PUBLISHED-TTL:PT1H
BEGIN:VTIMEZONE
TZID:Europe/Madrid
BEGIN:DAYLIGHT
TZOFFSETFROM:+0100
TZOFFSETTO:+0200
TZNAME:CEST
DTSTART:20250330T010000
END:DAYLIGHT
BEGIN:STANDARD
TZOFFSETFROM:+0200
TZOFFSETTO:+0100
TZNAME:CET
DTSTART:20251026T010000
END:STANDARD
BEGIN:DAYLIGHT
TZOFFSETFROM:+0100
TZOFFSETTO:+0200
TZNAME:CEST
DTSTART:20260329T010000
END:DAYLIGHT
BEGIN:STANDARD
TZOFFSETFROM:+0200
TZOFFSETTO:+0100
TZNAME:CET
DTSTART:20261025T010000
END:STANDARD
BEGIN:DAYLIGHT
TZOFFSETFROM:+0100
TZOFFSETTO:+0200
TZNAME:CEST
DTSTART:20270328T010000
END:DAYLIGHT
BEGIN:STANDARD
TZOFFSETFROM:+0200
TZOFFSETTO:+0100
TZNAME:CET
DTSTART:20271031T010000
END:STANDARD
END:VTIMEZONE
BEGIN:VEVENT
DTSTART;TZID=Europe/Madrid:20260425T190000
DTEND;TZID=Europe/Madrid:20260425T220000
DTSTAMP:20260422T235923
CREATED:20260414T132354Z
LAST-MODIFIED:20260414T132354Z
UID:10002201-1777143600-1777154400@themarbelladirectory.com
SUMMARY:Constellations: A Quantum Love Story at Teatro Cervantes
DESCRIPTION:Experience the Magic of Constellations in Málaga\nFirstly\, prepare for a mind-bending theatrical journey at the historic Teatro Cervantes. On Saturday\, April 25\, 2026\, the venue presents Constellations\, which is an innovative play by Nick Payne. This production beautifully intertwines the complexities of love with the theories of quantum physics. Specifically\, it explores the countless possibilities of a single relationship through the fascinating concept of parallel universes. Consequently\, the audience is invited to reflect on the infinite paths that life and love can take. \nA Stellar Production and Cast \nFurthermore\, this acclaimed production features a world-class creative team. The play is directed by the visionary Sergio Peris-Mencheta. It stars a talented cast including Clara Serrano and Jordi Coll. Together\, they bring a unique narrative structure to the stage that challenges traditional storytelling. Because the story shifts through different realities\, it offers a deeply emotional and scientific intrigue. Therefore\, every scene provides a new perspective on human connections and the difficult choices we make. \nAn Unforgettable Theatrical Masterpiece \nIn addition\, the setting of Teatro Cervantes enhances the intimate and powerful atmosphere of the show. The play is not just a romance; it is a profound exploration of time and fate. Many critics have praised the work for its conceptual depth and emotional vulnerability. As the story unfolds\, you will be captivated by the chemistry between the leads. Indeed\, this is a rare opportunity to witness a theatrical masterpiece that blends science and raw emotion perfectly. \nFinally\, ensure you secure your attendance for this standout cultural event in Málaga. The performance runs for three hours and promises to leave you reflecting long after the curtain falls. Join the community for a night of intellectual stimulation and heartfelt drama. Tickets are available now for this exclusive April performance. \nEvent Schedule and Venue Information \n\nDate: Saturday\, April 25\, 2026\nTime: 19:00 to 22:00 (7:00 PM – 10:00 PM)\nVenue: Teatro Cervantes\nLocation: Málaga\, Spain\nPrice: 12.00 EUR to 60.00 EUR
URL:https://themarbelladirectory.com/event/constellations-a-quantum-love-story-at-teatro-cervantes/
LOCATION:Teatro Cervantes\, Calle Ramos Marín\, s/n\, Málaga\, Málaga\, 29012
CATEGORIES:Art,entertainment,Live Performance,Music Events,Nightlife,Theater & Arts
ATTACH;FMTTYPE=image/avif:https://themarbelladirectory.com/wp-content/uploads/2026/04/poster_Tawrr5y.avif
ORGANIZER;CN="Barco Pirata Producciones":MAILTO:info@barcopirata.org
END:VEVENT
END:VCALENDAR