BEGIN:VCALENDAR
VERSION:2.0
PRODID:-//The Marbella Directory - ECPv6.15.18//NONSGML v1.0//EN
CALSCALE:GREGORIAN
METHOD:PUBLISH
X-ORIGINAL-URL:https://themarbelladirectory.com
X-WR-CALDESC:Events for The Marbella Directory
REFRESH-INTERVAL;VALUE=DURATION:PT1H
X-Robots-Tag:noindex
X-PUBLISHED-TTL:PT1H
BEGIN:VTIMEZONE
TZID:Europe/Madrid
BEGIN:DAYLIGHT
TZOFFSETFROM:+0100
TZOFFSETTO:+0200
TZNAME:CEST
DTSTART:20250330T010000
END:DAYLIGHT
BEGIN:STANDARD
TZOFFSETFROM:+0200
TZOFFSETTO:+0100
TZNAME:CET
DTSTART:20251026T010000
END:STANDARD
BEGIN:DAYLIGHT
TZOFFSETFROM:+0100
TZOFFSETTO:+0200
TZNAME:CEST
DTSTART:20260329T010000
END:DAYLIGHT
BEGIN:STANDARD
TZOFFSETFROM:+0200
TZOFFSETTO:+0100
TZNAME:CET
DTSTART:20261025T010000
END:STANDARD
BEGIN:DAYLIGHT
TZOFFSETFROM:+0100
TZOFFSETTO:+0200
TZNAME:CEST
DTSTART:20270328T010000
END:DAYLIGHT
BEGIN:STANDARD
TZOFFSETFROM:+0200
TZOFFSETTO:+0100
TZNAME:CET
DTSTART:20271031T010000
END:STANDARD
END:VTIMEZONE
BEGIN:VEVENT
DTSTART;TZID=Europe/Madrid:20260610T200000
DTEND;TZID=Europe/Madrid:20260610T220000
DTSTAMP:20260424T173404
CREATED:20251204T041840Z
LAST-MODIFIED:20251204T041840Z
UID:10001392-1781121600-1781128800@themarbelladirectory.com
SUMMARY:Two Door Cinema Club Live at Marbella Arena
DESCRIPTION:Two Door Cinema Club Live at Marbella Arena on July 10\, 2026\nIndie rock trio Two Door Cinema Club is bringing their energetic blend of rock and pop to the Marbella Arena on Friday\, July 10\, 2026\, at 8:00 PM. This highly anticipated show is part of the band’s 15th Anniversary Tour. \nThe band promises an evening of infectious hooks and danceable rhythms for fans of contemporary guitar-driven music. Specifically\, the concert takes place at the Auditorio Marbella Arena\, located in the stunning Puerto Banús area. \nTherefore\, tickets are required. In addition to this\, the event is part of the new international summer music series organized by Beat Live. \nDon’t miss the chance to see Two Door Cinema Club perform live! \n\nVenue: Marbella Arena\, Marbella\, Spain\nDate: July 10\, 2026
URL:https://themarbelladirectory.com/event/two-door-cinema-club-live-at-marbella-arena/
LOCATION:Marbella Arena\, C. Pilar\, 3\, Marbella\, Málaga\, 29660\, Spain
CATEGORIES:Concert,entertainment,Live Show,Music Events
ATTACH;FMTTYPE=image/jpeg:https://themarbelladirectory.com/wp-content/uploads/2025/12/TDCC-2026-Marbella-Cover-RIP-800x450-1.jpg
ORGANIZER;CN="Marbella Arena":MAILTO:info@marbellaarena.com
END:VEVENT
BEGIN:VEVENT
DTSTART;TZID=Europe/Madrid:20260627T200000
DTEND;TZID=Europe/Madrid:20260627T220000
DTSTAMP:20260424T173404
CREATED:20251204T040903Z
LAST-MODIFIED:20251204T040903Z
UID:10001391-1782590400-1782597600@themarbelladirectory.com
SUMMARY:Craig David - TS5 Live at Marbella Arena
DESCRIPTION:Craig David TS5 Live at Marbella Arena on June 27\, 2026\nGet ready for the ultimate summer party! Craig David is bringing his acclaimed TS5 Live show to the Marbella Arena on Saturday\, June 27\, 2026. This concert is listed as a flagship event for the summer season. \nThe event takes place at the Marbella Arena\, located in the vibrant Nueva Andalucía / Puerto Banús area. TS5 Live is famous for blending UK garage\, R&B\, and hip-hop\, featuring Craig David’s smooth vocals and DJ skills. \nSpecifically\, tickets and booking tables are available through promoters like LoveBanus and JamBase. Therefore\, the event is explicitly Ticketed. \nDon’t miss the chance to experience a spectacular night of music and party atmosphere at one of Marbella’s top venues! \n\nVenue: Marbella Arena\, Nueva Andalucía\, Spain\nDate: June 27\, 2026
URL:https://themarbelladirectory.com/event/craig-david-ts5-live-at-marbella-arena/
LOCATION:Marbella Arena\, C. Pilar\, 3\, Marbella\, Málaga\, 29660\, Spain
CATEGORIES:Concert,entertainment,Live Show,Music Events
ATTACH;FMTTYPE=image/avif:https://themarbelladirectory.com/wp-content/uploads/2025/12/Craig-Daivd-2026-1920x1080-1.avif
ORGANIZER;CN="Marbella Arena":MAILTO:info@marbellaarena.com
END:VEVENT
END:VCALENDAR