BEGIN:VCALENDAR
VERSION:2.0
PRODID:-//The Marbella Directory - ECPv6.15.18//NONSGML v1.0//EN
CALSCALE:GREGORIAN
METHOD:PUBLISH
X-WR-CALNAME:The Marbella Directory
X-ORIGINAL-URL:https://themarbelladirectory.com
X-WR-CALDESC:Events for The Marbella Directory
REFRESH-INTERVAL;VALUE=DURATION:PT1H
X-Robots-Tag:noindex
X-PUBLISHED-TTL:PT1H
BEGIN:VTIMEZONE
TZID:Europe/Madrid
BEGIN:DAYLIGHT
TZOFFSETFROM:+0100
TZOFFSETTO:+0200
TZNAME:CEST
DTSTART:20250330T010000
END:DAYLIGHT
BEGIN:STANDARD
TZOFFSETFROM:+0200
TZOFFSETTO:+0100
TZNAME:CET
DTSTART:20251026T010000
END:STANDARD
BEGIN:DAYLIGHT
TZOFFSETFROM:+0100
TZOFFSETTO:+0200
TZNAME:CEST
DTSTART:20260329T010000
END:DAYLIGHT
BEGIN:STANDARD
TZOFFSETFROM:+0200
TZOFFSETTO:+0100
TZNAME:CET
DTSTART:20261025T010000
END:STANDARD
BEGIN:DAYLIGHT
TZOFFSETFROM:+0100
TZOFFSETTO:+0200
TZNAME:CEST
DTSTART:20270328T010000
END:DAYLIGHT
BEGIN:STANDARD
TZOFFSETFROM:+0200
TZOFFSETTO:+0100
TZNAME:CET
DTSTART:20271031T010000
END:STANDARD
END:VTIMEZONE
BEGIN:VEVENT
DTSTART;TZID=Europe/Madrid:20260127T200000
DTEND;TZID=Europe/Madrid:20260127T213000
DTSTAMP:20260421T125645
CREATED:20251223T035407Z
LAST-MODIFIED:20251223T035407Z
UID:10001517-1769544000-1769549400@themarbelladirectory.com
SUMMARY:TODOS LOS ÁNGELES ALZARON EL VUELO
DESCRIPTION:Todos los ángeles alzaron el vuelo: A Poetic Journey with La Zaranda\nExperience a profound theatrical exploration this season. The legendary Teatro La Zaranda brings its latest masterpiece to the Teatro Cervantes in Málaga. As a highlight of the 43rd Theater Festival\, Todos los ángeles alzaron el vuelo offers a raw look at the margins of society. On Tuesday\, January 27\, 2026\, audiences can witness this moving performance. The play finds hope even in the most sordid corners of human existence. \nHope Amidst the Sordid\nEusebio Calonge wrote this evocative play. The story portrays characters living in the shadows of rented rooms and artificial paradises. These “fallen angels” deal with violence and lost dreams every day. However\, their hearts continue to search for love. Calonge describes them as “flowers of the garbage dump” that grow in the dark. Consequently\, hope emerges from even the grimmest settings. The work utilizes the picaresque tradition to bridge the gap between social reality and poetic elevation. \n48 Years of Theatrical Mystery\nWith this production\, La Zaranda celebrates 48 years of performing worldwide. Paco de La Zaranda directed this work with a unique vision. Furthermore\, the company continues to view theater as a mystery and a risk. They offer a vital voice to those who remain silenced. The cast includes Ingrid Magrinya and Gaspar Campuzano. Together\, they create a world where reality and fiction converge on the stage. \nIn short\, do not miss this intense 75-minute journey. It explores the hostile territories of the everyday with an illuminating light. \n\nEvent Highlights\n\nDate: Tuesday\, January 27\, 2026.\nTime: 8:00 PM (20.00 h).\nDuration: 1 hour and 15 minutes (no intermission).\nTicket Prices: €30 (Zone A)\, €22 (Zone B)\, €16 (Zone C)\, and €11 (Zone D)
URL:https://themarbelladirectory.com/event/todos-los-angeles-alzaron-el-vuelo-teatro-cervantes-malaga-2026/
LOCATION:Teatro Cervantes\, Calle Ramos Marín\, s/n\, Málaga\, Málaga\, 29012
CATEGORIES:entertainment,Live Performance,Theater & Arts
ATTACH;FMTTYPE=image/png:https://themarbelladirectory.com/wp-content/uploads/2025/12/0da659b1c3ddde8d022079c40b72fd3f.png
ORGANIZER;CN="Teatro La Zaranda / Focus":MAILTO:infomadrid@focus.es
END:VEVENT
END:VCALENDAR