BEGIN:VCALENDAR
VERSION:2.0
PRODID:-//The Marbella Directory - ECPv6.15.18//NONSGML v1.0//EN
CALSCALE:GREGORIAN
METHOD:PUBLISH
X-ORIGINAL-URL:https://themarbelladirectory.com
X-WR-CALDESC:Events for The Marbella Directory
REFRESH-INTERVAL;VALUE=DURATION:PT1H
X-Robots-Tag:noindex
X-PUBLISHED-TTL:PT1H
BEGIN:VTIMEZONE
TZID:Europe/Madrid
BEGIN:DAYLIGHT
TZOFFSETFROM:+0100
TZOFFSETTO:+0200
TZNAME:CEST
DTSTART:20250330T010000
END:DAYLIGHT
BEGIN:STANDARD
TZOFFSETFROM:+0200
TZOFFSETTO:+0100
TZNAME:CET
DTSTART:20251026T010000
END:STANDARD
BEGIN:DAYLIGHT
TZOFFSETFROM:+0100
TZOFFSETTO:+0200
TZNAME:CEST
DTSTART:20260329T010000
END:DAYLIGHT
BEGIN:STANDARD
TZOFFSETFROM:+0200
TZOFFSETTO:+0100
TZNAME:CET
DTSTART:20261025T010000
END:STANDARD
BEGIN:DAYLIGHT
TZOFFSETFROM:+0100
TZOFFSETTO:+0200
TZNAME:CEST
DTSTART:20270328T010000
END:DAYLIGHT
BEGIN:STANDARD
TZOFFSETFROM:+0200
TZOFFSETTO:+0100
TZNAME:CET
DTSTART:20271031T010000
END:STANDARD
END:VTIMEZONE
BEGIN:VEVENT
DTSTART;TZID=Europe/Madrid:20260423T200000
DTEND;TZID=Europe/Madrid:20260423T223000
DTSTAMP:20260423T030320
CREATED:20260414T093103Z
LAST-MODIFIED:20260414T093103Z
UID:10002195-1776974400-1776983400@themarbelladirectory.com
SUMMARY:Petite Lorena Live: Tremenda Comedy Show in Malaga
DESCRIPTION:Experience the Bold and Hilarious Art of Petite Lorena in Malaga\nFirstly\, prepare for a night of unfiltered laughter in the heart of the city. The acclaimed comedian Petite Lorena arrives at La Cochera Cabaret on Thursday\, April 23\, 2026. She presents her latest show\, titled Tremenda. This performance fearlessly explores the boundaries between the politically correct and incorrect. Specifically\, her sharp wit and unique perspective promise an evening that combines hilarity with deep reflection. \nFurthermore\, the show draws inspiration from the rich oral traditions of the Canary Islands. Petite Lorena uses the wisdom and folklore of grandmothers to ground her modern observations. This approach allows the performance to transcend standard comedy gimmicks. Instead\, she invites the audience on a journey through her singular view of the world. Her humor is both grounded in cultural heritage and strikingly contemporary. \nAn Electric Atmosphere at La Cochera Cabaret \nMoreover\, the atmosphere at La Cochera Cabaret will be electric as Lorena takes the stage. She is famous for her charismatic presence and her ability to captivate an audience instantly. You can expect to laugh until you drop throughout the session. However\, you must stay alert. Because there is no safety net during her performance\, the humor often takes unexpected and thrilling turns. \nFinally\, this event is more than a simple comedy gig. It serves as a celebration of storytelling and the power of the spoken word. Petite Lorena proves that pure humor is one of our most vital cultural legacies. This show is a must-see for anyone who appreciates bold comedy in its most authentic form. Ensure you secure your attendance for this unique theatrical experience. \nEvent Schedule and Venue Information \n\nDate: Thursday\, April 23\, 2026\nTime: 20:00 to 22:30 (8:00 PM – 10:30 PM)\nVenue: La Cochera Cabaret\nLocation: Malaga\, Spain\nAdmission: 20.00 EUR
URL:https://themarbelladirectory.com/event/petite-lorena-live-tremenda-comedy-show-in-malaga/
LOCATION:La Cochera Cabaret\, Avenida de los Guindos\, 19\, 29004 Málaga\, Spain\, Málaga\, Málaga\, 29004\, Spain
CATEGORIES:Activity,Comedy Show,entertainment,Live Performance,Nightlife
ATTACH;FMTTYPE=image/avif:https://themarbelladirectory.com/wp-content/uploads/2026/04/poster_kD6TpiD.avif
ORGANIZER;CN="La Cochera Cabaret":MAILTO:info@lacocheracabaret.com
END:VEVENT
END:VCALENDAR