BEGIN:VCALENDAR
VERSION:2.0
PRODID:-//The Marbella Directory - ECPv6.15.18//NONSGML v1.0//EN
CALSCALE:GREGORIAN
METHOD:PUBLISH
X-ORIGINAL-URL:https://themarbelladirectory.com
X-WR-CALDESC:Events for The Marbella Directory
REFRESH-INTERVAL;VALUE=DURATION:PT1H
X-Robots-Tag:noindex
X-PUBLISHED-TTL:PT1H
BEGIN:VTIMEZONE
TZID:Europe/Madrid
BEGIN:DAYLIGHT
TZOFFSETFROM:+0100
TZOFFSETTO:+0200
TZNAME:CEST
DTSTART:20250330T010000
END:DAYLIGHT
BEGIN:STANDARD
TZOFFSETFROM:+0200
TZOFFSETTO:+0100
TZNAME:CET
DTSTART:20251026T010000
END:STANDARD
BEGIN:DAYLIGHT
TZOFFSETFROM:+0100
TZOFFSETTO:+0200
TZNAME:CEST
DTSTART:20260329T010000
END:DAYLIGHT
BEGIN:STANDARD
TZOFFSETFROM:+0200
TZOFFSETTO:+0100
TZNAME:CET
DTSTART:20261025T010000
END:STANDARD
BEGIN:DAYLIGHT
TZOFFSETFROM:+0100
TZOFFSETTO:+0200
TZNAME:CEST
DTSTART:20270328T010000
END:DAYLIGHT
BEGIN:STANDARD
TZOFFSETFROM:+0200
TZOFFSETTO:+0100
TZNAME:CET
DTSTART:20271031T010000
END:STANDARD
END:VTIMEZONE
BEGIN:VEVENT
DTSTART;TZID=Europe/Madrid:20260718T170000
DTEND;TZID=Europe/Madrid:20260718T190000
DTSTAMP:20260426T062057
CREATED:20260330T051629Z
LAST-MODIFIED:20260330T051629Z
UID:10002087-1784394000-1784401200@themarbelladirectory.com
SUMMARY:Candlelight: Coldplay and Imagine Dragons Tribute Málaga 2026
DESCRIPTION:⭐ Candlelight brings the magic of a live musical experience to incredible locations in Málaga. Get your tickets for this Candlelight: Coldplay and Imagine Dragons! \n🌸 To celebrate Candlelight Spring\, a limited number of sessions will feature special floral decoration. The other sessions will maintain the standard Candlelight setup. Check the dates below. \nGeneral Info\n📍 Venue: Sala Fundación Unicaja Mª Cristina\, Málaga\n📅 Dates and times: select your dates/times directly in the ticket selector\n⏳ Duration: 60 minutes (doors open 45 minutes before\, no admission after the start)\n👤 Age requirement: from 8 years old. Children under the age of 16 must be accompanied by an adult\n♿ Accessibility: the venue is wheelchair accessible\n❓ View the FAQs for this event here\n🪑 Seats are assigned upon arrival according to the type of ticket you have purchased\n🕯️ If you would like to book a private concert or purchase tickets for a large group (+30 people)\, click here\n🎻 Check all Candlelight concerts in Málaga\n🎁 Get a gift card for your friends and family here \nProgram Candlelight: Coldplay and Imagine DragonsColdplay – Clocks \n\nImagine Dragons – Radioactive\nColdplay – Adventure of a Lifetime\nColdplay – Fix You\nImagine Dragons – Eyes Closed\nImagine Dragons – Nice to Meet You\nColdplay – The Scientist\nColdplay – feelslikeimfallinginlove\nImagine Dragons – Follow You\nImagine Dragons – Bad Liar\nImagine Dragons – Believer\nColdplay – Sky Full of Stars\nColdplay – Viva la Vida\n\nCandlelight Spring floral decoration sessions: 17 open \nPerformers \n\nString Quartet – Résonance Ensemble
URL:https://themarbelladirectory.com/event/candlelight-coldplay-and-imagine-dragons-tribute-malaga-2026/2026-07-18/
LOCATION:Sala Fundación Unicaja Mª Cristina\, Calle Marqués de Valdecañas\, 2\, Málaga\, Málaga\, 29008\, Spain
CATEGORIES:Concert,entertainment,Live Performance,Live Show,Music Events
ATTACH;FMTTYPE=image/png:https://themarbelladirectory.com/wp-content/uploads/2026/03/Coldplay-Candlelight-EVENT-1024x614-1.png
END:VEVENT
BEGIN:VEVENT
DTSTART;TZID=Europe/Madrid:20260718T200000
DTEND;TZID=Europe/Madrid:20260718T220000
DTSTAMP:20260426T062057
CREATED:20260105T033831Z
LAST-MODIFIED:20260105T034315Z
UID:10001804-1784404800-1784412000@themarbelladirectory.com
SUMMARY:Yandel Sinfonico: A Unique Musical Experience
DESCRIPTION:Yandel Sinfonico at Starlite Occident Marbella A Unique Musical Experience \nYandel is a top global figure in urban music. He will bring his Yandel Sinfonico show to the famous Starlite Occident festival. This unique performance reinterprets his career in a new artistic way. The event takes place on Saturday July 18 at the Marbella Auditorium. \nYandel has spent over twenty years in the industry. He is a key leader in reggaeton and Latin music history. His work as a solo artist and in famous duos has reached millions of listeners. He has completed huge global tours and won many awards for his cultural impact. \nAt Starlite Occident Yandel blends his unique voice with a full symphony orchestra. This creates a sophisticated and exciting musical style. Fans can rediscover his greatest hits with new elegance and depth. This unrepeatable concert happens under the stars at the Nagüeles Quarry.
URL:https://themarbelladirectory.com/event/yandel-sinfonico-starlite-occident-marbella-2026/
LOCATION:Starlite Occident\, Calle Albinoni s/n\, Cantera de Nagüeles\, Marbella\, Málaga\, 29602\, Spain
CATEGORIES:Activity,Concert,entertainment,Live Show,Music Events
ATTACH;FMTTYPE=image/jpeg:https://themarbelladirectory.com/wp-content/uploads/2026/01/0718_Yandel_StarliteMarbella26.jpg
END:VEVENT
BEGIN:VEVENT
DTSTART;TZID=Europe/Madrid:20260718T200000
DTEND;TZID=Europe/Madrid:20260718T233000
DTSTAMP:20260426T062057
CREATED:20260329T075351Z
LAST-MODIFIED:20260329T075351Z
UID:10002060-1784404800-1784417400@themarbelladirectory.com
SUMMARY:Yandel Sinfónico Live at Starlite Marbella 2026: Official Guide
DESCRIPTION:Experience the Innovation of Yandel Sinfónico Live in Marbella\nThe urban music pioneer Yandel arrives in Marbella on Saturday\, July 18\, 2026. This historic performance takes place at the world-renowned Starlite Occident festival. Specifically\, the artist will perform in the Auditorio\, an open-air stage set within the spectacular Nagüeles quarry. As one of the most influential figures in Latin music\, Yandel introduces his Yandel Sinfónico project. This unique show reimagines his legendary career through a sophisticated symphonic lens. \nA Legendary Career Reimagined\nYandel has been a fundamental force in the evolution of reggaeton for over two decades. Whether performing solo or as part of an iconic duo\, he has reached millions of listeners worldwide. During this special evening\, his unmistakable voice and melodic sensitivity fuse with the rich sound of a full orchestra. Consequently\, fans can rediscover his biggest hits with a new level of depth and elegance. This production represents a major artistic milestone\, bridging the gap between urban rhythms and classical instrumentation. \nAn Unforgettable Night Under the Stars\nThe Auditorio stage provides the perfect backdrop for such an emotional performance. Located in a natural quarry\, the venue offers world-class acoustics that will highlight the orchestral arrangements. Attendees can expect a vibrant yet sophisticated atmosphere as they enjoy the most famous anthems of his career. Because this is an “irrepetible” event\, demand for tickets is exceptionally high. Therefore\, joining the international community in Marbella for this one-night-only spectacle is highly recommended for all fans of contemporary Latin music. \nVenue and Access Information\nStarlite Occident is located in the Cantera de Nagüeles\, a unique landscape that creates a premium boutique festival experience. Doors for the event will open at 20:00\, providing ample time for guests to enjoy the luxury amenities before the music begins. The main performance starts promptly at 22:00. Please note the venue’s policy for younger guests. Specifically\, individuals under 18 years of age must leave the premises immediately after the concert concludes. We suggest arriving early to fully experience the magic of this Mediterranean summer night. \nEvent Schedule \n\nDate: Saturday\, July 18\, 2026\nDoors Open: 20:00 (8:00 PM)\nConcert Starts: 22:00 (10:00 PM)\nVenue: Auditorio\, Starlite Occident\, Marbella\nAge Policy: Under 18s must exit after the performance\n\nTicket Purchase Link\nOfficial advance tickets for “Yandel Sinfónico at Starlite Occident 2026” can be purchased through the authorized festival portal: https://starlitefestival.com/eventoconcierto/yandel-sinfonico/
URL:https://themarbelladirectory.com/event/yandel-sinfonico-starlite-marbella-2026/
LOCATION:Starlite Occident\, Calle Albinoni s/n\, Cantera de Nagüeles\, Marbella\, Málaga\, 29602\, Spain
CATEGORIES:Concert,entertainment,Live Show,Music Events,Nightlife
ATTACH;FMTTYPE=image/jpeg:https://themarbelladirectory.com/wp-content/uploads/2026/03/0718_YandeSinfonico_StarliteMarbella26_NLG.jpg
END:VEVENT
END:VCALENDAR