BEGIN:VCALENDAR
VERSION:2.0
PRODID:-//The Marbella Directory - ECPv6.15.18//NONSGML v1.0//EN
CALSCALE:GREGORIAN
METHOD:PUBLISH
X-WR-CALNAME:The Marbella Directory
X-ORIGINAL-URL:https://themarbelladirectory.com
X-WR-CALDESC:Events for The Marbella Directory
REFRESH-INTERVAL;VALUE=DURATION:PT1H
X-Robots-Tag:noindex
X-PUBLISHED-TTL:PT1H
BEGIN:VTIMEZONE
TZID:Europe/Madrid
BEGIN:DAYLIGHT
TZOFFSETFROM:+0100
TZOFFSETTO:+0200
TZNAME:CEST
DTSTART:20250330T010000
END:DAYLIGHT
BEGIN:STANDARD
TZOFFSETFROM:+0200
TZOFFSETTO:+0100
TZNAME:CET
DTSTART:20251026T010000
END:STANDARD
BEGIN:DAYLIGHT
TZOFFSETFROM:+0100
TZOFFSETTO:+0200
TZNAME:CEST
DTSTART:20260329T010000
END:DAYLIGHT
BEGIN:STANDARD
TZOFFSETFROM:+0200
TZOFFSETTO:+0100
TZNAME:CET
DTSTART:20261025T010000
END:STANDARD
BEGIN:DAYLIGHT
TZOFFSETFROM:+0100
TZOFFSETTO:+0200
TZNAME:CEST
DTSTART:20270328T010000
END:DAYLIGHT
BEGIN:STANDARD
TZOFFSETFROM:+0200
TZOFFSETTO:+0100
TZNAME:CET
DTSTART:20271031T010000
END:STANDARD
END:VTIMEZONE
BEGIN:VEVENT
DTSTART;TZID=Europe/Madrid:20260725T200000
DTEND;TZID=Europe/Madrid:20260725T233000
DTSTAMP:20260423T142444
CREATED:20260329T081249Z
LAST-MODIFIED:20260329T081249Z
UID:10002064-1785009600-1785022200@themarbelladirectory.com
SUMMARY:Miguel Ríos Live at Starlite Marbella 2026: Official Guide
DESCRIPTION:Experience the Rock Legacy of Miguel Ríos Live in Marbella\nThe legendary pioneer of Spanish rock\, Miguel Ríos\, returns to Marbella on Saturday\, July 25\, 2026. This highly anticipated performance takes place at the prestigious Starlite Occident festival. Specifically\, the artist will perform in the Auditorio\, an open-air venue carved into the stunning Nagüeles quarry. With a career spanning over 65 years\, Ríos remains a fundamental figure in the history of music. For one night only\, fans can witness a true icon who continues to define the rock’n’roll spirit for generations. \nAn Incredible Career of Rock Anthems\nMiguel Ríos is more than just a singer; he is a cultural landmark. His career is marked by an impeccable list of global hits that have stood the test of time. During the concert\, the audience will relive emotions through legendary tracks such as Bienvenidos\, Santa Lucía\, and El río. Furthermore\, his world-renowned Himno a la alegría will likely provide a powerful highlight to the evening. His genuine energy and incombustible stage presence ensure that every performance is a historic event. Consequently\, this concert serves as a perfect celebration of his enduring legacy. \nA Unique Setting at the Nagüeles Quarry\nThe Auditorio stage at Starlite Occident provides a professional and exclusive atmosphere for this rock spectacle. Located in a natural quarry\, the venue offers world-class acoustics and a breathtaking backdrop. Doors for the event will open at 20:00\, allowing guests to enjoy the premium amenities before the music begins. The main performance starts promptly at 22:00. Because this is a major highlight of the summer season\, demand for tickets is exceptionally high. Therefore\, joining the international community in Marbella for this one-night-only spectacle is highly recommended. \nVenue and Access Information\nStarlite Occident is located in the Cantera de Nagüeles\, a unique landscape that creates a premium boutique experience. Please note the venue’s policy regarding younger guests. Specifically\, individuals under 18 years of age must leave the premises immediately after the concert concludes. We suggest arriving early to fully experience the magic of this Mediterranean summer night. \nEvent Schedule \n\nDate: Saturday\, July 25\, 2026\nDoors Open: 20:00 (8:00 PM)\nConcert Starts: 22:00 (10:00 PM)\nVenue: Auditorio\, Starlite Occident\, Marbella\nAge Policy: Under 18s must exit after the performance\n\nTicket Purchase Link\nOfficial advance tickets for “Miguel Ríos at Starlite Occident 2026” can be purchased through the authorized festival portal: https://starlitefestival.com/eventoconcierto/miguel-rios-2/
URL:https://themarbelladirectory.com/event/miguel-rios-live-at-starlite-marbella-2026-official-guide/
LOCATION:Starlite Occident\, Calle Albinoni s/n\, Cantera de Nagüeles\, Marbella\, Málaga\, 29602\, Spain
CATEGORIES:Concert,entertainment,Live Show,Music Events,Nightlife
ATTACH;FMTTYPE=image/jpeg:https://themarbelladirectory.com/wp-content/uploads/2026/03/0725_Miguel_Rios_StarliteMarbella26_NLG.jpg
END:VEVENT
BEGIN:VEVENT
DTSTART;TZID=Europe/Madrid:20260725T213000
DTEND;TZID=Europe/Madrid:20260725T230000
DTSTAMP:20260423T142444
CREATED:20260108T044058Z
LAST-MODIFIED:20260108T044058Z
UID:10001821-1785015000-1785020400@themarbelladirectory.com
SUMMARY:Catch Los Delinquentes Live at Marenostrum Fuengirola 2026
DESCRIPTION:Catch Los Delinquentes Live at Marenostrum Fuengirola 2026 \nThe legendary group Los Delinqüentes returns to the stage at Marenostrum Fuengirola this summer. Fans can enjoy their unique “garrapatero” sound on Saturday\, July 25\, 2026. The band will perform at the Escenario Unicaja for a historic 25th-anniversary celebration. \nA 25th Anniversary Celebration Los Delinqüentes return after nearly 15 years away from the stage. This special tour celebrates their iconic debut album. The band will perform the entire “El sentimiento garrapatero que nos traen las flores” record. You will hear massive hits like “La primavera trompetera” and “El aire de la calle”. Experience the energy that marked a generation of Spanish music lovers. \nThe Perfect Open-Air Setting The concert takes place in a spectacular setting by the Mediterranean Sea. The historic Sohail Castle provides a beautiful backdrop for the performance. This venue offers both seated and standing areas for all guests. It is the perfect place to enjoy authentic flamenco-pop under the stars. \nEvent Schedule and Tickets Doors will open at 6:30 PM (18:30h). This gives you time to enjoy the venue before the show starts. The main performance begins at 9:30 PM (21:30h). Tickets start from 46.20 Euros. This price includes all management fees and VAT. Secure your spot now to celebrate this landmark musical anniversary.
URL:https://themarbelladirectory.com/event/los-delinquentes-marenostrum-fuengirola-concert-2026/
LOCATION:Marenostrum Fuengirola – Escenario Unicaja\, Calle Tartesios s/n (Sohail Castle Hillside)\, Fuengirola\, Málaga\, 29640\, Spain
CATEGORIES:Concert,entertainment,Live Show,Music Events
ATTACH;FMTTYPE=image/jpeg:https://themarbelladirectory.com/wp-content/uploads/2026/01/1.-DLQ_Marenostrum_50x70.jpg
ORGANIZER;CN="Treintay3 Producciones & Management SL (33 Producciones)":MAILTO:ticketing@33producciones.es
END:VEVENT
BEGIN:VEVENT
DTSTART;TZID=Europe/Madrid:20260725T220000
DTEND;TZID=Europe/Madrid:20260725T233000
DTSTAMP:20260423T142444
CREATED:20260310T143000Z
LAST-MODIFIED:20260310T143000Z
UID:10001971-1785016800-1785022200@themarbelladirectory.com
SUMMARY:El Arrebato Málaga 2026: Official Guide to "El Viaje Inesperado"
DESCRIPTION:El Arrebato Brings “El Viaje Inesperado” to Málaga\nThe renowned Spanish artist El Arrebato performs in Málaga on Saturday\, July 25\, 2026. This highly anticipated event at the Plaza de Toros La Malagueta marks a major stop on his national tour\, El Viaje Inesperado. Specifically\, the show serves as a celebratory journey through the artist’s most beloved hits while introducing fresh material from his latest creative chapter. Fans can expect a night filled with the signature rumba-pop energy and emotional depth that have defined his career for over two decades. \nA Night of Celebration and Connection\nEl Viaje Inesperado translates to “The Unexpected Journey\,” a theme that reflects the artist’s view of life as a series of beautiful\, unpredictable turns. The concert promises an immersive experience where music acts as a bridge between the performer and the audience. Furthermore\, the production highlights El Arrebato’s ability to find beauty in the unexpected\, blending high-energy stage presence with moments of intimate storytelling. Consequently\, the evening provides more than just a standard concert; it is a shared celebration of resilience and joy. \nExperience the Event at Plaza de Toros La Malagueta\nThe performance takes place at the historic Plaza de Toros de La Malagueta\, one of Málaga’s most iconic and atmospheric outdoor venues. Located in the Paseo de Reding\, this landmark provides a professional and grand setting ideal for large-scale summer music festivals. Because this is a high-demand event featuring one of Spain’s most cherished artists\, securing your admission in advance is essential. Doors open promptly at 20:00h\, with the main performance scheduled to begin at 22:00h. Therefore\, join the crowd for an unforgettable night under the Mediterranean stars. \nEvent Schedule \n\nDate: Saturday\, July 25\, 2026\nDoors Open: 20:00 (8:00 PM)\nConcert Starts: 22:00 (10:00 PM)\nVenue: Plaza de Toros de La Malagueta\, Málaga\nTicket Price: From 38.50 EUR
URL:https://themarbelladirectory.com/event/el-arrebato-malaga-concert-2026/
LOCATION:Plaza de toros de Málaga\, Paseo de Reding\, 8\, 29016 Málaga\, Spain\, Málaga\, Málaga\, 29016\, Spain
CATEGORIES:Concert,entertainment,Live Show,Music Events
ATTACH;FMTTYPE=image/jpeg:https://themarbelladirectory.com/wp-content/uploads/2026/03/galeria_3551_uw4y5yc7.jpg
ORGANIZER;CN="Grupo Mundo":MAILTO:info@grupomundo.es
END:VEVENT
END:VCALENDAR