BEGIN:VCALENDAR
VERSION:2.0
PRODID:-//The Marbella Directory - ECPv6.15.18//NONSGML v1.0//EN
CALSCALE:GREGORIAN
METHOD:PUBLISH
X-WR-CALNAME:The Marbella Directory
X-ORIGINAL-URL:https://themarbelladirectory.com
X-WR-CALDESC:Events for The Marbella Directory
REFRESH-INTERVAL;VALUE=DURATION:PT1H
X-Robots-Tag:noindex
X-PUBLISHED-TTL:PT1H
BEGIN:VTIMEZONE
TZID:Europe/Madrid
BEGIN:DAYLIGHT
TZOFFSETFROM:+0100
TZOFFSETTO:+0200
TZNAME:CEST
DTSTART:20230326T010000
END:DAYLIGHT
BEGIN:STANDARD
TZOFFSETFROM:+0200
TZOFFSETTO:+0100
TZNAME:CET
DTSTART:20231029T010000
END:STANDARD
BEGIN:DAYLIGHT
TZOFFSETFROM:+0100
TZOFFSETTO:+0200
TZNAME:CEST
DTSTART:20240331T010000
END:DAYLIGHT
BEGIN:STANDARD
TZOFFSETFROM:+0200
TZOFFSETTO:+0100
TZNAME:CET
DTSTART:20241027T010000
END:STANDARD
BEGIN:DAYLIGHT
TZOFFSETFROM:+0100
TZOFFSETTO:+0200
TZNAME:CEST
DTSTART:20250330T010000
END:DAYLIGHT
BEGIN:STANDARD
TZOFFSETFROM:+0200
TZOFFSETTO:+0100
TZNAME:CET
DTSTART:20251026T010000
END:STANDARD
BEGIN:DAYLIGHT
TZOFFSETFROM:+0100
TZOFFSETTO:+0200
TZNAME:CEST
DTSTART:20260329T010000
END:DAYLIGHT
BEGIN:STANDARD
TZOFFSETFROM:+0200
TZOFFSETTO:+0100
TZNAME:CET
DTSTART:20261025T010000
END:STANDARD
BEGIN:DAYLIGHT
TZOFFSETFROM:+0100
TZOFFSETTO:+0200
TZNAME:CEST
DTSTART:20270328T010000
END:DAYLIGHT
BEGIN:STANDARD
TZOFFSETFROM:+0200
TZOFFSETTO:+0100
TZNAME:CET
DTSTART:20271031T010000
END:STANDARD
BEGIN:DAYLIGHT
TZOFFSETFROM:+0100
TZOFFSETTO:+0200
TZNAME:CEST
DTSTART:20280326T010000
END:DAYLIGHT
BEGIN:STANDARD
TZOFFSETFROM:+0200
TZOFFSETTO:+0100
TZNAME:CET
DTSTART:20281029T010000
END:STANDARD
BEGIN:DAYLIGHT
TZOFFSETFROM:+0100
TZOFFSETTO:+0200
TZNAME:CEST
DTSTART:20290325T010000
END:DAYLIGHT
BEGIN:STANDARD
TZOFFSETFROM:+0200
TZOFFSETTO:+0100
TZNAME:CET
DTSTART:20291028T010000
END:STANDARD
END:VTIMEZONE
BEGIN:VEVENT
DTSTART;TZID=Europe/Madrid:20240319T100000
DTEND;TZID=Europe/Madrid:20280130T180000
DTSTAMP:20260421T120422
CREATED:20251211T085220Z
LAST-MODIFIED:20251211T085315Z
UID:10001436-1710842400-1832868000@themarbelladirectory.com
SUMMARY:Pablo Picasso: Structures of Invention
DESCRIPTION:Pablo Picasso: Structures of Invention – The Unity of a Life’s Work\nExperience a revolutionary view of the master’s career! The Museo Picasso Málaga has transformed its galleries to host Pablo Picasso: Structures of Invention. This permanent transformation is a project from the Museo Picasso Málaga. It features approximately 144 works of art. Furthermore\, these pieces reveal Picasso’s extraordinary ability to create innovative structures. \nThe Unity of a Life’s Work\nThis new installation challenges conventional interpretations of Picasso’s career. Curator Michael FitzGerald proposes a unified body of art. Therefore\, the installation avoids the traditional practice of dividing his work. \nTraditionally\, Picasso’s long career is fragmented in two main ways: \n\nStylistic Periods: These include the ‘Blue’ period\, ‘Cubism\,‘ or ‘Surrealism’.\nBiographical Periods: These are based on his relationships\, such as the period of Dora Maar or Jacqueline Roque.\n\nConversely\, the new display reconnects these different phases. FitzGerald states that Picasso’s creativity arose from two opposing inspirations: innovation and retrospection. Consequently\, the exhibition illustrates how he wove Cubism\, Classicism\, and Surrealism into one cohesive whole. \nNew Works and Thematic Jumps\nThis Picasso Structures of Invention approach involves the viewer in the artist’s creative process. Visitors now see relationships across his career by combining works from different decades in the same gallery. \n\nWorks Spanning Decades: The works span the period between 1895 and 1972.\nTechniques: The display combines painting\, sculpture\, ceramics\, drawing\, and graphic art.\nNew to Spain: The exhibition features several pieces new to Spain. For example\, these include the oils Paul (The Artist’s Son) (1922) and Head of a Woman (1928). The sculpture Woman leaning on her Elbow (1933) is also displayed.\n\nResearch and Focus Exhibitions\nA new feature includes five small ‘Focus Exhibitions’ within the permanent collection. Researchers from the Fundación Almine y Bernard Ruiz-Picasso (FABA) curate these sections. Specifically\, themes covered include the artist’s relationship with African sculpture and his plaster sculptures of the 1930s.
URL:https://themarbelladirectory.com/event/pablo-picasso-structures-of-invention/
LOCATION:Museo Picasso Málaga\, Palacio de Buenavista Calle San Agustín\, 8\, Málaga\, Málaga\, 29015\, Spain
CATEGORIES:Activity,Art,entertainment,Exhibition
ATTACH;FMTTYPE=image/jpeg:https://themarbelladirectory.com/wp-content/uploads/2025/12/large_Expo_Estructuras_Invencion_eb739f2131.jpg
ORGANIZER;CN="Museo Picasso M%C3%A1laga":MAILTO:info@mpicassom.org
END:VEVENT
BEGIN:VEVENT
DTSTART;VALUE=DATE:20250703
DTEND;VALUE=DATE:20270201
DTSTAMP:20260421T120422
CREATED:20260109T074607Z
LAST-MODIFIED:20260109T074607Z
UID:10001842-1751500800-1801439999@themarbelladirectory.com
SUMMARY:To Open Eyes: Transforming Our Gaze Through Modern Art
DESCRIPTION:To Open Eyes: Transforming Our Gaze Through Modern Art\nArt should teach us to see and feel life more deeply. In 1940\, the influential artist Josef Albers shared this powerful vision. Today\, the Centre Pompidou Malaga brings this philosophy to life in its new exhibition. “To Open Eyes” invites you on a journey through the evolution of modern creativity. \nThis exhibition explores how artists help us transform our relationship with the world. Consequently\, the display does not follow a simple timeline. Instead\, it organizes works based on visual themes and artistic rimas. You will find a diverse range of media\, from traditional paintings to contemporary installations. Furthermore\, these pieces reflect the immense richness of the National Museum of Modern Art in Paris. \nVisitors can witness the major ruptures that shaped the history of 20th and 21st-century art. The collection specifically highlights how art interacts with history\, spirituality\, and our social imagination. By moving away from a traditional narrative\, the exhibition offers a free and open panorama. Therefore\, every visitor can experience a unique connection with the works on display. \nThis is more than just an art show. It is an invitation to decentralize your gaze and reconsider the world around you. Make sure to visit this landmark exhibition in Malaga before it concludes in early 2027.
URL:https://themarbelladirectory.com/event/to-open-eyes-exhibition-centre-pompidou-malaga/
LOCATION:Centre Pompidou Málaga (The Cube)\, Pasaje Doctor Carrillo Casaux\, s/n\, 29016\, Muelle Uno\, Puerto de Málaga\, Spain\, Málaga\, Málaga\, Spain
CATEGORIES:Activity,Art,Exhibition,Theater & Arts,Workshop
ATTACH;FMTTYPE=image/jpeg:https://themarbelladirectory.com/wp-content/uploads/2026/01/images.jpg
ORGANIZER;CN="Ayuntamiento de M%C3%A1laga":MAILTO:info@malaga.eu
END:VEVENT
BEGIN:VEVENT
DTSTART;VALUE=DATE:20260602
DTEND;VALUE=DATE:20260606
DTSTAMP:20260421T120422
CREATED:20251211T044221Z
LAST-MODIFIED:20251211T044742Z
UID:10001419-1780358400-1780703999@themarbelladirectory.com
SUMMARY:EuCNC & 6G Summit 2026
DESCRIPTION:EuCNC & 6G Summit 2026 – Leading the Future of Telecommunications\nThe 2026 6G Summit Conference is returning to Málaga! This major event is built on the success of two powerful conferences: EuCNC (European Conference on Networks and Communications) and the 6G Summit. This global summit focuses on all critical aspects of future telecommunications. \nUniting Research and Industry for Future Networks\nThis four-day conference addresses everything from 5G deployment to 6G exploration. Specifically\, the program covers future communications systems\, mobile IoT\, and advanced networks. Moreover\, experts will discuss experimentation\, testbeds\, applications\, and services. The event brings together cutting-edge research and world-renowned industries. \nGlobal Reach and Academic Excellence\nThis 6G Summit Conference is an international hub. The conference globally attracts over 1000 delegates. In fact\, attendees come from more than 40 countries worldwide. Prestigious organizations sponsor the conference. These include the IEEE Communications Society (ComSoc) and the European Association for Signal Processing (EURASIP). The European Commission also supports the EuCNC element. \nExhibition\, Awards\, and Non-Profit Focus\nThe summit features a large exhibition with over 50 exhibitors. Exhibitors demonstrate technology developed within EU R&I programmes. Furthermore\, the organization is non-profit. Therefore\, registration fees remain as low as possible. All surplus funds are made available in grants. The event grants both Best Papers and Booth Awards. Accepted papers will be published in the Conference Proceedings. Then\, they are submitted to IEEE Xplore and other Abstracting and Indexing databases. Don’t miss this opportunity to discuss the latest results and shape the future of global communications. \nOfficial Registration\nFor registration details\, the scientific program\, and submission information\, please visit the official conference website. \nVisit the EuCNC & 6G Summit Website
URL:https://themarbelladirectory.com/event/eucnc-6g-summit-2026/
LOCATION:Palacio de Ferias y Congresos de Málaga (FYCMA)\, Av. Ortega y Gasset\, 201\, Málaga\, Málaga\, 29006\, Spain
CATEGORIES:Activity,Awards Ceremony,Business & Networking,Conference,entertainment,Exhibition,Professional fairs
ATTACH;FMTTYPE=image/jpeg:https://themarbelladirectory.com/wp-content/uploads/2025/12/EuCNC6GSummit_Malaga2026.jpg
ORGANIZER;CN="Universidad de M%C3%A1laga (UMA)":MAILTO:info@uma.es
END:VEVENT
BEGIN:VEVENT
DTSTART;VALUE=DATE:20260609
DTEND;VALUE=DATE:20260612
DTSTAMP:20260421T120422
CREATED:20251211T051931Z
LAST-MODIFIED:20251211T051931Z
UID:10001420-1780963200-1781222399@themarbelladirectory.com
SUMMARY:DES – The Leading AI & Digital Enterprise Show 2026
DESCRIPTION:DES – The Leading AI & Digital Enterprise Show 2026\nPrepare for the future of business transformation! DES –The Leading AI & Digital Enterprise Show is the leading international B2B event focusing on AI and Exponential Technologies. This three-day event is essential for driving business growth strategies. \nDriving Change Through Technology\nThe Digital Enterprise Show brings together top experts\, innovative companies\, and industry leaders in Málaga. First\, they share knowledge and explore disruptive solutions. Furthermore\, the event focuses on how to drive change through technology\, AI\, and digitalization. \n\nFocus Areas: The congress centers on Artificial Intelligence and other Exponential Technologies.\nAudience: DES is specifically designed as a B2B platform for enterprise transformation.\nLocation: The event takes place at FYCMA\, establishing Málaga as a hub for digital innovation.\n\nTickets & Registration\nReady to lead your enterprise’s transformation? Secure your ticket and check the benefits available for attendees. \nGet DES Tickets and Check Benefits Here
URL:https://themarbelladirectory.com/event/des-digital-enterprise-show-ai-malaga-2026/
LOCATION:Palacio de Ferias y Congresos de Málaga (FYCMA)\, Av. Ortega y Gasset\, 201\, Málaga\, Málaga\, 29006\, Spain
CATEGORIES:Activity,Business & Networking,entertainment,Exhibition,Professional fairs
ATTACH;FMTTYPE=image/png:https://themarbelladirectory.com/wp-content/uploads/2025/12/cartel-500x500-2.png
ORGANIZER;CN="NEBEXT":MAILTO:info@nebext.com
END:VEVENT
BEGIN:VEVENT
DTSTART;TZID=Europe/Madrid:20260619T083000
DTEND;TZID=Europe/Madrid:20260619T210000
DTSTAMP:20260421T120422
CREATED:20251211T053629Z
LAST-MODIFIED:20251211T054038Z
UID:10001421-1781857800-1781902800@themarbelladirectory.com
SUMMARY:14th eCongress Malaga
DESCRIPTION:14th eCongress Málaga – Southern Europe’s Digital Marketing Leader!\nThe eCongress Málaga is back for its 14th annual event! This gathering is the benchmark for professionals in e-commerce\, social media\, and digital marketing. In fact\, the success of previous editions has established it as the leading event in Southern Europe in its sector. \nWhat to Expect at the Digital Marketing Congress\nThis 14th edition is a must-attend for all marketing enthusiasts. Attendees want to learn about the latest trends in e-commerce and the most effective marketing strategies. \n\nMain Conferences: The highlight is the conferences\, held in the Auditorium of the Málaga Trade Fair and Congress Center. These feature leading experts.\nKey Topics: Learn about AI\, SEO secrets\, and advanced e-commerce strategies.\nTraining & Networking: Furthermore\, the event offers free training workshops for attendees. You will also find an exhibition area\, essential networking opportunities\, and many more surprises.\n\nRegistration & Event Information\nJoin the thousands of attendees who make this the biggest digital marketing event in Southern Europe! \nVisit the eCongress Málaga Official Website
URL:https://themarbelladirectory.com/event/14th-econgress-malaga/
LOCATION:Palacio de Ferias y Congresos de Málaga (FYCMA)\, Av. Ortega y Gasset\, 201\, Málaga\, Málaga\, 29006\, Spain
CATEGORIES:Activity,Business & Networking,Conference,Congress,Exhibition
ATTACH;FMTTYPE=image/png:https://themarbelladirectory.com/wp-content/uploads/2025/12/Gemini_Generated_Image_5wyokk5wyokk5wyo.png
ORGANIZER;CN="eCongress":MAILTO:info@econgressmalaga.es
END:VEVENT
BEGIN:VEVENT
DTSTART;TZID=Europe/Madrid:20260619T210000
DTEND;TZID=Europe/Madrid:20260619T230000
DTSTAMP:20260421T120422
CREATED:20260120T074039Z
LAST-MODIFIED:20260120T074039Z
UID:10001863-1781902800-1781910000@themarbelladirectory.com
SUMMARY:No Me Pises Que Llevo Chanclas
DESCRIPTION:Legendary Pop-Rock Double Celebration at Sala París 15\nGet ready for an extraordinary night of music and laughter as two icons of Spanish pop-rock join forces in Malaga! On Friday\, June 19\, 2026\, the legendary Orquesta Mondragón and the masters of “Agropop\,” No Me Pises Que Llevo Chanclas\, will hit the stage at Sala París 15 for a historic double anniversary celebration. \nOrquesta Mondragón\, led by the charismatic Javier Gurruchaga\, marks a monumental 50 years of success\, bringing half a century of rock\, blues\, and irreverent humor to the stage. Meanwhile\, No Me Pises Que Llevo Chanclas celebrates 35 years of hits that revolutionized the 90s with their infectious energy and good vibes. \nThis is a unique opportunity to sing along to timeless classics like “Bolillón” and “Viaje con Nosotros” in a live setting that promises to be one of the most fun concerts of the year. Do not miss this chance to witness a fusion of memory and vitality in one of Malaga’s most dynamic concert halls. \nEvent Schedule \n\nDate: Friday\, June 19\, 2026\nDoors Open: 21:00 (9:00 PM)\nConcert Starts: 22:00 (10:00 PM)\nPrice: 35€ (Advance sale)
URL:https://themarbelladirectory.com/event/no-me-pises-que-llevo-chanclas-orquesta-mondragon-malaga-2026/
LOCATION:Sala París 15\, Calle la Orotava\, 25\, 27\, 29006 Málaga\, Spain\, Málaga\, Málaga\, 29006\, Spain
CATEGORIES:Concert,entertainment,Exhibition,Live Performance,Live Show,Music Events
ATTACH;FMTTYPE=image/jpeg:https://themarbelladirectory.com/wp-content/uploads/2026/01/WhatsApp-Image-2025-12-26-at-12.35.30.jpeg
ORGANIZER;CN="Orion Producciones S.L.":MAILTO:electronica@paris15.es
END:VEVENT
BEGIN:VEVENT
DTSTART;TZID=Europe/Madrid:20260622T083000
DTEND;TZID=Europe/Madrid:20260623T183000
DTSTAMP:20260421T120422
CREATED:20251211T055612Z
LAST-MODIFIED:20251211T055612Z
UID:10001422-1782117000-1782239400@themarbelladirectory.com
SUMMARY:CM MÁLAGA – Culture & Museums International Tech Forum
DESCRIPTION:CM Málaga 2026 – Culture & Museums International Tech Forum\nJoin the leading international forum dedicated to cultural innovation! CM Málaga – Culture & Museums International Tech Forum is committed to promoting technological and innovative solutions in the field of culture. This event aims to elevate culture to a new dimension\, making it sustainable and accessible. Furthermore\, it strives to further improve culture’s position as an economic and social engine. \nCentral Axes of the Cultural Tech Forum\nThe central themes of CM Málaga revolve around the 21st-century cultural landscape. \n\nDigital Transformation: The management\, promotion\, and digital transformation of museums are key focus areas.\nSmart Destinations: The interaction of emerging cultural spaces with smart cultural destinations is also a core topic.\nInspiration & Synergy: This inspiring forum invites attendees to connect projects\, share ideas\, and establish synergies. Also\, participants can offer services\, address new technologies\, and get inspired to project cultural destinations and museums of the future.\n\nWebsite & Registration\nReady to contribute to the future of cultural tourism and museum management? \nVisit the CM Málaga Official Website
URL:https://themarbelladirectory.com/event/cm-malaga-cultural-tech-forum-2026/
LOCATION:Palacio de Ferias y Congresos de Málaga (FYCMA)\, Av. Ortega y Gasset\, 201\, Málaga\, Málaga\, 29006\, Spain
CATEGORIES:Activity,Business & Networking,Congress,Exhibition
ATTACH;FMTTYPE=image/png:https://themarbelladirectory.com/wp-content/uploads/2025/12/Gemini_Generated_Image_6dgdod6dgdod6dgd-1.png
ORGANIZER;CN="FYCMA":MAILTO:info@fycma.com
END:VEVENT
END:VCALENDAR