BEGIN:VCALENDAR
VERSION:2.0
PRODID:-//The Marbella Directory - ECPv6.15.18//NONSGML v1.0//EN
CALSCALE:GREGORIAN
METHOD:PUBLISH
X-WR-CALNAME:The Marbella Directory
X-ORIGINAL-URL:https://themarbelladirectory.com
X-WR-CALDESC:Events for The Marbella Directory
REFRESH-INTERVAL;VALUE=DURATION:PT1H
X-Robots-Tag:noindex
X-PUBLISHED-TTL:PT1H
BEGIN:VTIMEZONE
TZID:Europe/Madrid
BEGIN:DAYLIGHT
TZOFFSETFROM:+0100
TZOFFSETTO:+0200
TZNAME:CEST
DTSTART:20250330T010000
END:DAYLIGHT
BEGIN:STANDARD
TZOFFSETFROM:+0200
TZOFFSETTO:+0100
TZNAME:CET
DTSTART:20251026T010000
END:STANDARD
BEGIN:DAYLIGHT
TZOFFSETFROM:+0100
TZOFFSETTO:+0200
TZNAME:CEST
DTSTART:20260329T010000
END:DAYLIGHT
BEGIN:STANDARD
TZOFFSETFROM:+0200
TZOFFSETTO:+0100
TZNAME:CET
DTSTART:20261025T010000
END:STANDARD
BEGIN:DAYLIGHT
TZOFFSETFROM:+0100
TZOFFSETTO:+0200
TZNAME:CEST
DTSTART:20270328T010000
END:DAYLIGHT
BEGIN:STANDARD
TZOFFSETFROM:+0200
TZOFFSETTO:+0100
TZNAME:CET
DTSTART:20271031T010000
END:STANDARD
END:VTIMEZONE
BEGIN:VEVENT
DTSTART;TZID=Europe/Madrid:20260807T100000
DTEND;TZID=Europe/Madrid:20260807T120000
DTSTAMP:20260420T135907
CREATED:20260406T043754Z
LAST-MODIFIED:20260406T043754Z
UID:10002156-1786096800-1786104000@themarbelladirectory.com
SUMMARY:Quedada Málaga: Social Networking and Meetup Event
DESCRIPTION:Experience Community and Connection at the Quedada Málaga Event\nFirstly\, join us for a vibrant social experience at the upcoming Quedada event in the heart of Málaga. This gathering provides the perfect opportunity to spend quality time with friends and meet new people in a relaxed atmosphere. Consequently\, you can expand your social circle and discover like-minded individuals who share your interests. The event focuses on building lasting connections within the local community through fun-filled activities and informal networking. \nWhat to Expect from the Gathering \nThe session is designed for everyone who enjoys socializing and professional networking. Whether you are a long-term resident or a newcomer to the city\, this in-person event offers a welcoming environment for all. Moreover\, the program includes various social dynamics to help break the ice and facilitate meaningful conversations. As a result\, participants can expect a day filled with laughter\, shared stories\, and the chance to create a strong support network in one of the most beautiful residential areas of Málaga. \nVenue and Atmosphere in El Limonar \nThe event takes place in the prestigious Palmeras del Limonar district. This neighborhood is known for its stunning architecture and lush\, Mediterranean greenery. Specifically\, the gathering will be held in a professional yet comfortable setting that allows for both group interactions and personal introductions. Because the venue is located within the 29016 area\, guests can enjoy a peaceful environment that captures the true essence of the Málaga lifestyle. \nParticipation and Schedule \nFinally\, ensure you arrive early to take full advantage of the two-hour social program. Doors will open at 9:30 AM to allow for initial introductions before the main activities begin at 10:00 AM. This is a must-visit event for anyone looking to bridge the gap between digital social life and real-world friendship. \n\nDate: Friday\, August 7\, 2026\nTime: 10:00 AM to 12:00 PM (Doors open at 9:30 AM)\nVenue: Palmeras del Limonar\nLocation: 29016 Málaga\, Spain\n\nJoin us for an unforgettable morning of connection and community spirit in the sun. \n\nTicket Information\nOfficial Registration: Reserve Your Spot on Eventbrite
URL:https://themarbelladirectory.com/event/quedada-malaga-social-networking-and-meetup-event/
LOCATION:Official College of Architects of Málaga\, Calle Palmeras del Limonar\, 31\, 29016 Málaga\, Spain\, Málaga\, Málaga\, 29016\, Spain
CATEGORIES:Activity,Business & Networking,entertainment,Flea Market,Shopping
ATTACH;FMTTYPE=image/webp:https://themarbelladirectory.com/wp-content/uploads/2026/04/image-16.webp
END:VEVENT
END:VCALENDAR