BEGIN:VCALENDAR
VERSION:2.0
PRODID:-//The Marbella Directory - ECPv6.15.18//NONSGML v1.0//EN
CALSCALE:GREGORIAN
METHOD:PUBLISH
X-WR-CALNAME:The Marbella Directory
X-ORIGINAL-URL:https://themarbelladirectory.com
X-WR-CALDESC:Events for The Marbella Directory
REFRESH-INTERVAL;VALUE=DURATION:PT1H
X-Robots-Tag:noindex
X-PUBLISHED-TTL:PT1H
BEGIN:VTIMEZONE
TZID:Europe/Madrid
BEGIN:DAYLIGHT
TZOFFSETFROM:+0100
TZOFFSETTO:+0200
TZNAME:CEST
DTSTART:20250330T010000
END:DAYLIGHT
BEGIN:STANDARD
TZOFFSETFROM:+0200
TZOFFSETTO:+0100
TZNAME:CET
DTSTART:20251026T010000
END:STANDARD
BEGIN:DAYLIGHT
TZOFFSETFROM:+0100
TZOFFSETTO:+0200
TZNAME:CEST
DTSTART:20260329T010000
END:DAYLIGHT
BEGIN:STANDARD
TZOFFSETFROM:+0200
TZOFFSETTO:+0100
TZNAME:CET
DTSTART:20261025T010000
END:STANDARD
BEGIN:DAYLIGHT
TZOFFSETFROM:+0100
TZOFFSETTO:+0200
TZNAME:CEST
DTSTART:20270328T010000
END:DAYLIGHT
BEGIN:STANDARD
TZOFFSETFROM:+0200
TZOFFSETTO:+0100
TZNAME:CET
DTSTART:20271031T010000
END:STANDARD
END:VTIMEZONE
BEGIN:VEVENT
DTSTART;TZID=Europe/Madrid:20260314T200000
DTEND;TZID=Europe/Madrid:20260314T223000
DTSTAMP:20260421T102302
CREATED:20260310T165914Z
LAST-MODIFIED:20260310T165914Z
UID:10001987-1773518400-1773527400@themarbelladirectory.com
SUMMARY:Wicked Leather and Abxenta Live in Málaga 2026: Heavy Metal Guide
DESCRIPTION:Wicked Leather and Abxenta Bring Classic Heavy Metal to Málaga\nThe raw power of old-school heavy metal arrives in Málaga on Saturday\, March 14\, 2026. This highly anticipated event at Velvet Club features the Málaga debut of Wicked Leather\, joined by the intense energy of Abxenta. Specifically\, the night serves as a dedicated celebration of classic metal traditions\, blending dark atmospheres with the relentless spirit of the underground scene. For fans of amplified riffs and driving rhythms\, this concert stands as a primary highlight of the 2026 metal calendar in Southern Spain. \nA Night of Old-School Metal and Atmospheric Power\nWicked Leather makes their first appearance in the city following the successful release of their EP\, Echoes of the Storm. Known for a sound that pays homage to the golden era of heavy metal\, the band has experienced a rapid rise within the regional circuit. Furthermore\, they share the stage with Abxenta\, a project that mirrors their passion for high-impact live performances. Together\, these two bands will transform the venue into a hub of sonic intensity. Consequently\, attendees can expect a night shaped by authentic metal culture and high-energy stagecraft. \nExperience the Intensity at Velvet Club Málaga\nThe event takes place at Velvet Club\, a premier destination for independent and alternative music in the heart of Málaga. Located on Calle Convalecientes\, the venue provides an intimate setting that allows for a direct connection between the performers and the audience. Because this is a specialized underground metal event\, securing your admission in advance is highly recommended to ensure entry. Doors open at 20:00h\, offering the perfect start to a Saturday night dedicated to heavy music. Therefore\, join the local metal community for an unforgettable experience of raw power and passion. \nEvent Schedule \n\nDate: Saturday\, March 14\, 2026\nTime: 20:00 – 22:30 (8:00 PM – 10:30 PM)\nVenue: Velvet Club Málaga\nFormat: Double Bill Heavy Metal Concert\nTicket Price: 10.50 EUR
URL:https://themarbelladirectory.com/event/wicked-leather-and-abxenta-live-in-malaga-2026-heavy-metal-guide/
LOCATION:Velvet Club Málaga\, Calle Convalecientes\, 11\, 29008 Málaga\, Spain\, Málaga\, Málaga\, 29008\, Spain
CATEGORIES:Concert,entertainment,Live Show,Music Events,Nightlife
ATTACH;FMTTYPE=image/avif:https://themarbelladirectory.com/wp-content/uploads/2026/03/poster_nRr5EMz.avif
ORGANIZER;CN="Velvet Club M%C3%A1laga":MAILTO:info@velvetclub.es
END:VEVENT
BEGIN:VEVENT
DTSTART;TZID=Europe/Madrid:20260314T203000
DTEND;TZID=Europe/Madrid:20260314T230000
DTSTAMP:20260421T102302
CREATED:20260121T073013Z
LAST-MODIFIED:20260121T073013Z
UID:10001879-1773520200-1773529200@themarbelladirectory.com
SUMMARY:Alejo Live in Málaga 2026: Official Concert Announcement
DESCRIPTION:Alejo: The Voice of “La Nueva” Generation Arrives in Málaga\nThe Puerto Rican sensation Alejo is ready to conquer Málaga as part of his highly anticipated Spain Tour 2026. On Saturday\, March 14\, 2026\, the artist will perform at the legendary Sala París 15. Specifically\, this event represents a major milestone for fans of the urban genre in Andalusia. Alejo has rapidly positioned himself as the leading exponent of “La Nueva” generation of artists from Puerto Rico. \nA Global Urban Icon\nAlejo’s meteoric rise is backed by massive collaborations with the biggest names in the industry. For instance\, he has worked with Karol G\, Feid\, Wisin\, Jay Wheeler\, and Nio García. These partnerships have generated hundreds of millions of streams globally. Consequently\, his live performances are known for their high energy and infectious rhythms that blend reggaeton with modern pop sensibilities. \nExperience the Magic at Sala París 15\nThe venue\, Sala París 15\, offers a professional setting with world-class sound and lighting. Located in the heart of Málaga\, it remains a favorite for international urban stars. Furthermore\, the venue provides an intimate yet powerful atmosphere for fans to witness Alejo’s charisma firsthand. Because demand for this tour is extremely high\, we recommend securing your tickets early to avoid disappointment. Therefore\, prepare yourself for a night filled with the hits that are currently defining the future of Latin music. \nEvent Schedule \n\nDate: Saturday\, March 14\, 2026.\nDoors Open: 20:30 (8:30 PM).\nConcert Starts: 21:30 (9:30 PM).\nVenue: Sala París 15\, Málaga.
URL:https://themarbelladirectory.com/event/alejo-live-malaga-concert-2026/
LOCATION:Sala París 15\, Calle la Orotava\, 25\, 27\, 29006 Málaga\, Spain\, Málaga\, Málaga\, 29006\, Spain
CATEGORIES:Concert,entertainment,Live Show,Music Events
ATTACH;FMTTYPE=image/jpeg:https://themarbelladirectory.com/wp-content/uploads/2026/01/usiwoK9HBtGE.jpg
ORGANIZER;CN="The Music Republic S.L.":MAILTO:info@themusicrepublic.es
END:VEVENT
BEGIN:VEVENT
DTSTART;TZID=Europe/Madrid:20260314T210000
DTEND;TZID=Europe/Madrid:20260314T230000
DTSTAMP:20260421T102302
CREATED:20260310T170405Z
LAST-MODIFIED:20260310T170405Z
UID:10001988-1773522000-1773529200@themarbelladirectory.com
SUMMARY:Sosad Háblalo Bajito Tour Málaga 2026: Official Guide
DESCRIPTION:Sosad Brings the “Háblalo Bajito Tour” to Málaga\nThe rising urban sensation Sosad performs in Málaga on Saturday\, March 14\, 2026. This highly anticipated show at Sala Marte marks a key stop on his national Háblalo Bajito Tour. Specifically\, the performance serves as a showcase for his 2025 breakout album\, exploring a unique blend of pop\, rock\, and rap that has captured the attention of thousands of monthly listeners. Consequently\, fans can expect a night that balances contemporary urban energy with deeply personal and emotional lyrics. \nA Defining Voice of the New Urban Generation\nOriginally emerging from Alcalá de Henares\, Sosad has established himself as a prominent figure in the Spanish urban scene. His artistic evolution is clearly displayed in his recent live formats and festival appearances. Furthermore\, the tour highlights tracks from his latest album\, including the titular Háblalo Bajito\, which has solidified his reputation for direct and honest storytelling. Therefore\, the evening provides more than just a standard rap concert; it is an immersive experience designed to build a direct connection between the artist and his growing audience. \nExperience the Intimacy of Sala Marte Málaga\nThe event takes place at Sala Marte\, a premier destination for independent and urban music in Málaga. Located in the Málaga-Este district on Calle San Nicolás\, the venue is renowned for its professional acoustics and intimate atmosphere. Because Sosad’s tour has consistently attracted significant interest across Spain\, securing your admission in advance is highly recommended to avoid disappointment. Doors open promptly at 21:00h\, allowing the crowd to gather and prepare for a high-impact urban music experience. Join the local community for a night of authentic sound and modern rhythms. \nEvent Schedule \n\nDate: Saturday\, March 14\, 2026\nTime: 21:00 – 23:00 (9:00 PM – 11:00 PM)\nVenue: Sala Marte\, Málaga\nTicket Price: 20.00 EUR
URL:https://themarbelladirectory.com/event/sosad-hablalo-bajito-tour-malaga-2026-official-guide/
LOCATION:Sala Marte Málaga\, C. San Nicolás\, 2\, 29016 Málaga Málaga\, Spain\, Málaga\, Málaga\, 29016\, Spain
CATEGORIES:Concert,entertainment,Live Show,Music Events,Nightlife
ATTACH;FMTTYPE=image/avif:https://themarbelladirectory.com/wp-content/uploads/2026/03/poster_lN5zX6d.avif
END:VEVENT
BEGIN:VEVENT
DTSTART;TZID=Europe/Madrid:20260314T230000
DTEND;TZID=Europe/Madrid:20260315T013000
DTSTAMP:20260421T102302
CREATED:20260310T170805Z
LAST-MODIFIED:20260310T170805Z
UID:10001989-1773529200-1773538200@themarbelladirectory.com
SUMMARY:Los Espíritus European Tour 2026 Málaga
DESCRIPTION:Los Espíritus Bring Latin Psychedelia to Málaga with “Camina” Tour\nThe acclaimed Argentine band Los Espíritus performs in Málaga on Saturday\, March 14\, 2026. This highly anticipated event at Sala Trinchera serves as a cornerstone of their 2026 European tour. Specifically\, the performance marks a new creative chapter for the band following the success of their 2023 album\, La Montaña. Fans can expect an immersive night that revisits the essence of 1970s Latin psychedelia\, reimagined through a modern and hypnotic lens. \nA New Creative Chapter in Sonic Evolution\nLos Espíritus return to the stage to present their latest EP\, Camina. The tour highlights the band’s evolution with new tracks like the titular single Camina\, which features sharp guitars and hypnotic percussion. This new material delivers a powerful message of resilience\, urging listeners to keep moving forward without losing sight of their dreams. Furthermore\, the show features the second preview of the EP\, Caro\, an electrifying and ironic track that addresses the rising cost of urban living with raw rock attitude. \nExperience the Trance at Sala Trinchera\nThe concert takes place at Sala Trinchera\, one of Málaga’s premier venues for live rock and alternative music. Known for its high-quality sound and intimate atmosphere\, the venue provides the perfect setting for the band’s signature trance-like performances. Because Los Espíritus are known for their magnetic grooves and powerful stage presence\, this show is expected to be a highlight for the local international music community. Consequently\, attendees will have the unique opportunity to reconnect with the band’s unmistakable urban grit and psychedelic soul. \nEvent Schedule \n\nDate: Saturday\, March 14\, 2026\nTime: 23:00 – 01:30 (11:00 PM – 1:30 AM)\nVenue: Sala Trinchera\, Málaga\nOccasion: Camina EP Presentation / European Tour 2026\nTicket Price: 25.00 EUR – 90.00 EUR
URL:https://themarbelladirectory.com/event/los-espiritus-european-tour-2026-malaga/
LOCATION:Sala Trinchera\, Calle Parauta\, 25\, 29006 Málaga\, Spain\, Málaga\, Málaga\, 29006\, Spain
CATEGORIES:Concert,entertainment,Live Show,Music Events,Nightlife
ATTACH;FMTTYPE=image/avif:https://themarbelladirectory.com/wp-content/uploads/2026/03/poster_997eWVy.avif
ORGANIZER;CN="Sala Trinchera":MAILTO:info@salatrinchera.com
END:VEVENT
END:VCALENDAR