BEGIN:VCALENDAR
VERSION:2.0
PRODID:-//The Marbella Directory - ECPv6.15.18//NONSGML v1.0//EN
CALSCALE:GREGORIAN
METHOD:PUBLISH
X-WR-CALNAME:The Marbella Directory
X-ORIGINAL-URL:https://themarbelladirectory.com
X-WR-CALDESC:Events for The Marbella Directory
REFRESH-INTERVAL;VALUE=DURATION:PT1H
X-Robots-Tag:noindex
X-PUBLISHED-TTL:PT1H
BEGIN:VTIMEZONE
TZID:Europe/Madrid
BEGIN:DAYLIGHT
TZOFFSETFROM:+0100
TZOFFSETTO:+0200
TZNAME:CEST
DTSTART:20250330T010000
END:DAYLIGHT
BEGIN:STANDARD
TZOFFSETFROM:+0200
TZOFFSETTO:+0100
TZNAME:CET
DTSTART:20251026T010000
END:STANDARD
BEGIN:DAYLIGHT
TZOFFSETFROM:+0100
TZOFFSETTO:+0200
TZNAME:CEST
DTSTART:20260329T010000
END:DAYLIGHT
BEGIN:STANDARD
TZOFFSETFROM:+0200
TZOFFSETTO:+0100
TZNAME:CET
DTSTART:20261025T010000
END:STANDARD
BEGIN:DAYLIGHT
TZOFFSETFROM:+0100
TZOFFSETTO:+0200
TZNAME:CEST
DTSTART:20270328T010000
END:DAYLIGHT
BEGIN:STANDARD
TZOFFSETFROM:+0200
TZOFFSETTO:+0100
TZNAME:CET
DTSTART:20271031T010000
END:STANDARD
END:VTIMEZONE
BEGIN:VEVENT
DTSTART;TZID=Europe/Madrid:20260320T173000
DTEND;TZID=Europe/Madrid:20260320T190000
DTSTAMP:20260420T135915
CREATED:20251128T032032Z
LAST-MODIFIED:20251128T032032Z
UID:10001122-1774027800-1774033200@themarbelladirectory.com
SUMMARY:Candlelight: Magical Movie Soundtracks
DESCRIPTION:Candlelight brings the magic of a live musical experience to incredible locations in Málaga. Get your tickets for this Candlelight: Magical Movie Soundtracks! \nGeneral Information \n\nLocation: Unicaja Mª Cristina Foundation Hall\, Malaga\nDates and times: select your dates/times directly in the ticket selector\nDuration: 60 minutes approximately. Doors open 45 minutes before and latecomers cannot be accommodated\nAge requirement: 8+. Children under the age of 16 must be accompanied by an adult\nAccessibility: this venue is wheelchair accessible\n\nProgram Candlelight: Magical Movie Soundtracks \n\nMarried Life – Up\nYou’ve Got A Friend In Me – Toy Story\nLet it go – Frozen \nColors of the Wind – Pocahontas \nReflection – Mulan\nSupercalifragilisticexpialidocious – Mary Poppins\nChim Chim Cher-ee – Mary Poppins\nA Dream Is A Wish – Cinderella\nBe Our Guest- Beauty And The Beast \nPart Of Your World – The Little Mermaid \nUnder The Sea – The Little Mermaid\nCircle Of Life – The Lion King\nCan you feel the love tonight? – The Lion King\nPure Imagination – Willy Wonka \nThe Avengers Theme\nThe Mandalorian Theme\nPirates of the Caribbean Medley\n\nPerformers \n\nPiano – Natalia Kuchaeva
URL:https://themarbelladirectory.com/event/candlelight-magical-movie-soundtracks/2026-03-20/
LOCATION:Sala Fundación Unicaja Mª Cristina\, Calle Marqués de Valdecañas\, 2\, Málaga\, Málaga\, 29008\, Spain
CATEGORIES:Concert,entertainment,Live Show,Music Events
ATTACH;FMTTYPE=image/avif:https://themarbelladirectory.com/wp-content/uploads/2025/11/320769e6-115f-11f0-bee5-329215299986.avif
END:VEVENT
BEGIN:VEVENT
DTSTART;TZID=Europe/Madrid:20260320T190000
DTEND;TZID=Europe/Madrid:20260321T223000
DTSTAMP:20260420T135915
CREATED:20260312T031052Z
LAST-MODIFIED:20260312T033611Z
UID:10001993-1774033200-1774132200@themarbelladirectory.com
SUMMARY:Lent Concert 2026 Málaga: Larios Pop del Soho
DESCRIPTION:Experience the 2026 Lent Concert at Teatro del Soho CaixaBank\nThe prestigious Teatro del Soho CaixaBank in Málaga presents its fifth annual Lent Concert on March 20 and 21\, 2026. This deeply moving event\, titled Larios Pop del Soho\, pays a dedicated tribute to Holy Week. Specifically\, the production serves as a cultural reference point for the Lenten season. It blends symphonic mastery with the solemnity of local heritage. Under the artistic direction of Antonio Banderas\, the theater continues its commitment to high-quality performances. \nA Symphonic Journey Through Holy Week Tradition\nThe Larios Pop del Soho symphonic orchestra offers a thoughtful selection of traditional processional marches. Maestro Arturo Díez Boscovich leads the ensemble through specially arranged works. These arrangements create a modern yet respectful interpretation of sacred music. Furthermore\, the performance provides an immersive sensory experience. Powerful images of Holy Week accompany the music. Consequently\, the concert offers a profound space for reflection and artistic appreciation. \nWitness the Mastery of Larios Pop del Soho\nThis annual spectacle has become an essential gathering for music enthusiasts. The orchestra fuses classical symphonic elements with popular cofrade music. This creates a unique atmosphere that resonates with all audiences. Because this is a limited two-day event\, you should book your tickets early. Therefore\, join the local community at Teatro del Soho CaixaBank to witness this spectacular union of music and emotion. \nEvent Schedule \n\nDates: Friday\, March 20\, 2026\, and Saturday\, March 21\, 2026\nTimes: Friday at 19:00h; Saturday sessions at 12:00h and 19:00h\nVenue: Teatro del Soho CaixaBank\, Málaga\nTicket Price: From 25.00 EUR
URL:https://themarbelladirectory.com/event/lent-concert-larios-pop-del-soho-malaga-2026/
LOCATION:Teatro del Soho CaixaBank\, Calle Córdoba\, 13\, 29001 Málaga\, Spain\, Málaga\, Málaga\, 29001\, Spain
CATEGORIES:Concert,entertainment,Live Show,Music Events
ATTACH;FMTTYPE=image/avif:https://themarbelladirectory.com/wp-content/uploads/2026/03/poster_aL9wjpa-1.avif
END:VEVENT
BEGIN:VEVENT
DTSTART;TZID=Europe/Madrid:20260320T200000
DTEND;TZID=Europe/Madrid:20260320T230000
DTSTAMP:20260420T135915
CREATED:20260121T071105Z
LAST-MODIFIED:20260121T071105Z
UID:10001877-1774036800-1774047600@themarbelladirectory.com
SUMMARY:SILOÉ: CampoGrande Tour
DESCRIPTION:Siloé Brings the “CampoGrande” Tour to Málaga for Two Unforgettable Nights\nThe acclaimed band from Valladolid\, Siloé\, is ready to return to the stage in Málaga. As part of their massive CampoGrande Tour\, the group will perform two consecutive live shows at the legendary Sala París 15. These performances represent a major milestone in their career. Specifically\, the band invites fans to experience a vibrant show that perfectly blends pop\, electronic\, and indie influences. On Friday\, March 20\, 2026\, Málaga will witness one of the most energetic live acts in the current Spanish music scene. \nA Journey Through Sound and Emotion\nSiloé has captivated audiences across the country with their unique musical evolution. Their “CampoGrande” project marks a luminous and expansive stage for the band. Furthermore\, the live show features an emotional production that connects deeply with every listener. Attendees can expect to hear iconic tracks such as “La Verdad\,” “Luna Menguante\,” and “Mariposas.” Because the band focuses on creating a multi-sensory experience\, this concert is more than just a musical performance. It is a celebration of creativity and growth. \nThe Ultimate Live Experience at Sala París 15\nThe venue\, Sala París 15\, offers the perfect professional backdrop for Siloé’s dynamic energy. Located in the heart of Málaga\, this venue is famous for its high-quality acoustics and intimate atmosphere. Whether you are a long-time follower or a newcomer to their sound\, these shows promise an electric night. Consequently\, demand for tickets is already high. We encourage you to secure your spot early to be part of this landmark cultural event. Therefore\, prepare yourself for an evening filled with passion and unforgettable melodies. \nEvent Schedule \n\nDates: Friday\, March 20\, 2026.\nDoors Open (Friday): 20:00 (8:00 PM).\nPerformance Starts (Friday): 21:00 (9:00 PM).\nPerformance Starts (Saturday): 21:30 (9:30 PM).\nVenue: Sala París 15\, Málaga.
URL:https://themarbelladirectory.com/event/siloe-campogrande-tour-malaga-2026/
LOCATION:Sala París 15\, Calle la Orotava\, 25\, 27\, 29006 Málaga\, Spain\, Málaga\, Málaga\, 29006\, Spain
CATEGORIES:Concert,entertainment,Live Show,Music Events
ATTACH;FMTTYPE=image/png:https://themarbelladirectory.com/wp-content/uploads/2026/01/1.1.png
ORGANIZER;CN="The Music Republic S.L.":MAILTO:info@themusicrepublic.es
END:VEVENT
BEGIN:VEVENT
DTSTART;TZID=Europe/Madrid:20260320T203000
DTEND;TZID=Europe/Madrid:20260320T233000
DTSTAMP:20260420T135915
CREATED:20260312T032224Z
LAST-MODIFIED:20260312T032224Z
UID:10001995-1774038600-1774049400@themarbelladirectory.com
SUMMARY:Saratoga Live in Málaga 2026: Official Sala Trinchera Guide
DESCRIPTION:Saratoga Returns to Málaga for a Historic Metal Night\nThe legendary Spanish heavy metal pioneers Saratoga perform in Málaga on Friday\, March 20\, 2026. This highly anticipated event at Sala Trinchera marks a significant chapter in the band’s storied career. Specifically\, the concert serves as the official Spanish debut of world-renowned guitarist Charlie Parra as a permanent member of the group. Following a massive tour across America\, the band brings their high-octane stage presence back to their home fans. Consequently\, attendees will witness a powerful fusion of veteran experience and fresh technical mastery. \nA New Chapter in Spanish Heavy Metal History\nThe current lineup features iconic bassist Niko del Hierro\, vocalist Tete Novoa\, and drummer Arnau Martí. Now\, they are joined by Charlie Parra\, whose arrival adds a new dimension to their classic sound. During the performance\, fans can expect a setlist packed with definitive metal anthems. For instance\, the band will revisit seminal hits alongside new material and surprises. Furthermore\, the chemistry of this refreshed lineup promises one of the most intense live shows of the year. Therefore\, this performance represents a must-see milestone for every heavy metal enthusiast in the region. \nExperience the Energy at Sala Trinchera\nThe event takes place at Sala Trinchera\, the premier mid-scale concert venue in Málaga. It is located in the Polígono Industrial La Estrella district. The venue provides a professional environment with a sound installation designed for high-impact touring bands. Because this event features a historic lineup debut\, you should secure your admission in advance. This ensures you do not miss this landmark performance. Doors open promptly at 20:30\, allowing the crowd to gather before the show starts at 21:30. Finally\, join the local metal community for a night of pure energy and legendary sound. \nEvent Schedule \n\nDate: Friday\, March 20\, 2026\nDoors Open: 20:30 (8:30 PM)\nConcert Starts: 21:30 (9:30 PM)\nVenue: Sala Trinchera\, Málaga\nTicket Price: Approximately 22.00 EUR
URL:https://themarbelladirectory.com/event/saratoga-live-malaga-sala-trinchera-2026/
LOCATION:Sala Trinchera\, Calle Parauta\, 25\, 29006 Málaga\, Spain\, Málaga\, Málaga\, 29006\, Spain
CATEGORIES:Concert,Live Show,Music Events,Nightlife
ATTACH;FMTTYPE=image/avif:https://themarbelladirectory.com/wp-content/uploads/2026/03/poster_MjsDsIu.avif
ORGANIZER;CN="Saratoga Management":MAILTO:agotarasproducciones@gmail.com
END:VEVENT
BEGIN:VEVENT
DTSTART;TZID=Europe/Madrid:20260320T210000
DTEND;TZID=Europe/Madrid:20260320T230000
DTSTAMP:20260420T135915
CREATED:20260228T030832Z
LAST-MODIFIED:20260228T031324Z
UID:10001941-1774040400-1774047600@themarbelladirectory.com
SUMMARY:Aguilera and Mení Live in Málaga 2026
DESCRIPTION:Aguilera and Mení Bring Misión IMPRO-SIBLE to Málaga\nThe viral comedy sensations Aguilera and Mení perform in Málaga from Friday\, March 20\, to Sunday\, March 22\, 2026. These highly anticipated shows at FYCMA serve as a centerpiece of the Perita Comedy Fest. Specifically\, the duo presents their hit show\, Misión IMPRO-SIBLE. This production has become a genuine social phenomenon across Spain. Consequently\, fans can expect a night that perfectly captures the duo’s signature wit. Furthermore\, the performance showcases their legendary talent for improvisation. \nA Carnival of Improvisation and Audience Interaction\nOriginally known as carnival performers from Cádiz\, Aguilera and Mení have catapulted to national fame. They achieved this success through their infectious live shows and viral social media content. Their current tour is making history by filling major theaters in every region. Many dates sell out within minutes of tickets going on sale. Moreover\, the improvised nature of the performance ensures that every single show is a unique experience. Because the audience participates actively\, no two nights are ever the same. Therefore\, attendees act as central characters in this comedic mission. \nExperience the Humor at FYCMA\nThe event takes place at FYCMA – Palacio de Ferias y Congresos de Málaga. This venue stands as a premier location for major cultural events in the city. Located on Avenida Ortega y Gasset\, FYCMA provides a professional setting with modern facilities. Because these performers have a massive following\, you should secure your tickets early. Additionally\, the venue provides an ideal backdrop for high-energy comedy productions. For more information on upcoming shows\, check our internal links to the 2026 comedy calendar. Finally\, please note the different start times for each scheduled performance. \n\nEvent Schedule\n\nFriday Show: March 20\, 2026\, at 21:00 (9:00 PM)\nSaturday Show: March 21\, 2026\, at 17:30 (5:30 PM)\nSunday Show: March 22\, 2026\, at 20:30 (8:30 PM)\nVenue: FYCMA – Palacio de Ferias y Congresos de Málaga\nFestival: Perita Comedy Fest
URL:https://themarbelladirectory.com/event/aguilera-meni-mision-impro-sible-malaga-2026/2026-03-20/
LOCATION:Palacio de Ferias y Congresos de Málaga (FYCMA)\, Av. Ortega y Gasset\, 201\, Málaga\, Málaga\, 29006\, Spain
CATEGORIES:Comedy Show,entertainment,Family & Kids,Live Performance,Live Show,Theater & Arts
ATTACH;FMTTYPE=image/jpeg:https://themarbelladirectory.com/wp-content/uploads/2026/02/perita-comedy-fest-aguilera-y-meni.jpg
END:VEVENT
END:VCALENDAR