BEGIN:VCALENDAR
VERSION:2.0
PRODID:-//The Marbella Directory - ECPv6.15.18//NONSGML v1.0//EN
CALSCALE:GREGORIAN
METHOD:PUBLISH
X-WR-CALNAME:The Marbella Directory
X-ORIGINAL-URL:https://themarbelladirectory.com
X-WR-CALDESC:Events for The Marbella Directory
REFRESH-INTERVAL;VALUE=DURATION:PT1H
X-Robots-Tag:noindex
X-PUBLISHED-TTL:PT1H
BEGIN:VTIMEZONE
TZID:Europe/Madrid
BEGIN:DAYLIGHT
TZOFFSETFROM:+0100
TZOFFSETTO:+0200
TZNAME:CEST
DTSTART:20250330T010000
END:DAYLIGHT
BEGIN:STANDARD
TZOFFSETFROM:+0200
TZOFFSETTO:+0100
TZNAME:CET
DTSTART:20251026T010000
END:STANDARD
BEGIN:DAYLIGHT
TZOFFSETFROM:+0100
TZOFFSETTO:+0200
TZNAME:CEST
DTSTART:20260329T010000
END:DAYLIGHT
BEGIN:STANDARD
TZOFFSETFROM:+0200
TZOFFSETTO:+0100
TZNAME:CET
DTSTART:20261025T010000
END:STANDARD
BEGIN:DAYLIGHT
TZOFFSETFROM:+0100
TZOFFSETTO:+0200
TZNAME:CEST
DTSTART:20270328T010000
END:DAYLIGHT
BEGIN:STANDARD
TZOFFSETFROM:+0200
TZOFFSETTO:+0100
TZNAME:CET
DTSTART:20271031T010000
END:STANDARD
END:VTIMEZONE
BEGIN:VEVENT
DTSTART;TZID=Europe/Madrid:20260402T200000
DTEND;TZID=Europe/Madrid:20260402T220000
DTSTAMP:20260420T212031
CREATED:20260106T043530Z
LAST-MODIFIED:20260106T043530Z
UID:10001810-1775160000-1775167200@themarbelladirectory.com
SUMMARY:DDT Live in Marbella: A Chronicle of Truth and Hope
DESCRIPTION:DDT Live in Marbella: A Chronicle of Truth and Hope\nRussian rock is unimaginable without DDT\, a band that emerged from the strict prohibitions of the Soviet era to become a defining voice of contemporary music. Led by the visionary Yuri Shevchuk\, DDT’s songs are more than just melodies—they are a living chronicle of modern history\, blending rhythm and blues with jazz\, industrial\, and indie influences. \nFor one night only\, the Marbella Arena will transform into a space of deep philosophical reflection and high-energy rock. Known for their groundbreaking multimedia performances and artistic video works\, DDT continues to offer what the world needs most: truth and hope. Whether you are a lifelong fan or a newcomer to their sound\, this concert promises an emotional and sophisticated experience under the stars of the Costa del Sol. \n\n\nVenue: Marbella Arena\nDoors open: 7PM\nAge Restriction: ALL AGES
URL:https://themarbelladirectory.com/event/ddt-live-marbella-arena-concert-2026/
LOCATION:Marbella Arena\, C. Pilar\, 3\, Marbella\, Málaga\, 29660\, Spain
CATEGORIES:Activity,Concert,entertainment,Live Show,Music Events
ATTACH;FMTTYPE=image/webp:https://themarbelladirectory.com/wp-content/uploads/2026/01/bd0f7687d664b02ebd5af8ead4097e15.webp
ORGANIZER;CN="Fish Can Fly":MAILTO:info@fishcanfly.org
END:VEVENT
END:VCALENDAR