BEGIN:VCALENDAR
VERSION:2.0
PRODID:-//The Marbella Directory - ECPv6.15.18//NONSGML v1.0//EN
CALSCALE:GREGORIAN
METHOD:PUBLISH
X-ORIGINAL-URL:https://themarbelladirectory.com
X-WR-CALDESC:Events for The Marbella Directory
REFRESH-INTERVAL;VALUE=DURATION:PT1H
X-Robots-Tag:noindex
X-PUBLISHED-TTL:PT1H
BEGIN:VTIMEZONE
TZID:Europe/Madrid
BEGIN:DAYLIGHT
TZOFFSETFROM:+0100
TZOFFSETTO:+0200
TZNAME:CEST
DTSTART:20240331T010000
END:DAYLIGHT
BEGIN:STANDARD
TZOFFSETFROM:+0200
TZOFFSETTO:+0100
TZNAME:CET
DTSTART:20241027T010000
END:STANDARD
BEGIN:DAYLIGHT
TZOFFSETFROM:+0100
TZOFFSETTO:+0200
TZNAME:CEST
DTSTART:20250330T010000
END:DAYLIGHT
BEGIN:STANDARD
TZOFFSETFROM:+0200
TZOFFSETTO:+0100
TZNAME:CET
DTSTART:20251026T010000
END:STANDARD
BEGIN:DAYLIGHT
TZOFFSETFROM:+0100
TZOFFSETTO:+0200
TZNAME:CEST
DTSTART:20260329T010000
END:DAYLIGHT
BEGIN:STANDARD
TZOFFSETFROM:+0200
TZOFFSETTO:+0100
TZNAME:CET
DTSTART:20261025T010000
END:STANDARD
END:VTIMEZONE
BEGIN:VEVENT
DTSTART;TZID=Europe/Madrid:20251211T090000
DTEND;TZID=Europe/Madrid:20251211T140000
DTSTAMP:20260423T163030
CREATED:20251130T054652Z
LAST-MODIFIED:20251130T054652Z
UID:10001125-1765443600-1765461600@themarbelladirectory.com
SUMMARY:San Pedro Street Market
DESCRIPTION:Discover the Vibrant San Pedro Street Market: Your Essential Thursday Shopping Destination\nAre you looking for an authentic Spanish market experience on the Costa del Sol? The San Pedro Street Market is the perfect place to immerse yourself in local culture\, find incredible deals\, and stock up on fresh produce. \nJoin us every week at the lively Recinto Ferial in San Pedro de Alcántara for a vibrant morning of commerce and community! \nWhere & When: Market Details\nThe market is one of the most popular weekly events in the Marbella municipality. \n\nWhen: Every Thursday\nTime: 09:00 AM to 02:00 PM.\nVenue: San Pedro Fair Ground (Recinto Ferial)\, located on Calle Jorge Guillén.\n\nWhat to Expect: Deals and Delights\nForget the big supermarkets and shop where the locals do! The San Pedro Market is a treasure trove of hundreds of stalls offering exceptional value. \nWander through rows filled with colorful clothing\, unique leather goods\, artisan crafts\, and charming souvenirs. The air is filled with the sweet scent of fresh herbs\, seasonal fruit\, and vegetables straight from local farms. It’s the ideal spot to practice your Spanish\, grab a bargain\, and discover truly local products you won’t find anywhere else. \nPlan Your Thursday Visit!\nThe market is easily accessible with ample parking nearby. Make the San Pedro Street Market the highlight of your Thursday morning itinerary in Málaga Province!
URL:https://themarbelladirectory.com/event/san-pedro-street-market/2025-12-11/
LOCATION:San Pedro Fair Ground\, Calle Jorge Guillén\, San Pedro de Alcántara\, Málaga\, 29670\, Spain
CATEGORIES:Activity,Flea Market,Shopping
ATTACH;FMTTYPE=image/jpeg:https://themarbelladirectory.com/wp-content/uploads/2025/11/Cover-scaled.jpg
ORGANIZER;CN="Ayuntamiento de M%C3%A1laga":MAILTO:info@malaga.eu
END:VEVENT
BEGIN:VEVENT
DTSTART;TZID=Europe/Madrid:20251205T100000
DTEND;TZID=Europe/Madrid:20251207T220000
DTSTAMP:20260423T163030
CREATED:20251121T060541Z
LAST-MODIFIED:20251121T061127Z
UID:10000577-1764928800-1765144800@themarbelladirectory.com
SUMMARY:Shop & Save: 1st Outlet Fair Estepona 2025
DESCRIPTION:Get ready for the ultimate shopping event.\nThe 1st Outlet Fair Estepona opens its doors on December 5\, 6\, and 7\, 2025. This exciting event takes place at the Exhibition and Congress Palace . It offers the perfect chance to buy Christmas gifts. You will find huge discounts on world-class brands. \nUnbeatable Discounts\nShoppers can save between 60% and 80% on original items. The fair features top fashion names like Tommy Hilfiger\, Calvin Klein\, and Armani. You can also find cosmetics\, accessories\, and home goods. Vendors will restock items daily. This ensures a fresh selection every time you visit. \nPlan Your Visit\nThis three-day event runs from 10:00h to 22:00h. It creates a lively atmosphere for friends and family. Enjoy a day of bargain hunting in a spacious venue. \n\nDate: Dec 5–7\, 2025\nTime: 10:00h – 22:00h\nLocation: Exhibition and Congress Palace\, Estepona\n\nDon’t miss out! Mark your calendar for this exclusive opportunity. Refresh your wardrobe or finish your holiday shopping for less. Join us in Estepona for the best deals of the year.
URL:https://themarbelladirectory.com/event/shop-save-1st-outlet-fair-estepona-2025/
LOCATION:Palacio de Exposiciones y Congresos\, Avda. Litoral s/n\, Estepona\, Málaga\, 29680\, Spain
CATEGORIES:Activity,entertainment,Outdoor Attraction,Public Fair,Shopping
ATTACH;FMTTYPE=image/webp:https://themarbelladirectory.com/wp-content/uploads/2025/11/sunday-market-estepona.webp
ORGANIZER;CN="Palacio de Exposiciones y Congresos":MAILTO:palaciodecongresos@estepona.es
END:VEVENT
BEGIN:VEVENT
DTSTART;TZID=Europe/Madrid:20251204T090000
DTEND;TZID=Europe/Madrid:20251204T140000
DTSTAMP:20260423T163030
CREATED:20251130T054652Z
LAST-MODIFIED:20251130T054652Z
UID:10001124-1764838800-1764856800@themarbelladirectory.com
SUMMARY:San Pedro Street Market
DESCRIPTION:Discover the Vibrant San Pedro Street Market: Your Essential Thursday Shopping Destination\nAre you looking for an authentic Spanish market experience on the Costa del Sol? The San Pedro Street Market is the perfect place to immerse yourself in local culture\, find incredible deals\, and stock up on fresh produce. \nJoin us every week at the lively Recinto Ferial in San Pedro de Alcántara for a vibrant morning of commerce and community! \nWhere & When: Market Details\nThe market is one of the most popular weekly events in the Marbella municipality. \n\nWhen: Every Thursday\nTime: 09:00 AM to 02:00 PM.\nVenue: San Pedro Fair Ground (Recinto Ferial)\, located on Calle Jorge Guillén.\n\nWhat to Expect: Deals and Delights\nForget the big supermarkets and shop where the locals do! The San Pedro Market is a treasure trove of hundreds of stalls offering exceptional value. \nWander through rows filled with colorful clothing\, unique leather goods\, artisan crafts\, and charming souvenirs. The air is filled with the sweet scent of fresh herbs\, seasonal fruit\, and vegetables straight from local farms. It’s the ideal spot to practice your Spanish\, grab a bargain\, and discover truly local products you won’t find anywhere else. \nPlan Your Thursday Visit!\nThe market is easily accessible with ample parking nearby. Make the San Pedro Street Market the highlight of your Thursday morning itinerary in Málaga Province!
URL:https://themarbelladirectory.com/event/san-pedro-street-market/2025-12-04/
LOCATION:San Pedro Fair Ground\, Calle Jorge Guillén\, San Pedro de Alcántara\, Málaga\, 29670\, Spain
CATEGORIES:Activity,Flea Market,Shopping
ATTACH;FMTTYPE=image/jpeg:https://themarbelladirectory.com/wp-content/uploads/2025/11/Cover-scaled.jpg
ORGANIZER;CN="Ayuntamiento de M%C3%A1laga":MAILTO:info@malaga.eu
END:VEVENT
END:VCALENDAR