BEGIN:VCALENDAR
VERSION:2.0
PRODID:-//The Marbella Directory - ECPv6.15.18//NONSGML v1.0//EN
CALSCALE:GREGORIAN
METHOD:PUBLISH
X-ORIGINAL-URL:https://themarbelladirectory.com
X-WR-CALDESC:Events for The Marbella Directory
REFRESH-INTERVAL;VALUE=DURATION:PT1H
X-Robots-Tag:noindex
X-PUBLISHED-TTL:PT1H
BEGIN:VTIMEZONE
TZID:Europe/Madrid
BEGIN:DAYLIGHT
TZOFFSETFROM:+0100
TZOFFSETTO:+0200
TZNAME:CEST
DTSTART:20240331T010000
END:DAYLIGHT
BEGIN:STANDARD
TZOFFSETFROM:+0200
TZOFFSETTO:+0100
TZNAME:CET
DTSTART:20241027T010000
END:STANDARD
BEGIN:DAYLIGHT
TZOFFSETFROM:+0100
TZOFFSETTO:+0200
TZNAME:CEST
DTSTART:20250330T010000
END:DAYLIGHT
BEGIN:STANDARD
TZOFFSETFROM:+0200
TZOFFSETTO:+0100
TZNAME:CET
DTSTART:20251026T010000
END:STANDARD
BEGIN:DAYLIGHT
TZOFFSETFROM:+0100
TZOFFSETTO:+0200
TZNAME:CEST
DTSTART:20260329T010000
END:DAYLIGHT
BEGIN:STANDARD
TZOFFSETFROM:+0200
TZOFFSETTO:+0100
TZNAME:CET
DTSTART:20261025T010000
END:STANDARD
END:VTIMEZONE
BEGIN:VEVENT
DTSTART;VALUE=DATE:20251120
DTEND;VALUE=DATE:20251121
DTSTAMP:20260422T202835
CREATED:20251114T135550Z
LAST-MODIFIED:20251114T135953Z
UID:10000033-1763596800-1763683199@themarbelladirectory.com
SUMMARY:Andalucía Management 2025: Empresas que transforman
DESCRIPTION:Andalucía Management 2025: Where Companies Transform!  \nThe 16th edition of Andaludcía Management is gathering top leaders and professionals under the theme ‘Companies that Transform’ – pioneers driving innovation and positive societal impact. \nThis isn’t just a day of learning; it’s a must-attend event on November 20th to debate current challenges (AI\, sustainability\, digitalization)\, expand your high-level network\, and witness the prestigious Andalucía Management Awards celebrating fifteen years of excellence! \nGeneral Information:\nDate: Thursday\, November 20\, 2025\nVenue: FYCMA – Palacio de Ferias y Congresos de Málaga (Trade Fair and Congress Center of Málaga)
URL:https://themarbelladirectory.com/event/4350/
LOCATION:Trade Fairs and Congress Center of Málaga\, Av. de José Ortega y Gasset\, 201\, Málaga\, Málaga\, 29006\, Spain
CATEGORIES:Business,Business & Networking,Congress,Public Fair,Trade Show
ATTACH;FMTTYPE=image/jpeg:https://themarbelladirectory.com/wp-content/uploads/2025/11/andalucia-management-26-500-1.jpg
ORGANIZER;CN="Management Activo":MAILTO:comunicacion@managementactivo.com
END:VEVENT
BEGIN:VEVENT
DTSTART;TZID=Europe/Madrid:20251113T080000
DTEND;TZID=Europe/Madrid:20251115T170000
DTSTAMP:20260422T202835
CREATED:20251113T052052Z
LAST-MODIFIED:20251113T152937Z
UID:10000031-1763020800-1763226000@themarbelladirectory.com
SUMMARY:Simed Malaga: The Leading Mediterranean Real Estate Exhibition at FYCMA
DESCRIPTION:Simed\, Mediterranean Real Estate Exhibition\, returns to FYCMA (Trade Fairs and Congress Center of Málaga)\, Discover Simed at FYCMA Málaga\, the leading real estate event for second homes and property investment. Join professionals\, buyers\, and investors for premier networking and business. \nGeneral Information \nVenue: FYCMA (Trade Fairs and Congress Center of Málaga) – Av. de José Ortega y Gasset\, 201\, 29006 Málaga\, Spain\nDate: November 13\, 14\, and 15\, 2025 \n  \n 
URL:https://themarbelladirectory.com/event/simed-malaga-the-leading-mediterranean-real-estate-exhibition-at-fycma/
LOCATION:Trade Fairs and Congress Center of Málaga\, Av. de José Ortega y Gasset\, 201\, Málaga\, Málaga\, 29006\, Spain
CATEGORIES:Activity,Business,Business & Networking,Exhibition,Professional fairs,Public Fair,Real Estate,Trade Show
ATTACH;FMTTYPE=image/webp:https://themarbelladirectory.com/wp-content/uploads/2025/11/Simed-2024.webp
ORGANIZER;CN="FYCMA":MAILTO:info@fycma.com
END:VEVENT
END:VCALENDAR