BEGIN:VCALENDAR
VERSION:2.0
PRODID:-//The Marbella Directory - ECPv6.15.18//NONSGML v1.0//EN
CALSCALE:GREGORIAN
METHOD:PUBLISH
X-ORIGINAL-URL:https://themarbelladirectory.com
X-WR-CALDESC:Events for The Marbella Directory
REFRESH-INTERVAL;VALUE=DURATION:PT1H
X-Robots-Tag:noindex
X-PUBLISHED-TTL:PT1H
BEGIN:VTIMEZONE
TZID:Europe/Madrid
BEGIN:DAYLIGHT
TZOFFSETFROM:+0100
TZOFFSETTO:+0200
TZNAME:CEST
DTSTART:20240331T010000
END:DAYLIGHT
BEGIN:STANDARD
TZOFFSETFROM:+0200
TZOFFSETTO:+0100
TZNAME:CET
DTSTART:20241027T010000
END:STANDARD
BEGIN:DAYLIGHT
TZOFFSETFROM:+0100
TZOFFSETTO:+0200
TZNAME:CEST
DTSTART:20250330T010000
END:DAYLIGHT
BEGIN:STANDARD
TZOFFSETFROM:+0200
TZOFFSETTO:+0100
TZNAME:CET
DTSTART:20251026T010000
END:STANDARD
BEGIN:DAYLIGHT
TZOFFSETFROM:+0100
TZOFFSETTO:+0200
TZNAME:CEST
DTSTART:20260329T010000
END:DAYLIGHT
BEGIN:STANDARD
TZOFFSETFROM:+0200
TZOFFSETTO:+0100
TZNAME:CET
DTSTART:20261025T010000
END:STANDARD
END:VTIMEZONE
BEGIN:VEVENT
DTSTART;VALUE=DATE:20251216
DTEND;VALUE=DATE:20260101
DTSTAMP:20260423T084903
CREATED:20251216T052634Z
LAST-MODIFIED:20251216T052634Z
UID:10001438-1765843200-1767225599@themarbelladirectory.com
SUMMARY:Special Seasonal Menu: New Year's Eve Gala
DESCRIPTION:Alanda Marbella Hotel & Manuka\nLocated on the prestigious Golden Mile (Milla de Oro)\, the Alanda Marbella Hotel stands as a unique 5-star destination that redefines luxury through the lens of wellness and Mediterranean hospitality. Distancing itself from the typical excess of the Costa del Sol\, Alanda offers a “slow life” philosophy\, making it a sanctuary for those seeking relaxation and health-conscious gastronomy. \nThe culinary heart of the hotel is Manuka\, a restaurant that emphasizes natural\, organic\, and locally sourced ingredients. It is a destination where “eating well” means fueling the body with wholesome\, additive-free dishes without sacrificing flavor. For special occasions\, the hotel transforms its elegant spaces—such as the poolside terraces or the grand banquet halls—into sophisticated venues that blend Andalusian charm with modern chic. Whether for a summer soiree or a winter gala\, Alanda provides an atmosphere of exclusive tranquility\, just steps away from the vibrant energy of Puerto Banús. \n\nSpecial Seasonal Menu: New Year’s Eve Gala (Cena de Gala de Nochevieja)\nCelebrate the last night of the year with an unforgettable New Year’s Eve Gala in Alanda\, where elegance and party come together to welcome 2026 in style. Enjoy an exquisite menu\, live music\, special toasts and a unique atmosphere. \nThe Menu Highlights: \n\nWelcome Reception:\n\nA selection of Chef’s Amuse-Bouches (often featuring organic vegetables and premium seafood).\nWelcome Mocktails (reflecting the hotel’s wellness/halal-friendly ethos) or Cava (depending on the specific event policy for that year).\n\n\nStarters (Entrantes):\n\nExample: Lobster salad with mango carpaccio and a citrus vinaigrette (highlighting the fresh seafood of the Alboran Sea).\nExample: Cream of wild mushrooms with truffle oil and pine nuts.\n\n\nFish Course (Pescado):\n\nWild Turbot or Sea Bass fillet\, served with seasonal vegetable purée and a saffron infusion.\n\n\nMeat Course (Carne):\n\nPremium Beef Fillet (Halal) or Rack of Lamb\, accompanied by potato gratin and glazed baby carrots in a rosemary reduction.\n\n\nDessert (Postre):\n\n“Textures of Chocolate”: A decadent variety of cocoa preparations (mousse\, crunch\, ganache) paired with red berries.\nTraditional Christmas Sweets (Turrón\, Mazapán).\n\n\nMidnight Tradition:\n\nThe 12 Lucky Grapes: Served moments before midnight to ring in the New Year\, following the Spanish tradition for good luck.\n\n\n\nMenu’s details is here!
URL:https://themarbelladirectory.com/event/special-seasonal-menu-new-years-eve-gala/
LOCATION:Alanda Marbella Hotel\, Av. Bulevar Príncipe Alfonso de Hohenlohe\, s/n\, Marbella\, Málaga\, 29602\, Spain
CATEGORIES:Luxury Lifestyle,Nightlife
ATTACH;FMTTYPE=image/webp:https://themarbelladirectory.com/wp-content/uploads/2025/12/adtd_a_tasteful_new_years_eve-_944x510.webp
ORGANIZER;CN="Alanda Marbella Events Team":MAILTO:events@alandamarbellahotel.com
END:VEVENT
END:VCALENDAR