BEGIN:VCALENDAR
VERSION:2.0
PRODID:-//The Marbella Directory - ECPv6.15.18//NONSGML v1.0//EN
CALSCALE:GREGORIAN
METHOD:PUBLISH
X-WR-CALNAME:The Marbella Directory
X-ORIGINAL-URL:https://themarbelladirectory.com
X-WR-CALDESC:Events for The Marbella Directory
REFRESH-INTERVAL;VALUE=DURATION:PT1H
X-Robots-Tag:noindex
X-PUBLISHED-TTL:PT1H
BEGIN:VTIMEZONE
TZID:Europe/Madrid
BEGIN:DAYLIGHT
TZOFFSETFROM:+0100
TZOFFSETTO:+0200
TZNAME:CEST
DTSTART:20250330T010000
END:DAYLIGHT
BEGIN:STANDARD
TZOFFSETFROM:+0200
TZOFFSETTO:+0100
TZNAME:CET
DTSTART:20251026T010000
END:STANDARD
BEGIN:DAYLIGHT
TZOFFSETFROM:+0100
TZOFFSETTO:+0200
TZNAME:CEST
DTSTART:20260329T010000
END:DAYLIGHT
BEGIN:STANDARD
TZOFFSETFROM:+0200
TZOFFSETTO:+0100
TZNAME:CET
DTSTART:20261025T010000
END:STANDARD
BEGIN:DAYLIGHT
TZOFFSETFROM:+0100
TZOFFSETTO:+0200
TZNAME:CEST
DTSTART:20270328T010000
END:DAYLIGHT
BEGIN:STANDARD
TZOFFSETFROM:+0200
TZOFFSETTO:+0100
TZNAME:CET
DTSTART:20271031T010000
END:STANDARD
END:VTIMEZONE
BEGIN:VEVENT
DTSTART;TZID=Europe/Madrid:20260829T200000
DTEND;TZID=Europe/Madrid:20260829T233000
DTSTAMP:20260421T031720
CREATED:20260330T034644Z
LAST-MODIFIED:20260330T034644Z
UID:10002083-1788033600-1788046200@themarbelladirectory.com
SUMMARY:Love of Lesbian Live at Starlite Marbella 2026: Official Guide
DESCRIPTION:Experience the Magic of Love of Lesbian Live in Marbella\nThe undisputed masters of Spanish indie rock\, Love of Lesbian\, arrive in Marbella on Saturday\, August 29\, 2026. This highly anticipated performance takes place at the world-renowned Starlite Occident festival. Specifically\, the band will perform in the Auditorio\, an open-air venue carved into the stunning Nagüeles quarry. For the first time ever\, this iconic group brings their poetic soundscapes and infectious energy to the boutique festival stage. For one night only\, fans can witness a historic celebration of music under the Mediterranean stars. \nA Landmark 25-Year Musical Journey\nLove of Lesbian began their musical path at the turn of the century. Over the last two decades\, they have built a unique identity that has defined a generation. Their discography includes timeless indie anthems such as Club de fans de John Boy\, La hermandad\, and Allí donde salíamos gritar. During this special evening\, the band will present their latest work\, Ejército de Salvación. This project serves as a powerful tribute to friendship\, loyalty\, and their remarkable 25-year career. Consequently\, this concert is not just a show; it is a profound emotional journey through the band’s history. \nA Boutique Festival Experience in the Quarry\nStarlite Occident offers a professional and exclusive atmosphere for this major production. The venue is located in a historic quarry\, providing world-class acoustics and a breathtaking natural backdrop. Doors for the event will open at 20:00\, providing guests with ample time to enjoy the premium amenities and gourmet dining options before the music begins. The main performance starts promptly at 22:00. Because this is one of the most anticipated dates of the summer\, demand for tickets is exceptionally high. Therefore\, joining the international community in Marbella for this milestone event is highly recommended. \nVenue and Access Information\nStarlite Occident is located in the Cantera de Nagüeles\, a unique landscape that creates a premium boutique festival experience. Please note the venue’s strict policy regarding younger guests. Specifically\, individuals under 18 years of age must leave the premises immediately after the concert concludes. We suggest arriving early to fully experience the magic of this Mediterranean summer night. \nEvent Schedule \n\nDate: Saturday\, August 29\, 2026\nDoors Open: 20:00 (8:00 PM)\nConcert Starts: 22:00 (10:00 PM)\nVenue: Auditorio\, Starlite Occident\, Marbella\nAge Policy: Under 18s must exit after the performance\n\nTicket Purchase Link\nOfficial advance tickets for “Love of Lesbian at Starlite Occident 2026” can be purchased through the authorized festival portal: https://starlitefestival.com/eventoconcierto/love-of-lesbian-2/
URL:https://themarbelladirectory.com/event/love-of-lesbian-live-at-starlite-marbella-2026-official-guide/
LOCATION:Starlite Occident\, Calle Albinoni s/n\, Cantera de Nagüeles\, Marbella\, Málaga\, 29602\, Spain
CATEGORIES:Concert,entertainment,Live Show,Music Events
ATTACH;FMTTYPE=image/jpeg:https://themarbelladirectory.com/wp-content/uploads/2026/03/0829_LoveOfLesbian_StarliteMarbella26_NLG.jpg
END:VEVENT
END:VCALENDAR