BEGIN:VCALENDAR
VERSION:2.0
PRODID:-//The Marbella Directory - ECPv6.15.18//NONSGML v1.0//EN
CALSCALE:GREGORIAN
METHOD:PUBLISH
X-WR-CALNAME:The Marbella Directory
X-ORIGINAL-URL:https://themarbelladirectory.com
X-WR-CALDESC:Events for The Marbella Directory
REFRESH-INTERVAL;VALUE=DURATION:PT1H
X-Robots-Tag:noindex
X-PUBLISHED-TTL:PT1H
BEGIN:VTIMEZONE
TZID:Europe/Madrid
BEGIN:DAYLIGHT
TZOFFSETFROM:+0100
TZOFFSETTO:+0200
TZNAME:CEST
DTSTART:20250330T010000
END:DAYLIGHT
BEGIN:STANDARD
TZOFFSETFROM:+0200
TZOFFSETTO:+0100
TZNAME:CET
DTSTART:20251026T010000
END:STANDARD
BEGIN:DAYLIGHT
TZOFFSETFROM:+0100
TZOFFSETTO:+0200
TZNAME:CEST
DTSTART:20260329T010000
END:DAYLIGHT
BEGIN:STANDARD
TZOFFSETFROM:+0200
TZOFFSETTO:+0100
TZNAME:CET
DTSTART:20261025T010000
END:STANDARD
BEGIN:DAYLIGHT
TZOFFSETFROM:+0100
TZOFFSETTO:+0200
TZNAME:CEST
DTSTART:20270328T010000
END:DAYLIGHT
BEGIN:STANDARD
TZOFFSETFROM:+0200
TZOFFSETTO:+0100
TZNAME:CET
DTSTART:20271031T010000
END:STANDARD
END:VTIMEZONE
BEGIN:VEVENT
DTSTART;TZID=Europe/Madrid:20261003T203000
DTEND;TZID=Europe/Madrid:20261003T233000
DTSTAMP:20260421T220523
CREATED:20260326T155811Z
LAST-MODIFIED:20260326T155811Z
UID:10002045-1791059400-1791070200@themarbelladirectory.com
SUMMARY:Robot Rock Alive Málaga 2026: Daft Punk Tribute Guide
DESCRIPTION:Experience the Magic of Daft Punk with Robot Rock Alive in Málaga\nThe legendary sounds of Daft Punk return to Málaga on Saturday\, October 3\, 2026. This incredible tribute event features the acclaimed duo Robot Rock Alive. Specifically\, the show takes place at the famous Sala Paris 15. The performance meticulously reproduces the iconic Alive 2007 world tour. Consequently\, fans will experience the legendary pyramid stage in a modern setting. This two-hour spectacle brings the most beloved dance floor hits to life with high energy and professional precision. \nA High-Tech Recreation of the Alive 2007 Tour\nRobot Rock Alive focuses on an extreme level of sonic detail. First\, the duo replicates the specific live sound of the original French duo. They use modern software and high-end hardware synthesizers to achieve this accuracy. Moreover\, a brand-new audiovisual show accompanies the music. This production utilizes cutting-edge technology to create a truly immersive environment. Therefore\, the audience can relive the magic of the robots as if it were the original tour. \nWitness the Spectacle at Sala Paris 15\nSala Paris 15 provides the perfect professional backdrop for this electronic journey. The venue is located in the San Luis industrial area of Málaga. It offers top-tier acoustics and a spacious dance floor for all attendees. Doors open at 20:30. The main performance begins at 21:30. Because this tribute show is highly popular across Spain\, tickets often sell out fast. Therefore\, you should book your entry in advance to secure your spot. Join the local community for an unforgettable night of electronic music history. \nEvent Schedule \n\nDate: Saturday\, October 3\, 2026\nDoors Open: 20:30 (8:30 PM)\nShow Starts: 21:30 (9:30 PM)\nVenue: Sala Paris 15\, Málaga\nDuration: Approximately 2 hours\nPrice: Advance tickets from 20.00 EUR (plus fees)
URL:https://themarbelladirectory.com/event/robot-rock-alive-daft-punk-tribute-malaga-2026/
LOCATION:Sala París 15\, Calle la Orotava\, 25\, 27\, 29006 Málaga\, Spain\, Málaga\, Málaga\, 29006\, Spain
CATEGORIES:entertainment,Live Show,Music Events,Nightlife
ATTACH;FMTTYPE=image/png:https://themarbelladirectory.com/wp-content/uploads/2026/03/IG-RRA-PARIS_MALAGA-768x960-1.png
ORGANIZER;CN="Orion Producciones S.L.":MAILTO:electronica@paris15.es
END:VEVENT
END:VCALENDAR