BEGIN:VCALENDAR
VERSION:2.0
PRODID:-//The Marbella Directory - ECPv6.15.18//NONSGML v1.0//EN
CALSCALE:GREGORIAN
METHOD:PUBLISH
X-ORIGINAL-URL:https://themarbelladirectory.com
X-WR-CALDESC:Events for The Marbella Directory
REFRESH-INTERVAL;VALUE=DURATION:PT1H
X-Robots-Tag:noindex
X-PUBLISHED-TTL:PT1H
BEGIN:VTIMEZONE
TZID:Europe/Madrid
BEGIN:DAYLIGHT
TZOFFSETFROM:+0100
TZOFFSETTO:+0200
TZNAME:CEST
DTSTART:20250330T010000
END:DAYLIGHT
BEGIN:STANDARD
TZOFFSETFROM:+0200
TZOFFSETTO:+0100
TZNAME:CET
DTSTART:20251026T010000
END:STANDARD
BEGIN:DAYLIGHT
TZOFFSETFROM:+0100
TZOFFSETTO:+0200
TZNAME:CEST
DTSTART:20260329T010000
END:DAYLIGHT
BEGIN:STANDARD
TZOFFSETFROM:+0200
TZOFFSETTO:+0100
TZNAME:CET
DTSTART:20261025T010000
END:STANDARD
BEGIN:DAYLIGHT
TZOFFSETFROM:+0100
TZOFFSETTO:+0200
TZNAME:CEST
DTSTART:20270328T010000
END:DAYLIGHT
BEGIN:STANDARD
TZOFFSETFROM:+0200
TZOFFSETTO:+0100
TZNAME:CET
DTSTART:20271031T010000
END:STANDARD
END:VTIMEZONE
BEGIN:VEVENT
DTSTART;TZID=Europe/Madrid:20260321T210000
DTEND;TZID=Europe/Madrid:20260321T230000
DTSTAMP:20260423T055218
CREATED:20260228T025915Z
LAST-MODIFIED:20260228T025915Z
UID:10001939-1774126800-1774134000@themarbelladirectory.com
SUMMARY:David Navarro Live in Málaga 2026
DESCRIPTION:David Navarro Brings “No Tengo Remedio” to Málaga\nThe renowned humorist David Navarro performs in Málaga on Saturday\, March 21\, 2026. He appears as a headlining act for the Perita Comedy Fest. This high-energy show\, titled No Tengo Remedio\, transforms the stage into a personal sanctuary. Specifically\, Navarro presents his most authentic and vulnerable self to the crowd. He guides the audience through a hilarious journey of manias and everyday frustrations. Consequently\, fans can expect a performance that perfectly captures his signature acidic wit. \nFrom Civil Service to Global Comedy Stages\nDavid Navarro successfully transitioned from a stable career in law to professional comedy. He is widely recognized for his regular appearances in Las Noches del Club de la Comedia. Furthermore\, he serves as the primary warm-up act for the show Ilustres Ignorantes. He also contributes frequently to the popular radio program A vivir que son dos días. Therefore\, his arrival in Málaga represents a rare opportunity to see an icon live. Indeed\, he stands as a leading figure in the world of Spanish humor today. \nExperience the Humor at FYCMA\nThe event takes place at FYCMA – Palacio de Ferias y Congresos de Málaga. This venue stands as a premier location for major cultural events in Andalusia. Located on Avenida Ortega y Gasset\, FYCMA provides a professional setting with modern facilities. Because this is a high-demand show\, you should secure your tickets early. Additionally\, the venue provides an ideal backdrop for large-scale stand-up productions. For more information on upcoming shows\, check our internal links to the 2026 comedy calendar. Finally\, please note that the laughter starts promptly at 21:00 (9:00 PM). \n\nEvent Schedule\n\nDate: Saturday\, March 21\, 2026\nTime: 21:00 (9:00 PM)\nVenue: FYCMA – Palacio de Ferias y Congresos de Málaga\nFestival: Perita Comedy Fest
URL:https://themarbelladirectory.com/event/david-navarro-live-in-malaga-2026/
LOCATION:Palacio de Ferias y Congresos de Málaga (FYCMA)\, Av. Ortega y Gasset\, 201\, Málaga\, Málaga\, 29006\, Spain
CATEGORIES:Activity,Comedy Show,entertainment,Live Performance,Live Show,Theater & Arts
ATTACH;FMTTYPE=image/jpeg:https://themarbelladirectory.com/wp-content/uploads/2026/02/perita-comedy-fest-david-navarro.jpg
END:VEVENT
END:VCALENDAR