BEGIN:VCALENDAR
VERSION:2.0
PRODID:-//The Marbella Directory - ECPv6.15.18//NONSGML v1.0//EN
CALSCALE:GREGORIAN
METHOD:PUBLISH
X-WR-CALNAME:The Marbella Directory
X-ORIGINAL-URL:https://themarbelladirectory.com
X-WR-CALDESC:Events for The Marbella Directory
REFRESH-INTERVAL;VALUE=DURATION:PT1H
X-Robots-Tag:noindex
X-PUBLISHED-TTL:PT1H
BEGIN:VTIMEZONE
TZID:Europe/Madrid
BEGIN:DAYLIGHT
TZOFFSETFROM:+0100
TZOFFSETTO:+0200
TZNAME:CEST
DTSTART:20250330T010000
END:DAYLIGHT
BEGIN:STANDARD
TZOFFSETFROM:+0200
TZOFFSETTO:+0100
TZNAME:CET
DTSTART:20251026T010000
END:STANDARD
BEGIN:DAYLIGHT
TZOFFSETFROM:+0100
TZOFFSETTO:+0200
TZNAME:CEST
DTSTART:20260329T010000
END:DAYLIGHT
BEGIN:STANDARD
TZOFFSETFROM:+0200
TZOFFSETTO:+0100
TZNAME:CET
DTSTART:20261025T010000
END:STANDARD
BEGIN:DAYLIGHT
TZOFFSETFROM:+0100
TZOFFSETTO:+0200
TZNAME:CEST
DTSTART:20270328T010000
END:DAYLIGHT
BEGIN:STANDARD
TZOFFSETFROM:+0200
TZOFFSETTO:+0100
TZNAME:CET
DTSTART:20271031T010000
END:STANDARD
END:VTIMEZONE
BEGIN:VEVENT
DTSTART;VALUE=DATE:20260708
DTEND;VALUE=DATE:20260711
DTSTAMP:20260421T173409
CREATED:20260305T055342Z
LAST-MODIFIED:20260305T055342Z
UID:10001962-1783468800-1783727999@themarbelladirectory.com
SUMMARY:Talent Land Spain 2026
DESCRIPTION:Talent Land Spain 2026: Accelerate Your Professional Future in Málaga\nThe third edition of Talent Land Spain arrives in Málaga from Wednesday\, July 8\, to Friday\, July 10\, 2026. As a premier event for professional development\, it serves as a massive meeting point for thousands of attendees\, international speakers\, and forward-thinking brands. The mission is simple yet powerful: creating a space where talent drives talent. For three intensive days\, participants will immerse themselves in an environment designed to spark curiosity and challenge the status quo through innovation and shared learning. \nA Hub for Innovation\, Creativity\, and Disruptive Minds\nTalent Land Spain 2026 brings together brilliant and disruptive minds to explore the frontiers of technology\, science\, and entrepreneurship. Unlike traditional conferences\, this event integrates themed areas\, competitions\, and interactive workshops into a single\, cohesive experience. Attendees can connect with start-ups\, leading universities\, and global institutions that are currently changing the world. Furthermore\, the program focuses on the human element of technology\, emphasizing that true progress is about people and professional connection. Consequently\, it provides the perfect setting to build a future alongside other passionate professionals. \nExperience the Event at FYCMA\nThe event takes place at FYCMA – Palacio de Ferias y Congresos de Málaga\, a state-of-the-art venue known for hosting world-class congresses. Located on Avenida Ortega y Gasset\, the center provides the modern infrastructure necessary for high-tech themed areas and large-scale networking. Because this is the third edition of a highly successful series\, early registration is encouraged to secure access to exclusive workshops and keynote sessions. Therefore\, join the global community in Málaga to witness the next generation of professional growth and innovation firsthand. \nEvent Schedule \n\nStart Date: Wednesday\, July 8\, 2026\nEnd Date: Friday\, July 10\, 2026\nVenue: FYCMA – Palacio de Ferias y Congresos de Málaga\nPrimary Focus: Technology\, Science\, Entrepreneurship\, and Creativity
URL:https://themarbelladirectory.com/event/talent-land-spain-malaga-professional-event-2026/
LOCATION:Palacio de Ferias y Congresos de Málaga (FYCMA)\, Av. Ortega y Gasset\, 201\, Málaga\, Málaga\, 29006\, Spain
CATEGORIES:Business,Business & Networking,Professional fairs
ATTACH;FMTTYPE=image/jpeg:https://themarbelladirectory.com/wp-content/uploads/2026/03/Talent-Land-2026-500x500-1.jpg
ORGANIZER;CN="Talent Network":MAILTO:info@talent-network.org
END:VEVENT
END:VCALENDAR