BEGIN:VCALENDAR
VERSION:2.0
PRODID:-//The Marbella Directory - ECPv6.15.18//NONSGML v1.0//EN
CALSCALE:GREGORIAN
METHOD:PUBLISH
X-ORIGINAL-URL:https://themarbelladirectory.com
X-WR-CALDESC:Events for The Marbella Directory
REFRESH-INTERVAL;VALUE=DURATION:PT1H
X-Robots-Tag:noindex
X-PUBLISHED-TTL:PT1H
BEGIN:VTIMEZONE
TZID:Europe/Madrid
BEGIN:DAYLIGHT
TZOFFSETFROM:+0100
TZOFFSETTO:+0200
TZNAME:CEST
DTSTART:20250330T010000
END:DAYLIGHT
BEGIN:STANDARD
TZOFFSETFROM:+0200
TZOFFSETTO:+0100
TZNAME:CET
DTSTART:20251026T010000
END:STANDARD
BEGIN:DAYLIGHT
TZOFFSETFROM:+0100
TZOFFSETTO:+0200
TZNAME:CEST
DTSTART:20260329T010000
END:DAYLIGHT
BEGIN:STANDARD
TZOFFSETFROM:+0200
TZOFFSETTO:+0100
TZNAME:CET
DTSTART:20261025T010000
END:STANDARD
BEGIN:DAYLIGHT
TZOFFSETFROM:+0100
TZOFFSETTO:+0200
TZNAME:CEST
DTSTART:20270328T010000
END:DAYLIGHT
BEGIN:STANDARD
TZOFFSETFROM:+0200
TZOFFSETTO:+0100
TZNAME:CET
DTSTART:20271031T010000
END:STANDARD
END:VTIMEZONE
BEGIN:VEVENT
DTSTART;TZID=Europe/Madrid:20260321T200000
DTEND;TZID=Europe/Madrid:20260321T233000
DTSTAMP:20260421T041234
CREATED:20260318T144018Z
LAST-MODIFIED:20260318T144018Z
UID:10002006-1774123200-1774135800@themarbelladirectory.com
SUMMARY:No soy yo... son mis hormonas Málaga 2026: Official Health Event Guide
DESCRIPTION:Explore Female Health at the “No soy yo… son mis hormonas” Event in Málaga\nThe insightful health event No soy yo… son mis hormonas arrives in Málaga on Saturday\, March 21\, 2026. This highly anticipated gathering at Auditorio AM serves as a profound journey into the complexities of female health. Specifically\, the program explores how hormones influence daily life and long-term well-being. For one evening only\, attendees will gain access to expert knowledge that is both enlightening and empowering. \nExpert Insights into the Menstrual Cycle and Well-being\nA team of specialized health experts leads this engaging session. They will unravel the mysteries of the menstrual cycle and various hormonal changes. Furthermore\, the talk focuses on the significant effects these shifts have on mood and overall mental health. Participants will receive practical tips to manage these natural transitions. Consequently\, the event provides actionable tools for improving daily physical and emotional health. \nA Holistic Approach to Modern Female Health\nThe event encourages a holistic perspective on health. This approach emphasizes the deep connection between the mind\, body\, and emotions. By understanding these links\, women can navigate health challenges with increased confidence and clarity. Therefore\, the program is ideal for anyone looking to reclaim their vitality and understand their biological rhythms. Join the community at Auditorio AM for an unforgettable night dedicated to empowerment and scientific clarity. \nEvent Schedule \n\nDate: Saturday\, March 21\, 2026\nTime: 20:00 – 23:59 (8:00 PM – Midnight)\nVenue: Auditorio AM\, Málaga\nFormat: Educational Talk and Health Workshop\nTicket Price: 31.50 EUR
URL:https://themarbelladirectory.com/event/no-soy-yo-son-mis-hormonas-malaga-2026/
LOCATION:Auditorio del Museo Automovilístico y de la Moda\, Avenida de Sor Teresa Prat\, 51\, 29003 Málaga\, Spain\, Málaga\, Málaga\, 29003\, Spain
CATEGORIES:Activity,Health & Wellness,Health and Medical
ATTACH;FMTTYPE=image/avif:https://themarbelladirectory.com/wp-content/uploads/2026/03/poster_QsCmWLW.avif
ORGANIZER;CN="TeVienes":MAILTO:tevienes.com@gmail.com
END:VEVENT
END:VCALENDAR