BEGIN:VCALENDAR
VERSION:2.0
PRODID:-//The Marbella Directory - ECPv6.15.18//NONSGML v1.0//EN
CALSCALE:GREGORIAN
METHOD:PUBLISH
X-ORIGINAL-URL:https://themarbelladirectory.com
X-WR-CALDESC:Events for The Marbella Directory
REFRESH-INTERVAL;VALUE=DURATION:PT1H
X-Robots-Tag:noindex
X-PUBLISHED-TTL:PT1H
BEGIN:VTIMEZONE
TZID:Europe/Madrid
BEGIN:DAYLIGHT
TZOFFSETFROM:+0100
TZOFFSETTO:+0200
TZNAME:CEST
DTSTART:20250330T010000
END:DAYLIGHT
BEGIN:STANDARD
TZOFFSETFROM:+0200
TZOFFSETTO:+0100
TZNAME:CET
DTSTART:20251026T010000
END:STANDARD
BEGIN:DAYLIGHT
TZOFFSETFROM:+0100
TZOFFSETTO:+0200
TZNAME:CEST
DTSTART:20260329T010000
END:DAYLIGHT
BEGIN:STANDARD
TZOFFSETFROM:+0200
TZOFFSETTO:+0100
TZNAME:CET
DTSTART:20261025T010000
END:STANDARD
BEGIN:DAYLIGHT
TZOFFSETFROM:+0100
TZOFFSETTO:+0200
TZNAME:CEST
DTSTART:20270328T010000
END:DAYLIGHT
BEGIN:STANDARD
TZOFFSETFROM:+0200
TZOFFSETTO:+0100
TZNAME:CET
DTSTART:20271031T010000
END:STANDARD
END:VTIMEZONE
BEGIN:VEVENT
DTSTART;TZID=Europe/Madrid:20260703T220000
DTEND;TZID=Europe/Madrid:20260703T233000
DTSTAMP:20260420T025832
CREATED:20260109T043024Z
LAST-MODIFIED:20260109T043024Z
UID:10001825-1783116000-1783121400@themarbelladirectory.com
SUMMARY:Pablo López Live: El Niño del Espacio Homecoming Tour 2026
DESCRIPTION:Experience the Pablo López Fuengirola 2026 Concert\nThe legendary Spanish artist Pablo López returns to his roots for a historic performance. Specifically\, he will headline the Pablo López Fuengirola 2026 concert on Friday\, July 3\, at the iconic Marenostrum Fuengirola. This highly anticipated event marks the eleventh season of the venue and promises to be an emotional highlight of the summer. \nA Historic Homecoming: El Niño del Espacio López chose the Escenario Unicaja for this special homecoming tour. Importantly\, this performance celebrates his latest discographic work\, “El Niño del Espacio”. For the first time\, he will perform as a headliner on the main stage of the city that saw him grow up. Consequently\, fans can expect a deeply personal setlist featuring his signature piano virtuosity. \nVibrant Live Energy Under the Stars The Pablo López Fuengirola 2026 concert offers an intimate seated experience. Set against the Mediterranean Sea and the historic Sohail Castle\, the venue provides a unique atmosphere. Furthermore\, the show will blend his legendary classics with the new anthems from his upcoming album. Because of his powerful stage presence\, every attendee will experience a night of pure adrenaline and raw emotion. \nEvent Times and Tickets \n\nDoors Open: Arrive early at 8:00 PM (20:00h) to enjoy the coastal views.\nShow Starts: The main performance begins promptly at 10:00 PM (22:00h).\nTicket Prices: Seats start from €55\, which includes all management fees and VAT.\nOfficial Booking: Purchase your tickets through authorized platforms to secure your spot.
URL:https://themarbelladirectory.com/event/pablo-lopez-live-el-nino-del-espacio-homecoming-tour-2026/
LOCATION:Marenostrum Fuengirola – Escenario Unicaja\, Calle Tartesios s/n (Sohail Castle Hillside)\, Fuengirola\, Málaga\, 29640\, Spain
CATEGORIES:Concert,entertainment,Live Performance,Live Show,Music Events
ATTACH;FMTTYPE=image/jpeg:https://themarbelladirectory.com/wp-content/uploads/2026/01/PLFEED.jpg
END:VEVENT
END:VCALENDAR