BEGIN:VCALENDAR
VERSION:2.0
PRODID:-//The Marbella Directory - ECPv6.15.18//NONSGML v1.0//EN
CALSCALE:GREGORIAN
METHOD:PUBLISH
X-WR-CALNAME:The Marbella Directory
X-ORIGINAL-URL:https://themarbelladirectory.com
X-WR-CALDESC:Events for The Marbella Directory
REFRESH-INTERVAL;VALUE=DURATION:PT1H
X-Robots-Tag:noindex
X-PUBLISHED-TTL:PT1H
BEGIN:VTIMEZONE
TZID:Europe/Madrid
BEGIN:DAYLIGHT
TZOFFSETFROM:+0100
TZOFFSETTO:+0200
TZNAME:CEST
DTSTART:20250330T010000
END:DAYLIGHT
BEGIN:STANDARD
TZOFFSETFROM:+0200
TZOFFSETTO:+0100
TZNAME:CET
DTSTART:20251026T010000
END:STANDARD
BEGIN:DAYLIGHT
TZOFFSETFROM:+0100
TZOFFSETTO:+0200
TZNAME:CEST
DTSTART:20260329T010000
END:DAYLIGHT
BEGIN:STANDARD
TZOFFSETFROM:+0200
TZOFFSETTO:+0100
TZNAME:CET
DTSTART:20261025T010000
END:STANDARD
BEGIN:DAYLIGHT
TZOFFSETFROM:+0100
TZOFFSETTO:+0200
TZNAME:CEST
DTSTART:20270328T010000
END:DAYLIGHT
BEGIN:STANDARD
TZOFFSETFROM:+0200
TZOFFSETTO:+0100
TZNAME:CET
DTSTART:20271031T010000
END:STANDARD
END:VTIMEZONE
BEGIN:VEVENT
DTSTART;TZID=Europe/Madrid:20260704T220000
DTEND;TZID=Europe/Madrid:20260704T233000
DTSTAMP:20260419T201701
CREATED:20260109T041840Z
LAST-MODIFIED:20260109T041840Z
UID:10001824-1783202400-1783207800@themarbelladirectory.com
SUMMARY:Dani Fernández Live at Marenostrum Fuengirola 2026
DESCRIPTION:Dani Fernández: La Insurrección Tour at Marenostrum Fuengirola 2026\nThe legendary Spanish pop-rock star Dani Fernández will bring his La Insurrección Tour to Marenostrum Fuengirola. This event is a major highlight of his first-ever large-scale venue tour. Mark your calendars for Saturday\, July 4\, 2026\, for a night filled with intense musical energy. Fans will gather at the exclusive Escenario Unicaja to witness his raw vocal power in person. Furthermore\, this live show perfectly balances high rock energy with the intimate sensitivity found in his personal lyrics. \nA Breathtaking Summer Experience at Sohail Castle\nThe concert takes place within the historic and beautiful Sohail Castle grounds. This Property of Cultural Interest dates back to Phoenician times\, offering an unparalleled setting for live music. Consequently\, attendees will enjoy a unique atmosphere under the stars with the Mediterranean Sea as a stunning backdrop. \nDuring the Dani Fernández: La Insurrección Tour\, you will have the chance to hear massive hits alongside new anthems. His latest projects\, such as the album La Jauría and singles like “No dejaré de abrazarte\,” explore themes of identity in our modern digital age. Importantly\, this tour marks a historic milestone in the artist’s career. It cements his place as a leading figure in the modern Spanish music scene. \nEvent Times and Ticket Information for Dani Fernández\nThe main show begins at 10:00 PM (22:00h)\, giving you plenty of time to enjoy the beachside views beforehand. Additionally\, tickets for the Unicaja Stage offer standing access with clear views of the grandstand. Prices for this high-demand event start from €49.50\, which includes all management fees and VAT. \nFinally\, ensure you buy your tickets through official platforms to secure your spot for the summer. This seasonal venue pairs Mediterranean views with smart production\, including crisp sound and lighting that plays off the castle walls. Don’t miss this opportunity to see Dani Fernández: La Insurrección Tour live in one of Spain’s most singular venues.
URL:https://themarbelladirectory.com/event/dani-fernandez-live-at-marenostrum-fuengirola-2026/
LOCATION:Marenostrum Fuengirola – Escenario Unicaja\, Calle Tartesios s/n (Sohail Castle Hillside)\, Fuengirola\, Málaga\, 29640\, Spain
CATEGORIES:Concert,Live Performance,Live Show,Music Events
ATTACH;FMTTYPE=image/jpeg:https://themarbelladirectory.com/wp-content/uploads/2026/01/DaniF1080x1350.jpg
END:VEVENT
END:VCALENDAR