BEGIN:VCALENDAR
VERSION:2.0
PRODID:-//The Marbella Directory - ECPv6.15.18//NONSGML v1.0//EN
CALSCALE:GREGORIAN
METHOD:PUBLISH
X-WR-CALNAME:The Marbella Directory
X-ORIGINAL-URL:https://themarbelladirectory.com
X-WR-CALDESC:Events for The Marbella Directory
REFRESH-INTERVAL;VALUE=DURATION:PT1H
X-Robots-Tag:noindex
X-PUBLISHED-TTL:PT1H
BEGIN:VTIMEZONE
TZID:Europe/Madrid
BEGIN:DAYLIGHT
TZOFFSETFROM:+0100
TZOFFSETTO:+0200
TZNAME:CEST
DTSTART:20250330T010000
END:DAYLIGHT
BEGIN:STANDARD
TZOFFSETFROM:+0200
TZOFFSETTO:+0100
TZNAME:CET
DTSTART:20251026T010000
END:STANDARD
BEGIN:DAYLIGHT
TZOFFSETFROM:+0100
TZOFFSETTO:+0200
TZNAME:CEST
DTSTART:20260329T010000
END:DAYLIGHT
BEGIN:STANDARD
TZOFFSETFROM:+0200
TZOFFSETTO:+0100
TZNAME:CET
DTSTART:20261025T010000
END:STANDARD
BEGIN:DAYLIGHT
TZOFFSETFROM:+0100
TZOFFSETTO:+0200
TZNAME:CEST
DTSTART:20270328T010000
END:DAYLIGHT
BEGIN:STANDARD
TZOFFSETFROM:+0200
TZOFFSETTO:+0100
TZNAME:CET
DTSTART:20271031T010000
END:STANDARD
END:VTIMEZONE
BEGIN:VEVENT
DTSTART;TZID=Europe/Madrid:20261003T203000
DTEND;TZID=Europe/Madrid:20261003T233000
DTSTAMP:20260422T223657
CREATED:20260326T155811Z
LAST-MODIFIED:20260326T155811Z
UID:10002045-1791059400-1791070200@themarbelladirectory.com
SUMMARY:Robot Rock Alive Málaga 2026: Daft Punk Tribute Guide
DESCRIPTION:Experience the Magic of Daft Punk with Robot Rock Alive in Málaga\nThe legendary sounds of Daft Punk return to Málaga on Saturday\, October 3\, 2026. This incredible tribute event features the acclaimed duo Robot Rock Alive. Specifically\, the show takes place at the famous Sala Paris 15. The performance meticulously reproduces the iconic Alive 2007 world tour. Consequently\, fans will experience the legendary pyramid stage in a modern setting. This two-hour spectacle brings the most beloved dance floor hits to life with high energy and professional precision. \nA High-Tech Recreation of the Alive 2007 Tour\nRobot Rock Alive focuses on an extreme level of sonic detail. First\, the duo replicates the specific live sound of the original French duo. They use modern software and high-end hardware synthesizers to achieve this accuracy. Moreover\, a brand-new audiovisual show accompanies the music. This production utilizes cutting-edge technology to create a truly immersive environment. Therefore\, the audience can relive the magic of the robots as if it were the original tour. \nWitness the Spectacle at Sala Paris 15\nSala Paris 15 provides the perfect professional backdrop for this electronic journey. The venue is located in the San Luis industrial area of Málaga. It offers top-tier acoustics and a spacious dance floor for all attendees. Doors open at 20:30. The main performance begins at 21:30. Because this tribute show is highly popular across Spain\, tickets often sell out fast. Therefore\, you should book your entry in advance to secure your spot. Join the local community for an unforgettable night of electronic music history. \nEvent Schedule \n\nDate: Saturday\, October 3\, 2026\nDoors Open: 20:30 (8:30 PM)\nShow Starts: 21:30 (9:30 PM)\nVenue: Sala Paris 15\, Málaga\nDuration: Approximately 2 hours\nPrice: Advance tickets from 20.00 EUR (plus fees)
URL:https://themarbelladirectory.com/event/robot-rock-alive-daft-punk-tribute-malaga-2026/
LOCATION:Sala París 15\, Calle la Orotava\, 25\, 27\, 29006 Málaga\, Spain\, Málaga\, Málaga\, 29006\, Spain
CATEGORIES:entertainment,Live Show,Music Events,Nightlife
ATTACH;FMTTYPE=image/png:https://themarbelladirectory.com/wp-content/uploads/2026/03/IG-RRA-PARIS_MALAGA-768x960-1.png
ORGANIZER;CN="Orion Producciones S.L.":MAILTO:electronica@paris15.es
END:VEVENT
BEGIN:VEVENT
DTSTART;TZID=Europe/Madrid:20261004T200000
DTEND;TZID=Europe/Madrid:20261004T233000
DTSTAMP:20260422T223657
CREATED:20260329T042054Z
LAST-MODIFIED:20260329T042054Z
UID:10002047-1791144000-1791156600@themarbelladirectory.com
SUMMARY:Valeria Lynch Live in Málaga 2026: Official Concert Guide
DESCRIPTION:Experience the Magic of Valeria Lynch Live in Málaga\nThe legendary Argentine singer Valeria Lynch visits Málaga on Sunday\, October 4\, 2026. This performance occurs at the iconic Sala Paris 15. Specifically\, the show is a highlight of her 2026 tour across Spain. Lynch is one of the most influential voices in the Latin pop world. For one night only\, she will perform her greatest hits in an intimate setting. Consequently\, fans can expect a night filled with passion and powerful ballads. \nLynch has enjoyed a massive career in both music and acting. Moreover\, she is famous for her incredible vocal range and stage presence. This concert provides a unique opportunity for fans on the Costa del Sol. Because she rarely tours Europe\, demand for tickets is expected to be high. Therefore\, you should secure your entry early to avoid missing out. Join the audience for a celebration of musical history and emotion. \nDoors open at 20:00 for the event. The main show begins promptly at 21:00. Sala Paris 15 offers professional sound quality and a vibrant atmosphere. Located in the San Luis industrial area\, the venue is easily accessible for everyone. Furthermore\, the local community anticipates a sold-out night for this Argentine superstar. Do not miss this chance to witness a true legend live on stage. \nEvent Schedule \n\nDate: Sunday\, October 4\, 2026\nDoors Open: 20:00 (8:00 PM)\nConcert Starts: 21:00 (9:00 PM)\nVenue: Sala Paris 15\, Málaga\nPrice: Advance tickets from 40.00 EUR (plus fees)\n\nTicket Purchase Link\nOfficial advance tickets for “Valeria Lynch en Málaga” are available starting from 40.00 EUR through the authorized portal: https://conciertosya.com/Valeria-Lynch-en-Malaga
URL:https://themarbelladirectory.com/event/valeria-lynch-malaga-sala-paris-15-2026/
LOCATION:Sala París 15\, Calle la Orotava\, 25\, 27\, 29006 Málaga\, Spain\, Málaga\, Málaga\, 29006\, Spain
CATEGORIES:Concert,entertainment,Live Show,Music Events
ATTACH;FMTTYPE=image/jpeg:https://themarbelladirectory.com/wp-content/uploads/2026/03/WhatsApp-Image-2026-02-24-at-11.43.07.jpeg
ORGANIZER;CN="ConciertosYa":MAILTO:alejandro@chainsaw.es
END:VEVENT
BEGIN:VEVENT
DTSTART;TZID=Europe/Madrid:20261018T190000
DTEND;TZID=Europe/Madrid:20261018T233000
DTSTAMP:20260422T223657
CREATED:20260326T161126Z
LAST-MODIFIED:20260326T161126Z
UID:10002046-1792350000-1792366200@themarbelladirectory.com
SUMMARY:Leoni Torres Live in Málaga 2026: Official Concert Guide
DESCRIPTION:Experience the Magic of Leoni Torres Live in Málaga\nThe legendary Cuban artist Leoni Torres returns to Málaga on Sunday\, October 18\, 2026. This highly anticipated performance takes place at the famous Sala Paris 15. Specifically\, the show is a key stop on his 2026 national tour of Spain. Torres is celebrated as one of Cuba’s most successful singers and producers. For one night only\, fans can witness his unique blend of tropical rhythms and romantic ballads. \nA Master of Modern Cuban Music\nLeoni Torres is famous for his incredible vocal range and charismatic stage presence. First\, he built a massive following as a solo artist with hits like Me Quedo Contigo. Moreover\, he has collaborated with global icons such as Gente de Zona and Pablo Milanés. His music fuses traditional Cuban sounds with modern pop sensibilities. Consequently\, his live shows offer an emotional journey that captures the heart of Havana. This concert provides a rare chance to see a multi-award-winning musician in an intimate setting. \nWitness the Performance at Sala Paris 15\nThe event is held at Sala Paris 15\, a premier destination for live music in Southern Spain. Located in the San Luis industrial area\, the venue offers a professional sound system. Doors will open at 19:00\, allowing the audience to settle in early. The main concert begins promptly at 20:00. Because Leoni Torres attracts a dedicated global audience\, tickets are expected to sell quickly. Therefore\, you should secure your entry in advance. Join the local community for an unforgettable night of Latin music and culture. \nEvent Schedule \n\nDate: Sunday\, October 18\, 2026\nDoors Open: 19:00 (7:00 PM)\nConcert Starts: 20:00 (8:00 PM)\nVenue: Sala Paris 15\, Málaga\nPrice: Advance tickets from 45.00 EUR
URL:https://themarbelladirectory.com/event/leoni-torres-live-in-malaga-2026-official-concert-guide/
LOCATION:Sala París 15\, Calle la Orotava\, 25\, 27\, 29006 Málaga\, Spain\, Málaga\, Málaga\, 29006\, Spain
CATEGORIES:Concert,entertainment,Live Show,Music Events,Nightlife
ATTACH;FMTTYPE=image/jpeg:https://themarbelladirectory.com/wp-content/uploads/2026/03/CONCIERTO-Leoni-Torres-en-Malaga-18-octubre-2026-768x979-1.jpg
ORGANIZER;CN="Innova Producciones y Eventos S.L.":MAILTO:booking@innovaeventos.es
END:VEVENT
BEGIN:VEVENT
DTSTART;TZID=Europe/Madrid:20261021T193000
DTEND;TZID=Europe/Madrid:20261021T233000
DTSTAMP:20260422T223657
CREATED:20260329T042355Z
LAST-MODIFIED:20260329T042355Z
UID:10002048-1792611000-1792625400@themarbelladirectory.com
SUMMARY:Argentine Rock Legends in Málaga: Las Pelotas and Cruzando el Charco
DESCRIPTION:Experience a Historic Night of Argentine Rock in Málaga\nThe heart of Argentine rock arrives in Málaga on Wednesday\, October 21\, 2026. This highly anticipated event features a double-bill of two iconic bands: Las Pelotas and Cruzando el Charco. Specifically\, this tour marks a historic meeting of musical generations at the legendary Sala Paris 15. For one night only\, the venue will transform into a vibrant celebration of culture\, memories\, and raw rock energy. This performance is a must-see for all fans of the South American rock movement. \nA Meeting of Generations and Genres\nLas Pelotas brings decades of heritage to the stage. As one of the most respected bands in Argentina\, they emerged from the legendary group Sumo. Their sound blends rock\, reggae\, and emotional depth. Furthermore\, Cruzando el Charco represents the powerful present of the genre. They are famous for mixing rock with pop and sensitive storytelling. Consequently\, this tour bridges the gap between classic anthems and modern hits. Fans can expect a high-energy atmosphere that honors the past while celebrating the future. \nWitness the Spectacle at Sala Paris 15\nSala Paris 15 provides the ultimate professional setting for this large-scale production. Located in the San Luis industrial area\, the venue is known for its excellent sound quality and electric atmosphere. Doors open promptly at 19:00\, allowing the audience to settle in before the music starts at 20:00. Because this double-bill is a rare event in Europe\, demand for tickets is exceptionally high. Therefore\, you should secure your entry in advance to be part of this unforgettable night. Join the community in Málaga for a true celebration of Argentine rock. \nEvent Schedule \n\nDate: Wednesday\, October 21\, 2026\nDoors Open: 19:00 (7:00 PM)\nConcert Starts: 20:00 (8:00 PM)\nVenue: Sala Paris 15\, Málaga\nArtists: Las Pelotas and Cruzando el Charco\nPrice: Advance tickets from 30.00 EUR (plus fees)\n\nTicket Purchase Link\nOfficial advance tickets for “Las Pelotas and Cruzando el Charco in Málaga” are available starting from 30.00 EUR through the authorized portal: https://conciertosya.com/Las-Pelotas-y-Cruzando-el-Charco-en-Malaga/
URL:https://themarbelladirectory.com/event/las-pelotas-cruzando-el-charco-malaga-2026/
LOCATION:Sala París 15\, Calle la Orotava\, 25\, 27\, 29006 Málaga\, Spain\, Málaga\, Málaga\, 29006\, Spain
CATEGORIES:Concert,entertainment,Live Show,Nightlife
ATTACH;FMTTYPE=image/jpeg:https://themarbelladirectory.com/wp-content/uploads/2026/03/MALmAGA.jpg
ORGANIZER;CN="ConciertosYa":MAILTO:alejandro@chainsaw.es
END:VEVENT
END:VCALENDAR