BEGIN:VCALENDAR
VERSION:2.0
PRODID:-//The Marbella Directory - ECPv6.15.18//NONSGML v1.0//EN
CALSCALE:GREGORIAN
METHOD:PUBLISH
X-WR-CALNAME:The Marbella Directory
X-ORIGINAL-URL:https://themarbelladirectory.com
X-WR-CALDESC:Events for The Marbella Directory
REFRESH-INTERVAL;VALUE=DURATION:PT1H
X-Robots-Tag:noindex
X-PUBLISHED-TTL:PT1H
BEGIN:VTIMEZONE
TZID:Europe/Madrid
BEGIN:DAYLIGHT
TZOFFSETFROM:+0100
TZOFFSETTO:+0200
TZNAME:CEST
DTSTART:20250330T010000
END:DAYLIGHT
BEGIN:STANDARD
TZOFFSETFROM:+0200
TZOFFSETTO:+0100
TZNAME:CET
DTSTART:20251026T010000
END:STANDARD
BEGIN:DAYLIGHT
TZOFFSETFROM:+0100
TZOFFSETTO:+0200
TZNAME:CEST
DTSTART:20260329T010000
END:DAYLIGHT
BEGIN:STANDARD
TZOFFSETFROM:+0200
TZOFFSETTO:+0100
TZNAME:CET
DTSTART:20261025T010000
END:STANDARD
BEGIN:DAYLIGHT
TZOFFSETFROM:+0100
TZOFFSETTO:+0200
TZNAME:CEST
DTSTART:20270328T010000
END:DAYLIGHT
BEGIN:STANDARD
TZOFFSETFROM:+0200
TZOFFSETTO:+0100
TZNAME:CET
DTSTART:20271031T010000
END:STANDARD
END:VTIMEZONE
BEGIN:VEVENT
DTSTART;VALUE=DATE:20260608
DTEND;VALUE=DATE:20260615
DTSTAMP:20260426T050725
CREATED:20251204T032521Z
LAST-MODIFIED:20251204T032521Z
UID:10001387-1780876800-1781481599@themarbelladirectory.com
SUMMARY:Feria de San Bernabé 2026
DESCRIPTION:Feria de San Bernabé 2026: Marbella’s Biggest Traditional Festival\nGet ready for the most vibrant week of festivities! The Feria de San Bernabé (Marbella Feria) 2026 will take place from June 08 to 14\, 2026. This event honors the city’s patron saint. Therefore\, it is Marbella’s biggest festival. It attracts visitors from all over to experience authentic Andalusian culture. \nThe Ayuntamiento de Marbella (City Council) organizes the festival. Specifically\, the Festival divides into two main areas\, and each one offers a distinct atmosphere: \n\nFeria de Día (Day Fair): This area takes place at Alameda Park and Avenida del Mar in the city center. Visitors enjoy Flamenco\, cuisine\, and the traditional festive atmosphere here.\nFeria de Noche (Night Fair): In addition to this\, the Recinto Ferial de Marbella hosts the Night Fair. Here\, you will find thrilling rides\, live music\, casetas (festival tents)\, and large concerts.\n\nTicket & Cost Information: Generally speaking\, most activities at the Day Fair and the street performances are free. However\, special events\, for example popular concerts or traditional bullfights (corrida)\, require ticket purchase. \nCheck the official city portal for the most detailed program updates! \nEvent Details: \n\nOrganizer: Ayuntamiento de Marbella\nLocation: Recinto Ferial\, Alameda Park & Avenida del Mar\, Marbella\, Spain\nTime: June 08 – 14\, 2026
URL:https://themarbelladirectory.com/event/feria-de-san-bernabe-2026/
LOCATION:Marbella Feria Grounds\, Recinto Ferial\, Alameda Park & Avenida del Mar\, Marbella\, Málaga\, 29601\, Spain
CATEGORIES:Activity,entertainment,Festival,Music Events,Public Fair
ATTACH;FMTTYPE=image/jpeg:https://themarbelladirectory.com/wp-content/uploads/2025/12/marbella-fair-malaga-us.jpg
ORGANIZER;CN="Ayuntamiento de Marbella":MAILTO:fiestas@marbella.es
END:VEVENT
END:VCALENDAR