BEGIN:VCALENDAR
VERSION:2.0
PRODID:-//The Marbella Directory - ECPv6.15.18//NONSGML v1.0//EN
CALSCALE:GREGORIAN
METHOD:PUBLISH
X-WR-CALNAME:The Marbella Directory
X-ORIGINAL-URL:https://themarbelladirectory.com
X-WR-CALDESC:Events for The Marbella Directory
REFRESH-INTERVAL;VALUE=DURATION:PT1H
X-Robots-Tag:noindex
X-PUBLISHED-TTL:PT1H
BEGIN:VTIMEZONE
TZID:Europe/Madrid
BEGIN:DAYLIGHT
TZOFFSETFROM:+0100
TZOFFSETTO:+0200
TZNAME:CEST
DTSTART:20250330T010000
END:DAYLIGHT
BEGIN:STANDARD
TZOFFSETFROM:+0200
TZOFFSETTO:+0100
TZNAME:CET
DTSTART:20251026T010000
END:STANDARD
BEGIN:DAYLIGHT
TZOFFSETFROM:+0100
TZOFFSETTO:+0200
TZNAME:CEST
DTSTART:20260329T010000
END:DAYLIGHT
BEGIN:STANDARD
TZOFFSETFROM:+0200
TZOFFSETTO:+0100
TZNAME:CET
DTSTART:20261025T010000
END:STANDARD
BEGIN:DAYLIGHT
TZOFFSETFROM:+0100
TZOFFSETTO:+0200
TZNAME:CEST
DTSTART:20270328T010000
END:DAYLIGHT
BEGIN:STANDARD
TZOFFSETFROM:+0200
TZOFFSETTO:+0100
TZNAME:CET
DTSTART:20271031T010000
END:STANDARD
END:VTIMEZONE
BEGIN:VEVENT
DTSTART;TZID=Europe/Madrid:20260207T200000
DTEND;TZID=Europe/Madrid:20260207T233000
DTSTAMP:20260422T202308
CREATED:20260128T075301Z
LAST-MODIFIED:20260128T075301Z
UID:10001902-1770494400-1770507000@themarbelladirectory.com
SUMMARY:Morgan "Hotel Tour" 2026: Live Rock & Soul in Málaga
DESCRIPTION:Morgan Returns to Málaga: The “Hotel Tour” 2026\nThe acclaimed Madrid-based band Morgan performs in Málaga on Saturday\, February 7\, 2026. Known for their sophisticated blend of rock\, soul\, and American roots\, the group brings their highly anticipated “Hotel Tour” to the iconic Sala París 15. This performance marks the local debut of their fourth studio album\, “HOTEL MORGAN\,” promising a night of emotional intensity and powerful live energy. \nA Decade of Rock and Soul Mastery\nSince their formation in 2012\, Morgan has established themselves as one of the most respected independent acts in Spain. Led by the unmistakable voice of Carolina de Juan (Nina)\, the band has spent over a decade touring the national territory. They have successfully evolved from early projects like “North” and “Air” into their current cinematic sound. Their concerts are celebrated for creating a unique space where each melody transforms. Consequently\, they connect deeply with the audience through raw talent and authentic musicality. \nMálaga’s Premier Underground Atmosphere\nThe performance takes place at Sala París 15\, a professional venue celebrated for exceptional acoustics and a vibrant atmosphere. As a landmark stop on their national tour\, this Málaga show offers fans an intimate yet powerful experience with one of Spain’s leading bands. Furthermore\, demand for this performance is extremely high. Therefore\, securing your entry early is highly recommended to avoid disappointment. \nEvent Schedule \n\nDate: Saturday\, February 7\, 2026\nDoors Open: 20:00 (8:00 PM)\nConcert Starts: 21:00 (9:00 PM)\nVenue: Sala París 15\, Málaga
URL:https://themarbelladirectory.com/event/morgan-hotel-tour-malaga-2026/
LOCATION:Sala París 15\, Calle la Orotava\, 25\, 27\, 29006 Málaga\, Spain\, Málaga\, Málaga\, 29006\, Spain
CATEGORIES:Concert,entertainment,Live Performance,Live Show,Music Events
ATTACH;FMTTYPE=image/jpeg:https://themarbelladirectory.com/wp-content/uploads/2026/01/WhatsApp-Image-2025-06-30-at-12.26.14.jpeg
ORGANIZER;CN="MORGAN":MAILTO:contratacion@culturarock.net
END:VEVENT
END:VCALENDAR