BEGIN:VCALENDAR
VERSION:2.0
PRODID:-//The Marbella Directory - ECPv6.15.18//NONSGML v1.0//EN
CALSCALE:GREGORIAN
METHOD:PUBLISH
X-ORIGINAL-URL:https://themarbelladirectory.com
X-WR-CALDESC:Events for The Marbella Directory
REFRESH-INTERVAL;VALUE=DURATION:PT1H
X-Robots-Tag:noindex
X-PUBLISHED-TTL:PT1H
BEGIN:VTIMEZONE
TZID:Europe/Madrid
BEGIN:DAYLIGHT
TZOFFSETFROM:+0100
TZOFFSETTO:+0200
TZNAME:CEST
DTSTART:20250330T010000
END:DAYLIGHT
BEGIN:STANDARD
TZOFFSETFROM:+0200
TZOFFSETTO:+0100
TZNAME:CET
DTSTART:20251026T010000
END:STANDARD
BEGIN:DAYLIGHT
TZOFFSETFROM:+0100
TZOFFSETTO:+0200
TZNAME:CEST
DTSTART:20260329T010000
END:DAYLIGHT
BEGIN:STANDARD
TZOFFSETFROM:+0200
TZOFFSETTO:+0100
TZNAME:CET
DTSTART:20261025T010000
END:STANDARD
BEGIN:DAYLIGHT
TZOFFSETFROM:+0100
TZOFFSETTO:+0200
TZNAME:CEST
DTSTART:20270328T010000
END:DAYLIGHT
BEGIN:STANDARD
TZOFFSETFROM:+0200
TZOFFSETTO:+0100
TZNAME:CET
DTSTART:20271031T010000
END:STANDARD
END:VTIMEZONE
BEGIN:VEVENT
DTSTART;TZID=Europe/Madrid:20260425T190000
DTEND;TZID=Europe/Madrid:20260602T000000
DTSTAMP:20260420T190418
CREATED:20260414T132049Z
LAST-MODIFIED:20260414T132049Z
UID:10002200-1777143600-1780358400@themarbelladirectory.com
SUMMARY:Tardeo Kick Party 2026: Live DJ and Giveaways in Málaga
DESCRIPTION:Experience the Ultimate Saturday Vibes at Tardeo Kick Party\nFirstly\, the Tardeo Kick Party is set to take over Málaga on Saturday\, April 25\, 2026. This is not just a standard afternoon gathering. Instead\, it is a high-energy celebration located at the popular Kaxondeo Pub. The event begins in the early evening and continues until midnight. Consequently\, it offers the perfect transition from a relaxed afternoon to a vibrant night out in the city center. \nFurthermore\, a live DJ will provide the perfect soundtrack for the entire session. The atmosphere remains unmatched\, drawing in locals and visitors who are eager to have a great time. Whether you come to dance or simply to enjoy the top-tier ambiance\, you will find exactly what you need. Therefore\, you can expect an evening filled with great music and shared laughter. \nAdditionally\, the event features exciting raffles and surprise gift packs throughout the night. These giveaways add an extra layer of anticipation and fun to the party. The organizers have prepared stories and experiences that are definitely better lived than told. Whether you bring your friends or arrive solo to meet new people\, this is the place to be. \nIn conclusion\, do not miss this chance to create unforgettable memories in the heart of Málaga. Because entry to this event is completely free\, you should arrive early to secure your spot among the crowd. Join the community at Kaxondeo Pub for a Saturday night that promises excitement and high energy. We look forward to seeing you there for the best party of the month. \nEvent Schedule and Venue Information \n\nDate: Saturday\, April 25\, 2026\nTime: 19:00 to 00:00 (7:00 PM – Midnight)\nVenue: Kaxondeo Pub\nLocation: Málaga\, Spain\nAdmission: Free Entry
URL:https://themarbelladirectory.com/event/tardeo-kick-party-2026-live-dj-and-giveaways-in-malaga/
LOCATION:Kaxondeo Pub\, Calle Beatas\, 37\, Distrito Centro\, 29008 Málaga\, Spain\, Málaga\, Málaga\, 29008\, Spain
CATEGORIES:Activity,entertainment,Live Performance,Nightlife
ATTACH;FMTTYPE=image/avif:https://themarbelladirectory.com/wp-content/uploads/2026/04/poster_pnEVEoT.avif
END:VEVENT
BEGIN:VEVENT
DTSTART;TZID=Europe/Madrid:20260507T210000
DTEND;TZID=Europe/Madrid:20260507T233000
DTSTAMP:20260420T190418
CREATED:20260121T035616Z
LAST-MODIFIED:20260121T035616Z
UID:10001867-1778187600-1778196600@themarbelladirectory.com
SUMMARY:YNESTROSA & CYBERNENE
DESCRIPTION:Ynestrosa & Cybernene: Urban Powerhouses Live in Málaga\nMálaga is ready to host an explosive night of urban music. The dynamic duo Ynestrosa & Cybernene will take over the stage at the legendary Sala París 15. As prominent members of the groundbreaking Disobey Society collective\, these artists have redefined the underground scene. They bring raw energy and innovative sounds to every performance. On Thursday\, May 7\, 2026\, the duo will perform as part of their highly anticipated Spanish tour. This concert promises a high-octane experience for all fans of rap and urban genres. \nThe Rise of the Disobey Collective\nThe collective Disobey is famous for its collaborative spirit. Specifically\, they have exerted a significant influence on the new wave of Spanish urban music. Having previously visited Sala París 15\, the group now returns with a renewed setlist and even more power. Consequently\, fans can expect an immersive performance that highlights technical mastery. The unique flair of Cybernene perfectly complements the skill of Ynestrosa. Furthermore\, a loyal community of listeners follows their meteoric rise. \nA Major Cultural Milestone for 2026\nThis event represents a major milestone in Málaga’s 2026 cultural calendar. It offers a professional production in one of the city’s most respected concert venues. Whether you are a dedicated follower of the Disobey crew or a newcomer\, this night will be legendary. It is set to be one of the summer’s most talked-about urban music events. Therefore\, you should act quickly to secure your spot at this landmark performance. \nEvent Schedule \n\nDate: Thursday\, May 7\, 2026\nDoors Open: 21:30 (9:30 PM)\nPerformance Starts: 22:00 (10:00 PM)\nVenue: Sala París 15\, Málaga
URL:https://themarbelladirectory.com/event/ynestrosa-cybernene-live-malaga-2026/
LOCATION:Sala París 15\, Calle la Orotava\, 25\, 27\, 29006 Málaga\, Spain\, Málaga\, Málaga\, 29006\, Spain
CATEGORIES:Activity,Concert,entertainment,Live Performance,Live Show,Music Events
ATTACH;FMTTYPE=image/jpeg:https://themarbelladirectory.com/wp-content/uploads/2026/01/CYBERNENE.jpg
END:VEVENT
END:VCALENDAR