BEGIN:VCALENDAR
VERSION:2.0
PRODID:-//The Marbella Directory - ECPv6.15.18//NONSGML v1.0//EN
CALSCALE:GREGORIAN
METHOD:PUBLISH
X-WR-CALNAME:The Marbella Directory
X-ORIGINAL-URL:https://themarbelladirectory.com
X-WR-CALDESC:Events for The Marbella Directory
REFRESH-INTERVAL;VALUE=DURATION:PT1H
X-Robots-Tag:noindex
X-PUBLISHED-TTL:PT1H
BEGIN:VTIMEZONE
TZID:Europe/Madrid
BEGIN:DAYLIGHT
TZOFFSETFROM:+0100
TZOFFSETTO:+0200
TZNAME:CEST
DTSTART:20250330T010000
END:DAYLIGHT
BEGIN:STANDARD
TZOFFSETFROM:+0200
TZOFFSETTO:+0100
TZNAME:CET
DTSTART:20251026T010000
END:STANDARD
BEGIN:DAYLIGHT
TZOFFSETFROM:+0100
TZOFFSETTO:+0200
TZNAME:CEST
DTSTART:20260329T010000
END:DAYLIGHT
BEGIN:STANDARD
TZOFFSETFROM:+0200
TZOFFSETTO:+0100
TZNAME:CET
DTSTART:20261025T010000
END:STANDARD
BEGIN:DAYLIGHT
TZOFFSETFROM:+0100
TZOFFSETTO:+0200
TZNAME:CEST
DTSTART:20270328T010000
END:DAYLIGHT
BEGIN:STANDARD
TZOFFSETFROM:+0200
TZOFFSETTO:+0100
TZNAME:CET
DTSTART:20271031T010000
END:STANDARD
END:VTIMEZONE
BEGIN:VEVENT
DTSTART;VALUE=DATE:20260404
DTEND;VALUE=DATE:20260629
DTSTAMP:20260421T053118
CREATED:20260330T033255Z
LAST-MODIFIED:20260330T033255Z
UID:10002081-1775260800-1782691199@themarbelladirectory.com
SUMMARY:Candlelight: Queen and The Beatles Tribute in Malaga 2026
DESCRIPTION:⭐ Candlelight brings the magic of a live musical experience to incredible locations in Málaga. Get your tickets for this Candlelight: Tribute to Queen & The Beatles! \nGeneral Info\n📍 Venue: Salón Real del Gran Hotel Miramar\, Málaga\n📅 Dates and times: select your dates/times directly in the ticket selector\n⏳ Duration: 60 minutes (doors open 45 minutes before\, no admission after the start)\n👤 Age requirement: from 8 years old. Children under the age of 16 must be accompanied by an adult\n♿ Accessibility: the venue is wheelchair accessible\n🪑 Seats are assigned upon arrival according to the type of ticket you have purchased\n🕯️ If you would like to book a private concert or purchase tickets for a large group (+30 people)\, click here\n🎻 Check all Candlelight concerts in Málaga\n🎁 Get a gift card for your friends and family here \nProgram \n\nHere Comes the Sun – The Beatles\nLet It Be – The Beatles\nHelp! – The Beatles\nCome Together – The Beatles\nYesterday – The Beatles\nAll You Need Is Love – The Beatles\nLove of My Life – Queen\nAnother One Bites the Dust – Queen\nI Want to Break Free – Queen\nWe Are the Champions – Queen\nWe Will Rock You – Queen\nRadio Ga-Ga – Queen\nBohemian Rhapsody – Queen\n\nPerformers\n\nMarch 15: String Quartet – Spinto Quartet\nMarch 21: String Quartet – Origin Quartet\nApril 4 and 12 – String Quartet – Résonance Ensemble\nMay 9: String Quartet – Melissando Quartet
URL:https://themarbelladirectory.com/event/candlelight-queen-and-the-beatles-tribute-in-malaga-2026/
LOCATION:Salón Real (Royal Hall) of the Gran Hotel Miramar\, Paseo Reding\, 22\, 24\, Málaga\, Málaga\, 29016
CATEGORIES:entertainment,Live Show,Music Events
ATTACH;FMTTYPE=image/jpeg:https://themarbelladirectory.com/wp-content/uploads/2026/03/B82176A6CDE92F478C9E3F3A6559B29E98877714.jpg
END:VEVENT
BEGIN:VEVENT
DTSTART;TZID=Europe/Madrid:20260614T200000
DTEND;TZID=Europe/Madrid:20260614T233000
DTSTAMP:20260421T053118
CREATED:20260325T043240Z
LAST-MODIFIED:20260325T043240Z
UID:10002041-1781467200-1781479800@themarbelladirectory.com
SUMMARY:Edén Muñoz Málaga 2026: Official Concert Guide
DESCRIPTION:Experience the Magic of Edén Muñoz Live in Málaga\nThe legendary Mexican singer Edén Muñoz arrives in Málaga on Sunday\, June 14\, 2026. This highly anticipated performance takes place at the iconic Sala Paris 15. Specifically\, the show is a major highlight of his national tour titled Como en los viejos tiempos. As one of the most influential figures in modern Regional Mexican music\, Muñoz is making his debut in the city. For one night only\, fans can experience a powerful and intimate live set that blends traditional roots with contemporary pop sensibilities. \nA Global Icon of Regional Mexican Music\nEdén Muñoz is celebrated for his unique ability to combine raw emotion with modern production. His career is marked by massive success both as a solo artist and a world-class songwriter. Furthermore\, he has composed chart-topping hits for legends like Alejandro Fernández and collaborated with renowned acts such as Maná and Diego Torres. With multiple gold and platinum certifications\, his current tour reflects his peak international projection. Fans can expect to hear his most famous anthems\, including the viral hit Chale and tracks from his latest project\, Eden Vol. II. \nWitness a Landmark Performance at Sala Paris 15\nSala Paris 15 provides the ultimate professional setting for this large-scale production. Located in the San Luis industrial district\, the venue is famous for its high-fidelity sound system and high-energy atmosphere. Early Entry ticket holders can access the venue at 19:30\, while general doors open at 20:00. The main performance will begin promptly at 21:00. Because this is his first appearance in the region\, demand is exceptionally high. Therefore\, joining the local community for this historic evening is highly recommended for all fans of authentic Mexican music. \nEvent Schedule \n\nDate: Sunday\, June 14\, 2026\nEarly Entry Access: 19:30 (7:30 PM)\nGeneral Doors Open: 20:00 (8:00 PM)\nConcert Starts: 21:00 (9:00 PM)\nVenue: Sala Paris 15\, Málaga\nPrice: Advance tickets from 42.70 EUR (plus fees)
URL:https://themarbelladirectory.com/event/eden-munoz-malaga-2026-official-concert-guide/
LOCATION:Sala París 15\, Calle la Orotava\, 25\, 27\, 29006 Málaga\, Spain\, Málaga\, Málaga\, 29006\, Spain
CATEGORIES:Concert,entertainment,Live Show,Music Events,Nightlife
ATTACH;FMTTYPE=image/jpeg:https://themarbelladirectory.com/wp-content/uploads/2026/03/EdenMunoz_Gira_Malaga_1080x1440.jpg
ORGANIZER;CN="Orion Producciones S.L.":MAILTO:electronica@paris15.es
END:VEVENT
BEGIN:VEVENT
DTSTART;TZID=Europe/Madrid:20260614T213000
DTEND;TZID=Europe/Madrid:20260614T230000
DTSTAMP:20260421T053118
CREATED:20260109T052728Z
LAST-MODIFIED:20260109T052728Z
UID:10001830-1781472600-1781478000@themarbelladirectory.com
SUMMARY:La Cochera Comedy Sohail: 2026 Schedule
DESCRIPTION:La Cochera Comedy Sohail: 2026 Schedule\nThe festival kicks off on June 7 with the unmistakable and often surreal humor of Ignatius. Following him on June 14\, Salva Reina presents his new show\, “Prohibido echarle cacahuetes al mono\,” blending daily extreme situations with direct audience interaction. On June 21\, Manu Sánchez brings his ironic life vision in the show “Entregamos”. The cycle concludes on June 28 with El Monaguillo and his show “Efectiviwonder\,” a hilarious look at generational contrasts and childhood memories. \nEach performance takes place in a seated format at the historic Sohail Castle grounds. Doors open at 8:30 PM\, and the main show starts at 9:30 PM. Tickets start from €27.50\, which includes management fees and VAT. Ensure you secure your tickets through the official online platform.
URL:https://themarbelladirectory.com/event/la-cochera-comedy-sohail-marenostrum-fuengirola-2026/2026-06-14/
LOCATION:Marenostrum Fuengirola – Escenario Fundación Unicaja\, Paseo Marítimo Rey de España
CATEGORIES:entertainment,Live Performance,Live Show,Music Events,Theater & Arts
ATTACH;FMTTYPE=image/jpeg:https://themarbelladirectory.com/wp-content/uploads/2026/01/lacochera1920.jpeg
ORGANIZER;CN="La Cochera Cabaret":MAILTO:info@lacocheracabaret.com
END:VEVENT
END:VCALENDAR