BEGIN:VCALENDAR
VERSION:2.0
PRODID:-//The Marbella Directory - ECPv6.15.18//NONSGML v1.0//EN
CALSCALE:GREGORIAN
METHOD:PUBLISH
X-ORIGINAL-URL:https://themarbelladirectory.com
X-WR-CALDESC:Events for The Marbella Directory
REFRESH-INTERVAL;VALUE=DURATION:PT1H
X-Robots-Tag:noindex
X-PUBLISHED-TTL:PT1H
BEGIN:VTIMEZONE
TZID:Europe/Madrid
BEGIN:DAYLIGHT
TZOFFSETFROM:+0100
TZOFFSETTO:+0200
TZNAME:CEST
DTSTART:20250330T010000
END:DAYLIGHT
BEGIN:STANDARD
TZOFFSETFROM:+0200
TZOFFSETTO:+0100
TZNAME:CET
DTSTART:20251026T010000
END:STANDARD
BEGIN:DAYLIGHT
TZOFFSETFROM:+0100
TZOFFSETTO:+0200
TZNAME:CEST
DTSTART:20260329T010000
END:DAYLIGHT
BEGIN:STANDARD
TZOFFSETFROM:+0200
TZOFFSETTO:+0100
TZNAME:CET
DTSTART:20261025T010000
END:STANDARD
BEGIN:DAYLIGHT
TZOFFSETFROM:+0100
TZOFFSETTO:+0200
TZNAME:CEST
DTSTART:20270328T010000
END:DAYLIGHT
BEGIN:STANDARD
TZOFFSETFROM:+0200
TZOFFSETTO:+0100
TZNAME:CET
DTSTART:20271031T010000
END:STANDARD
END:VTIMEZONE
BEGIN:VEVENT
DTSTART;VALUE=DATE:20260703
DTEND;VALUE=DATE:20260810
DTSTAMP:20260425T194501
CREATED:20251223T041316Z
LAST-MODIFIED:20251223T041316Z
UID:10001518-1783036800-1786319999@themarbelladirectory.com
SUMMARY:The Phantom of the Opera
DESCRIPTION:The Phantom of the Opera: A Legendary Musical Spectacle in Málaga\nPrepare to be swept away by one of the most iconic stories in theatrical history. This summer\, Teatro Cervantes transforms into a world of mystery and romance as it hosts the Spanish-language tour of The Phantom of the Opera. Following two seasons of overwhelming success in Madrid with over 300\,000 spectators\, this milestone production arrives in Málaga for a strictly limited engagement. \nA Timeless Masterpiece of Love and Mystery\nInspired by Gaston Leroux’s 1910 novel\, this captivating story explores the depths of love\, jealousy\, and obsession. Set in the bowels of the Opéra Populaire in Paris\, the narrative follows Erik\, a musical genius hidden behind a mask\, and his fixation on the talented young soprano Christine Daaé. Furthermore\, the production features a 14-piece live orchestra\, bringing Andrew Lloyd Webber’s legendary score to life with unparalleled power. \nAn Unforgettable “Holiday Menu” of Musical Anthems\nThink of this performance as a grand “holiday menu” for the soul\, serving up the greatest anthems of the genre. Consequently\, audiences will experience stunning live renditions of world-famous songs\, including: \n\n“The Music of the Night” (La música de la noche).\n“All I Ask of You”.\n“Wishing You Were Somehow Here Again”.\n“Masquerade” (Carnaval).\n\nA Milestone Production\nAs the longest-running musical on Broadway\, The Phantom of the Opera has captivated 160 million spectators across 193 cities worldwide. Under the direction of Federico Bellone\, this Spanish adaptation maintains the grandeur that has earned the show over 70 theater awards. In short\, this is an unmissable cultural event for residents and visitors in Málaga this summer. \nEVENT COST: \n\nZone A: €75.\nZone B: €56.\nZone C: €40.\nZone D: €22.\nLaunch Discount: 20% off for sessions on Friday\, July 3rd\, and all Wednesdays and Thursdays.\n\nTIME & DATE: \n\nRun Dates: July 3 to August 9\, 2026.\nPerformance Schedule:\nWednesday and Thursday: 9:00 PM.\nFriday\, Saturday\, Sunday: 5:00 PM and 9:00 PM (except July 3rd at 9:00 PM only).\nDuration: 2 hours and 30 minutes\nSale Starts: December 4\, 2025.
URL:https://themarbelladirectory.com/event/phantom-of-the-opera-teatro-cervantes-malaga-2026/
LOCATION:Teatro Cervantes\, Calle Ramos Marín\, s/n\, Málaga\, Málaga\, 29012
CATEGORIES:entertainment,Live Performance,Live Show,Theater & Arts
ATTACH;FMTTYPE=image/png:https://themarbelladirectory.com/wp-content/uploads/2025/12/4c83fe65cb6853ac7ba8e9b4371587fb.png
ORGANIZER;CN="LestGo Entertainment.":MAILTO:info@letsgocompany.com
END:VEVENT
BEGIN:VEVENT
DTSTART;TZID=Europe/Madrid:20260709T190000
DTEND;TZID=Europe/Madrid:20260709T220000
DTSTAMP:20260425T194502
CREATED:20251204T035333Z
LAST-MODIFIED:20251204T035333Z
UID:10001390-1783623600-1783634400@themarbelladirectory.com
SUMMARY:Starlite Festival 2026: Deep Purple
DESCRIPTION:Starlite Festival 2026: Deep Purple Brings Hard Rock to Marbella\nOn Thursday\, July 9th\, 2026\, the famous hard rock band Deep Purple will perform for the first time at Starlite. This British band has helped define the hard rock genre\, while progressively venturing into new areas to keep their sound fresh. \nWith over 100 million albums sold\, a huge fan base around the world\, and a career spanning seven decades on stage\, Deep Purple’s influence is undeniable. \nSpecifically\, audiences will be able to enjoy some of the band’s greatest hits live on Thursday\, July 9th. For example\, prepare for legendary tracks like “Smoke on the Water\,” “Highway Star\,” and “Hush”. \nThe event is Ticketed and takes place at the spectacular Nagüeles Quarry in Marbella\, organized by the Starlite Festival. \n\nVenue: Nagüeles Quarry\, Marbella\, Spain\nDate: July 9\, 2026\n\nDon’t miss the chance to see rock legends perform live under the stars!
URL:https://themarbelladirectory.com/event/starlite-festival-2026-deep-purple/
LOCATION:Nagüeles Quarry\, Cantera de Nagüeles\, Ctra. de Istán\, s/n\, Marbella\, Málaga\, 29602
CATEGORIES:Concert,entertainment,Festival,Live Show,Music Events
ATTACH;FMTTYPE=image/webp:https://themarbelladirectory.com/wp-content/uploads/2025/12/Deep-Purple-2024-960x540.jpg.webp
END:VEVENT
BEGIN:VEVENT
DTSTART;TZID=Europe/Madrid:20260709T200000
DTEND;TZID=Europe/Madrid:20260709T220000
DTSTAMP:20260425T194502
CREATED:20260119T025834Z
LAST-MODIFIED:20260119T031943Z
UID:10001860-1783627200-1783634400@themarbelladirectory.com
SUMMARY:FAITHLESS
DESCRIPTION:Electronic Pioneers Faithless Return to Marbella Arena\nThe legendary electronic band Faithless is set to perform a high-impact live show at the Marbella Arena on Thursday\, July 9\, 2026. This highly anticipated concert celebrates the group’s genre-defining legacy and serves as a powerful tribute to the late Maxi Jazz\, whose spirit remains at the heart of their performance. \nFaithless has achieved remarkable success throughout a career spanning over 25 years. For example\, they have secured 10 UK Top 10 singles and six UK Top 5 albums. Furthermore\, their catalog features era-defining anthems such as “Insomnia\,” “God Is a DJ\,” and “We Come 1”. These tracks have collectively earned billions of streams worldwide and helped shape the DNA of global club culture. \nThe upcoming show in Marbella promises to bring the same intensity that once soundtracked a generation. Because the band has revitalized their stage presence with renewed energy\, fans can expect an unforgettable experience. Additionally\, the performance will feature tracks from their critically acclaimed eighth studio album\, Champion Sound. \nAttendees can look forward to a full night of top-tier entertainment with support from BL3SS. The event will be hosted at Marbella’s premier open-air venue\, transforming the historic bullring into a world-class concert space. Most importantly\, the event runs until 1:00 AM\, ensuring a long night of dance and celebration. \nIn conclusion\, this landmark performance is a must-see for electronic music lovers. Therefore\, you should act quickly to secure your spot at one of the summer’s biggest events. \nEvent Details \n\nDate: Thursday\, July 9\, 2026.\nTime: Doors open at 20:00 (8:00 PM).\nShow Ends: Approximately 01:00 AM.\nVenue: Marbella Arena\, Puerto Banús.\nAge Restriction: Access is prohibited for those under 16. Minors aged 16–17 must be accompanied by an adult.
URL:https://themarbelladirectory.com/event/faithless-live-marbella-arena-july-2026/
LOCATION:Marbella Arena\, C. Pilar\, 3\, Marbella\, Málaga\, 29660\, Spain
CATEGORIES:Activity,Concert,entertainment,Live Performance,Live Show,Music Events,Nightlife
ATTACH;FMTTYPE=image/png:https://themarbelladirectory.com/wp-content/uploads/2026/01/Faithless-2026-Cover-LR-800x449-1.png
ORGANIZER;CN="Beat Producciones y Eventos SL":MAILTO:hola@beateventos.es
END:VEVENT
END:VCALENDAR