BEGIN:VCALENDAR
VERSION:2.0
PRODID:-//The Marbella Directory - ECPv6.15.18//NONSGML v1.0//EN
CALSCALE:GREGORIAN
METHOD:PUBLISH
X-WR-CALNAME:The Marbella Directory
X-ORIGINAL-URL:https://themarbelladirectory.com
X-WR-CALDESC:Events for The Marbella Directory
REFRESH-INTERVAL;VALUE=DURATION:PT1H
X-Robots-Tag:noindex
X-PUBLISHED-TTL:PT1H
BEGIN:VTIMEZONE
TZID:Europe/Madrid
BEGIN:DAYLIGHT
TZOFFSETFROM:+0100
TZOFFSETTO:+0200
TZNAME:CEST
DTSTART:20250330T010000
END:DAYLIGHT
BEGIN:STANDARD
TZOFFSETFROM:+0200
TZOFFSETTO:+0100
TZNAME:CET
DTSTART:20251026T010000
END:STANDARD
BEGIN:DAYLIGHT
TZOFFSETFROM:+0100
TZOFFSETTO:+0200
TZNAME:CEST
DTSTART:20260329T010000
END:DAYLIGHT
BEGIN:STANDARD
TZOFFSETFROM:+0200
TZOFFSETTO:+0100
TZNAME:CET
DTSTART:20261025T010000
END:STANDARD
BEGIN:DAYLIGHT
TZOFFSETFROM:+0100
TZOFFSETTO:+0200
TZNAME:CEST
DTSTART:20270328T010000
END:DAYLIGHT
BEGIN:STANDARD
TZOFFSETFROM:+0200
TZOFFSETTO:+0100
TZNAME:CET
DTSTART:20271031T010000
END:STANDARD
END:VTIMEZONE
BEGIN:VEVENT
DTSTART;TZID=Europe/Madrid:20260730T200000
DTEND;TZID=Europe/Madrid:20260730T233000
DTSTAMP:20260423T163220
CREATED:20260329T082051Z
LAST-MODIFIED:20260329T082051Z
UID:10002066-1785441600-1785454200@themarbelladirectory.com
SUMMARY:Manuel Turizo Live at Starlite Marbella 2026: Official Guide
DESCRIPTION:Experience the Energy of Manuel Turizo Live in Marbella\nThe Colombian global sensation Manuel Turizo arrives in Marbella on Thursday\, July 30\, 2026. This highly anticipated performance takes place at the prestigious Starlite Occident festival. Specifically\, the artist will perform in the Auditorio\, an open-air venue carved into the stunning Nagüeles quarry. Since his breakthrough in 2016\, Turizo has become a fundamental pillar of contemporary urban pop. For one night only\, the quarry will transform into the epicenter of Latin rhythm and celebration. \nA Global Leader in Urban Pop\nManuel Turizo is famous for his unmistakable deep voice and his ability to blend diverse genres. His debut album\, ADN\, introduced the world to the massive hit Una Lady Como Tú. Later\, works like Dopamina and 2000 solidified his artistic evolution. His hit La Bachata marked a turning point in his career by dominating international charts and surpassing billions of streams. Consequently\, he has conquered markets across Latin America\, Europe\, and the United States\, proving his versatility and staying power. \nA Night of Massive Hits and Collaboration\nAttendees at Starlite Occident can expect a vibrant setlist featuring his most iconic anthems. The night will include legendary tracks such as Culpables\, El Merengue\, and De 100 a 0. Furthermore\, Turizo is known for his successful collaborations with stars like Maluma\, Nicky Jam\, and TINI. Because the Auditorio stage offers a boutique atmosphere with world-class acoustics\, fans enjoy a rare level of proximity to the artist. This setting perfectly complements the charisma and immediate connection that Turizo brings to his live shows. \nVenue and Access Information\nStarlite Occident is located in the Cantera de Nagüeles\, a historic quarry in Marbella that creates a premium festival experience. Doors for the event will open at 20:00\, providing ample time for guests to enjoy the premium amenities before the music begins. The main performance starts promptly at 22:00. Please note the venue policy regarding younger guests. Specifically\, individuals under 18 years of age must exit the premises immediately after the concert concludes. We recommend arriving early to fully experience the magic of this Mediterranean summer night. \nEvent Schedule \n\nDate: Thursday\, July 30\, 2026\nDoors Open: 20:00 (8:00 PM)\nConcert Starts: 22:00 (10:00 PM)\nVenue: Auditorio\, Starlite Occident\, Marbella\nAge Policy: Under 18s must exit after the performance\n\nTicket Purchase Link\nOfficial advance tickets for “Manuel Turizo at Starlite Occident 2026” can be purchased through the authorized festival portal: https://starlitefestival.com/eventoconcierto/manuel-turizo/
URL:https://themarbelladirectory.com/event/manuel-turizo-live-at-starlite-marbella-2026-official-guide/
LOCATION:Starlite Occident\, Calle Albinoni s/n\, Cantera de Nagüeles\, Marbella\, Málaga\, 29602\, Spain
CATEGORIES:Concert,entertainment,Live Show,Music Events,Nightlife
ATTACH;FMTTYPE=image/jpeg:https://themarbelladirectory.com/wp-content/uploads/2026/03/0730_Manuel_Turizo_StarliteMarbella26_NLG.jpg
END:VEVENT
END:VCALENDAR