BEGIN:VCALENDAR
VERSION:2.0
PRODID:-//The Marbella Directory - ECPv6.15.18//NONSGML v1.0//EN
CALSCALE:GREGORIAN
METHOD:PUBLISH
X-WR-CALNAME:The Marbella Directory
X-ORIGINAL-URL:https://themarbelladirectory.com
X-WR-CALDESC:Events for The Marbella Directory
REFRESH-INTERVAL;VALUE=DURATION:PT1H
X-Robots-Tag:noindex
X-PUBLISHED-TTL:PT1H
BEGIN:VTIMEZONE
TZID:Europe/Madrid
BEGIN:DAYLIGHT
TZOFFSETFROM:+0100
TZOFFSETTO:+0200
TZNAME:CEST
DTSTART:20250330T010000
END:DAYLIGHT
BEGIN:STANDARD
TZOFFSETFROM:+0200
TZOFFSETTO:+0100
TZNAME:CET
DTSTART:20251026T010000
END:STANDARD
BEGIN:DAYLIGHT
TZOFFSETFROM:+0100
TZOFFSETTO:+0200
TZNAME:CEST
DTSTART:20260329T010000
END:DAYLIGHT
BEGIN:STANDARD
TZOFFSETFROM:+0200
TZOFFSETTO:+0100
TZNAME:CET
DTSTART:20261025T010000
END:STANDARD
BEGIN:DAYLIGHT
TZOFFSETFROM:+0100
TZOFFSETTO:+0200
TZNAME:CEST
DTSTART:20270328T010000
END:DAYLIGHT
BEGIN:STANDARD
TZOFFSETFROM:+0200
TZOFFSETTO:+0100
TZNAME:CET
DTSTART:20271031T010000
END:STANDARD
END:VTIMEZONE
BEGIN:VEVENT
DTSTART;TZID=Europe/Madrid:20260206T210000
DTEND;TZID=Europe/Madrid:20260206T210000
DTSTAMP:20260424T164216
CREATED:20260128T073847Z
LAST-MODIFIED:20260128T074316Z
UID:10001901-1770411600-1770411600@themarbelladirectory.com
SUMMARY:Brit Festival by Neon Collective in Málaga
DESCRIPTION:Experience the Energy of British Rock at the Brit Festival\nPrepare for a legendary night as Neon Collective presents the Brit Festival in Málaga. This high-energy show spans over two hours\, dedicated to the most iconic British bands that have shaped music history. The night begins with a specialized atmosphere-setting session by Karl Sound DJ\, delivering the best British rhythms starting from doors open. \nTwo Sets of Unforgettable Anthems\nThe performance is professionally divided into two distinct sets to ensure a comprehensive journey through Britpop and rock. \n\nFirst Set: A selection of timeless hits from legends like Blur\, Arctic Monkeys\, Radiohead\, David Bowie\, The Smiths\, Franz Ferdinand\, and Coldplay.\nSecond Set: A massive tribute to Oasis\, the band that revolutionized the scene with their unmistakable attitude and era-defining tracks.\n\nEvent Schedule\nSpecifically\, the event will take place on Friday\, February 6\, 2026. \n\nDoors Open & DJ Session: 21:00h (9:00 PM)\nConcert Start: 22:00h (10:00 PM)\nEstimated End: 00:30h (Saturday morning)\nVenue: Sala París 15\, Málaga
URL:https://themarbelladirectory.com/event/neon-collective-brit-festival-malaga-2026/
LOCATION:Sala París 15\, Calle la Orotava\, 25\, 27\, 29006 Málaga\, Spain\, Málaga\, Málaga\, 29006\, Spain
CATEGORIES:Activity,Concert,entertainment,Festival,Live Performance,Live Show,Music Events,Nightlife
ATTACH;FMTTYPE=image/jpeg:https://themarbelladirectory.com/wp-content/uploads/2026/01/Oasis-001.jpg
ORGANIZER;CN="27 Ladridos SLU":MAILTO:info@27ladridos.com
END:VEVENT
END:VCALENDAR