BEGIN:VCALENDAR
VERSION:2.0
PRODID:-//The Marbella Directory - ECPv6.15.18//NONSGML v1.0//EN
CALSCALE:GREGORIAN
METHOD:PUBLISH
X-WR-CALNAME:The Marbella Directory
X-ORIGINAL-URL:https://themarbelladirectory.com
X-WR-CALDESC:Events for The Marbella Directory
REFRESH-INTERVAL;VALUE=DURATION:PT1H
X-Robots-Tag:noindex
X-PUBLISHED-TTL:PT1H
BEGIN:VTIMEZONE
TZID:Europe/Madrid
BEGIN:DAYLIGHT
TZOFFSETFROM:+0100
TZOFFSETTO:+0200
TZNAME:CEST
DTSTART:20250330T010000
END:DAYLIGHT
BEGIN:STANDARD
TZOFFSETFROM:+0200
TZOFFSETTO:+0100
TZNAME:CET
DTSTART:20251026T010000
END:STANDARD
BEGIN:DAYLIGHT
TZOFFSETFROM:+0100
TZOFFSETTO:+0200
TZNAME:CEST
DTSTART:20260329T010000
END:DAYLIGHT
BEGIN:STANDARD
TZOFFSETFROM:+0200
TZOFFSETTO:+0100
TZNAME:CET
DTSTART:20261025T010000
END:STANDARD
BEGIN:DAYLIGHT
TZOFFSETFROM:+0100
TZOFFSETTO:+0200
TZNAME:CEST
DTSTART:20270328T010000
END:DAYLIGHT
BEGIN:STANDARD
TZOFFSETFROM:+0200
TZOFFSETTO:+0100
TZNAME:CET
DTSTART:20271031T010000
END:STANDARD
END:VTIMEZONE
BEGIN:VEVENT
DTSTART;TZID=Europe/Madrid:20260301T110000
DTEND;TZID=Europe/Madrid:20260301T130000
DTSTAMP:20260423T055213
CREATED:20260301T154557Z
LAST-MODIFIED:20260301T154557Z
UID:10001949-1772362800-1772370000@themarbelladirectory.com
SUMMARY:Dadá Sensory Puppet Theatre 2026: Official Málaga Family Guide
DESCRIPTION:Dadá Sensory Puppet Theatre Brings Imagination to Málaga\nThe innovative children’s production Dadá performs in Málaga on Sunday\, March 1\, 2026. This highly anticipated event at Teatro Echegaray offers a colorful and sensory experience specifically designed for young audiences. Specifically\, the show serves as a playful journey where art\, play\, and creativity merge through the use of puppets and clowning. As a production by Bambalina Teatre Practicable\, it invites families to explore a world where reality is interpreted in endless\, complementary ways. \nA Modern Tribute to Artistic Icons\nDadá draws its creative inspiration from the life and work of legendary artists Joan Miró\, Yayoi Kusama\, and Jeff Koons. The performance uses shapes\, colors\, music\, and mime to awaken the curiosity of children from four years old and up. Furthermore\, the show highlights the value of creativity in personal growth by encouraging children to be active participants in a shared creative process. Consequently\, the 50-minute production provides an emotional and visual experience that transforms how young viewers understand the world around them. \nExperience the Magic at Teatro Echegaray\nThe venue\, Teatro Echegaray\, provides an intimate and historic setting perfect for this contemporary puppet dramaturgy. Located in the cultural heart of Málaga\, the theater is renowned for its high-quality programming for children and families. Because this is a high-demand performance focused on early childhood education through art\, securing your admission in advance is highly recommended. Therefore\, join the crowd for a morning that celebrates artistic expression and imagination in its purest form. \nEvent Schedule \n\nDate: Sunday\, March 1\, 2026\nTime: 11:00 – 13:00 (The performance lasts 50 minutes)\nVenue: Teatro Echegaray\, Málaga\nTarget Audience: Children from 4 years old\nTicket Price: 8.00 EUR
URL:https://themarbelladirectory.com/event/dada-sensory-puppet-theatre-malaga-2026/
LOCATION:Teatro Echegaray\, Calle Echegaray\, 6\, Málaga\, Málaga\, 29015\, Spain
CATEGORIES:Art,entertainment,Family & Kids,Live Performance,Live Show
ATTACH;FMTTYPE=image/avif:https://themarbelladirectory.com/wp-content/uploads/2026/03/poster_XhWYqjg.avif
ORGANIZER;CN="Bambalina %E2%80%93 Teatre Practicable":MAILTO:info@bambalina.es
END:VEVENT
END:VCALENDAR